Workbook

Sheet PLAN. ORÇAM.
N1: CÁLCULO DO BDI
H2: =SUM(H11:H381) -> 6829747.5 | N2: BDI (%) = 25 - (CD – 1.500.000) 29.700.000
D3: Universidade Estadual do Norte do Paraná - UENP | J3: ORÇAMENTO | N3: =H2 -> 6829747.5
D4: Decreto Estadual n.º3909, Publicado no Diario Oficial do Estado do Paraná em 01/12/08 - CNPJ 08.885.100/0001-54 | J4: Obra: Construção: BLOCO DE SALAS | K4: SALAS | N4: 2400000
D5: Campus Cornélio Procópio - C.Procópios/PR | J5: Local: UENP-Campus Cornélio Procópio | K5: CCP | N5: =SUM(N3:N4) -> 9229747.5
N6: =25-(H2-1500000)/29700000 -> 24.82
J7: Data:30/10/2017 | L7: =SUM(J11:J381) -> 8850000
D8: PLANILHA ORÇAMENTÁRIA | G8: ÁREA | H8: 6197.4 | J8: R$ TOT. c/BDI | K8: =SUM(J10:J381) -> 8850000 | L8: =SUM(K11:K381) -> 8850000 | N8: =25-(H2-1500000)/29700000 -> 24.82
J9: BDI = | K9: =N8/100 -> 0.2482 | O9: =7500000-K8 -> -1350000
B10: COD. | C10: ITEM | D10: DESCRIÇÃO DOS SERVIÇOS | E10: UNID | F10: QUANT. | G10: MAT+MO | H10: R$ UNIT. (s/BDI) | I10: R$ UNIT. c/BDI | J10: R$ TOT. c/BDI | K10: TOTAL ITEM c/BDI
C11: 1 | D11: SERVIÇOS PRELIMINARES | K11: =SUM(J12:J33) -> 442819.04 | L11: =SUM(J12:J33) -> 442819.04 | N11: BDI (%) = 25 - (CD – 1.500.000) 29.700.000
B12: 93208 | C12: 1.1 | D12: EXECUÇÃO DE ALMOXARIFADO EM CANTEIRO DE OBRA EM CHAPA DE MADEIRA COMPENSADA, INCLUSO PRATELEIRAS. AF_02/2016 | E12: m² | F12: 30 | G12: 475.84 | H12: =G12*F12 -> 14275.2 | I12: =G12*(1+$K$9) -> 593.94 | J12: =I12*F12 -> 17818.2
B13: 93212 | C13: 1.1.1 | D13: EXECUÇÃO DE SANITÁRIO E VESTIÁRIO EM CANTEIRO DE OBRA EM CHAPA DE MADE | E13: m² | F13: 20 | G13: 616.3 | H13: =G13*F13 -> 12326 | I13: =G13*(1+$K$9) -> 769.27 | J13: =I13*F13 -> 15385.4
B14: 93210 | C14: 1.1.2 | D14: EXECUÇÃO DE REFEITÓRIO EM CANTEIRO DE OBRA EM CHAPA DE MADEIRA COMPENS | E14: m² | F14: 20 | G14: 347.81 | H14: =G14*F14 -> 6956.2 | I14: =G14*(1+$K$9) -> 434.14 | J14: =I14*F14 -> 8682.8
B15: 90778 | C15: 1.1.3 | D15: ENGENHEIRO CIVIL DE OBRA PLENO COM ENCARGOS COMPLEMENTARES | E15: h | F15: 1440 | G15: 101.7 | J15: =G15*F15 -> 146448
B16: 94295 | C16: 1.1.4 | D16: MESTRE DE OBRAS COM ENCARGOS COMPLEMENTARES MES CR 7.262,68 | E16: MÊS | F16: 16 | G16: 7262.68 | J16: =G16*F16 -> 116202.88
B17: 93563 | C17: 1.1.5 | D17: ALMOXARIFE COM ENCARGOS COMPLEMENTARES | E17: MÊS | F17: 16 | G17: 3758.88 | J17: =G17*F17 -> 60142.08
B18: 95135 | C18: 1.1.6 | D18: LOCACAO DE ANDAIME METALICO TUBULAR TIPO TORRE | E18: m/mês | F18: 600 | G18: =13.47+4.46 -> 17.93 | H18: =G18*F18 -> 10758 | I18: =G18*(1+$K$9) -> 22.38 | J18: =I18*F18 -> 13428
B19: 73859/1 | C19: 1.2 | D19: DESMATAMENTO E LIMPEZA MECANIZADA DE TERRENO COM REMOCAO DE CAMADA VEGETAL,UTILIZANDO TRATOR DE ESTEIRAS | E19: m² | F19: 12000 | G19: 0.17 | H19: =G19*F19 -> 2040 | I19: =G19*(1+$K$9) -> 0.21 | J19: =I19*F19 -> 2520
B20: 89957 | C20: 1.3 | D20: PONTO DE CONSUMO TERMINAL DE ÁGUA FRIA (SUBRAMAL) COM TUBULAÇÃO DE PVC, DN 25 MM, | E20: un. | F20: 1 | G20: 300 | H20: =G20*F20 -> 300 | I20: =G20*(1+$K$9) -> 374.46 | J20: =I20*F20 -> 374.46
B21: 93144 | C21: 1.4 | D21: PONTO DE UTILIZAÇÃO DE EQUIPAMENTOS ELÉTRICOS, RESIDENCIAL, INCLUINDO SUPORTE E PLACA, CAIXA ELÉTRICA, ELETRODUTO, CABO, RASGO, QUEBRA E CHUMBAMENTO. AF_01/2016 | E21: un. | F21: 1 | G21: 300 | H21: =G21*F21 -> 300 | I21: =G21*(1+$K$9) -> 374.46 | J21: =I21*F21 -> 374.46
B22: 74209/1 | C22: 1.5 | D22: PLACA DE OBRA EM CHAPA DE ACO GALVANIZADO M2 286,67 37,18 323,85 | E22: m² | F22: 3 | G22: 323.77 | H22: =G22*F22 -> 971.31 | I22: =G22*(1+$K$9) -> 404.13 | J22: =I22*F22 -> 1212.39
C23: 1.6 | D23: LOCACAO DE OBRA, ATRAVÉS DE GABARITO DE TABUAS CORRIDAS COM REAPROVEITAMENTOS (6.197,0m²)
B24: 10567 | C24: 1.7 | D24: TABUA MADEIRA 3A QUALIDADE 2,5 X 23,0CM (1 X 9") NAO APARELHADA | E24: m | F24: 1000 | G24: 7.1 | H24: =G24*F24 -> 7100 | I24: =G24*(1+$K$9) -> 8.86 | J24: =I24*F24 -> 8860
B25: 4496 | C25: 1.8 | D25: CAIBRO DE MADEIRA NATIVA/REGIONAL 5 X 5 CM NAO APARELHADA (P/FORMA) | E25: m | F25: 600 | G25: 4 | H25: =G25*F25 -> 2400 | I25: =G25*(1+$K$9) -> 4.99 | J25: =I25*F25 -> 2994
B26: 95463 | C26: 1.9 | D26: FOSSA SÉPTICA EM ALVENARIA DE TIJOLO CERÂMICO MACIÇO, DIMENSÕES EXTERNAS DE 1,90X1,10X1,40 M, VOLUME DE 1.500 LITROS, REVESTIDO INTERNAMENTE COM MASSA ÚNICA E IMPERMEABILIZANTE E COM TAMPA DE CONCRETO ARMADO COM ESPESSURA DE 8 CM UN 796,23 528,61 1.324,84 | E26: un. | F26: 1 | G26: 1324.84 | H26: =G26*F26 -> 1324.84 | I26: =G26*(1+$K$9) -> 1653.67 | J26: =I26*F26 -> 1653.67
B27: 74198/1 | C27: 1.10 | D27: SUMIDOURO EM ALVENARIA DE TIJOLO CERAMICO MACICO DIAMETRO 1,20M E ALTURA 5,00M,COM TAMPA EM CONCRETO ARMADO DIAMETRO 1,40M E ESPESSURA 10CMUN 619,05 578,03 1.197,08 | E27: un. | F27: 2 | G27: 1197.08 | H27: =G27*F27 -> 2394.16 | I27: =G27*(1+$K$9) -> 1494.2 | J27: =I27*F27 -> 2988.4
D28: TUBULAÇÃO [DESVIO DE ESGOTO] = (210 M LINEAR) + 9 CX DE PASSAGEM
B29: 79480 | C29: 1.11 | D29: 79480 ESCAVACAO MECANICA CAMPO ABERTO EM SOLO EXCETO ROCHA ATE 2,00M PROFUNDIDADE M3 2,55 0,24 2,79 | E29: m³ | F29: 80 | G29: 2.8 | H29: =G29*F29 -> 224 | I29: =G29*(1+$K$9) -> 3.49 | J29: =I29*F29 -> 279.2
B30: 74104/1 | C30: 1.12 | D30: CAIXA DE INSPEÇÃO EM ALVENARIA DE TIJOLO MACIÇO 60X60X60CM, REVESTIDA INTERNAMENTO COM BARRA LISA (CIMENTO E AREIA, TRAÇO 1:4) E=2,0CM, COM TAMPA PRÉ-MOLDADA DE CONCRETO E FUNDO DE CONCRETO 15MPA TIPO C - ESCAVAÇÃO E CONFECÇÃO | E30: un. | F30: 10 | G30: 137.13 | H30: =G30*F30 -> 1371.3 | I30: =G30*(1+$K$9) -> 171.17 | J30: =I30*F30 -> 1711.7
B31: 89714 | C31: 1.13 | D31: TUBO PVC, SERIE NORMAL, ESGOTO PREDIAL, DN 100 MM, FORNECIDO E INSTALADO | E31: m | F31: 210 | G31: 46.26 | H31: =G31*F31 -> 9714.6 | I31: =G31*(1+$K$9) -> 57.74 | J31: =I31*F31 -> 12125.4
B32: 93362 | C32: 1.14 | D32: REATERRO MECANIZADO DE VALA COM ESCAVADEIRA HIDRÁULICA (CAPACIDADE DA CAÇAMBA: 0,8 M³ / POTÊNCIA: 111 HP), LARGURA DE 1,5 A 2,5 M, PROFUNDIDADE DE 1,5 A 3,0 M | E32: m³ | F32: 62.5 | G32: 8.59 | H32: =G32*F32 -> 536.88 | I32: =G32*(1+$K$9) -> 10.72 | J32: =I32*F32 -> 670
B33: 74220/001 | C33: 1.15 | D33: TAPUME DE CHAPA DE MADEIRA COMPENSADA, E= 6MM, COM PINTURA A CAL E REAPROVEITAMENTO 2X | E33: m² | F33: 400 | G33: 57.98 | H33: =G33*F33 -> 23192 | I33: =G33*(1+$K$9) -> 72.37 | J33: =I33*F33 -> 28948
C34: 2 | D34: MOVIMENTO DE TERRA | K34: =SUM(J35:J37) -> 49380 | L34: =SUM(J35:J37) -> 49380
B35: 74155/2 | C35: 2.1 | D35: ESCAVACAO E TRANSPORTE DE MATERIAL DE 2A CAT DMT 50M COM TRATOR SOBRE ESTEIRAS 347 HP COM LAMINA E ESCARIFICADOR | E35: m³ | F35: 6000 | G35: 3.92 | H35: =G35*F35 -> 23520 | I35: =G35*(1+$K$9) -> 4.89 | J35: =I35*F35 -> 29340
B36: 74153/001 | D36: 74153/001 ESPALHAMENTO MECANIZADO (COM MOTONIVELADORA 140 HP) MATERIAL 1A. CATEG M2 CR 0,22 | E36: m² | F36: =200*100 -> 20000 | G36: 0.22 | H36: =G36*F36 -> 4400 | I36: =G36*(1+$K$9) -> 0.27 | J36: =I36*F36 -> 5400
B37: 41722 | C37: 2.2 | D37: COMPACTACAO MECANICA A 100% DO PROCTOR NORMAL - PAVIMENTACAO URBANA | E37: m³ | F37: 3000 | G37: 3.91 | H37: =G37*F37 -> 11730 | I37: =G37*(1+$K$9) -> 4.88 | J37: =I37*F37 -> 14640
B39: COMP 1 | C39: 3 | D39: GALPÃO COBERTO | H39: =G39*F39 -> 0 | I39: =G39*(1+$K$9) -> 0 | J39: =I39*F39 -> 0 | K39: =SUM(J39:J53) -> 3143798.7 | L39: =SUM(J39:J53) -> 3143798.7
D40: FUNDAÇÃO EM SAPATA RASA
B41: 89949 | C41: 3.1 | D41: 89949 ESCAVAÇÃO VERTICAL A CÉU ABERTO, INCLUINDO CARGA, DESCARGA E TRANSPORT M3 | E41: m³ | F41: 500 | G41: 13.24 | H41: =G41*F41 -> 6620 | I41: =G41*(1+$K$9) -> 16.53 | J41: =I41*F41 -> 8265
...

Sheet CRONOGRAMA
B1: Universidade Estadual do Norte do Paraná - UENP
B2: Decreto Estadual n.º3909, Publicado no Diario Oficial do Estado do Paraná em 01/12/08
B3: Campus Cornélio Procópio - C.Procópio/PR
A6: CRONOGRAMA FÍSICO-FINANCEIRO
A7: OBRA | B7: BLOCO SALAS DE PESQ.DOS PROFESSORES | D7: AREA CONSTRUIDA: | F7: ='PLAN. ORÇAM.'!H8 -> 6197.4
A8: LOCAL | B8: UENP-CORNÉLIO PRODÓPIO | D8: VALOR DA OBRA: | F8: =C34 -> 8850000
A10: ITEM | B10: DESCRIÇÃO DOS SERVIÇOS | C10: VALOR DOS | D10: SERVIÇOS A EXECUTAR-EM %
D11: MEDIÇÃO 1 | G11: MEDIÇÃO 2 | J11: MEDIÇÃO 3 | M11: MEDIÇÃO 4 | P11: MEDIÇÃO 5 | S11: MEDIÇÃO 6 | V11: MEDIÇÃO 7 | Y11: MEDIÇÃO 8 | AB11: MEDIÇÃO 9 | AE11: MEDIÇÃO 10 | AH11: MEDIÇÃO 11 | AK11: MEDIÇÃO 12 | AN11: MEDIÇÃO 13 | AQ11: MEDIÇÃO 14 | AT11: MEDIÇÃO 15 | AW11: MEDIÇÃO 16 | AZ11: MEDIÇÃO 17 | BC11: MEDIÇÃO 18
C12: SERVIÇOS(R$) | D12: % EXECUTADA | E12: VALOR | F12: % ACUMULADA | G12: % EXECUTADA | H12: VALOR | I12: % ACUMULADA | J12: % EXECUTADA | K12: VALOR | L12: % ACUMULADA | M12: % EXECUTADA | N12: VALOR | O12: % ACUMULADA | P12: % EXECUTADA | Q12: VALOR | R12: % ACUMULADA | S12: % EXECUTADA | T12: VALOR | U12: % ACUMULADA | V12: % EXECUTADA | W12: VALOR | X12: % ACUMULADA | Y12: % EXECUTADA | Z12: VALOR | AA12: % ACUMULADA | AB12: % EXECUTADA | AC12: VALOR | AD12: % ACUMULADA | AE12: % EXECUTADA | AF12: VALOR | AG12: % ACUMULADA | AH12: % EXECUTADA | AI12: VALOR | AJ12: % ACUMULADA | AK12: % EXECUTADA | AL12: VALOR | AM12: % ACUMULADA | AN12: % EXECUTADA | AO12: VALOR | AP12: % ACUMULADA | AQ12: % EXECUTADA | AR12: VALOR | AS12: % ACUMULADA | AT12: % EXECUTADA | AU12: VALOR | AV12: % ACUMULADA | AW12: % EXECUTADA | AX12: VALOR | AY12: % ACUMULADA | AZ12: % EXECUTADA | BA12: VALOR | BB12: % ACUMULADA | BC12: % EXECUTADA | BD12: VALOR | BE12: % ACUMULADA
A13: 1 | B13: =VLOOKUP(A13,'PLAN. ORÇAM.'!C11:K380,2) -> SERVIÇOS PRELIMINARES | C13: =VLOOKUP(A13,'PLAN. ORÇAM.'!C11:K380,9) -> 442819.04 | D13: 0.07 | E13: =D13*$C13 -> 30997.33 | F13: 0.06 | G13: 0.07 | H13: =G13*$C13 -> 30997.33 | I13: =G13+F13 -> 0.13 | J13: 0.07 | K13: =J13*$C13 -> 30997.33 | L13: =J13+I13 -> 0.2 | M13: 0.07 | N13: =M13*$C13 -> 30997.33 | O13: =M13+L13 -> 0.27 | P13: 0.07 | Q13: =P13*$C13 -> 30997.33 | R13: =P13+O13 -> 0.34 | S13: 0.06 | T13: =S13*$C13 -> 26569.14 | U13: =S13+R13 -> 0.4 | V13: 0.06 | W13: =V13*$C13 -> 26569.14 | X13: =V13+U13 -> 0.46 | Y13: 0.06 | Z13: =Y13*$C13 -> 26569.14 | AA13: =Y13+X13 -> 0.52 | AB13: 0.06 | AC13: =AB13*$C13 -> 26569.14 | AD13: =AB13+AA13 -> 0.58 | AE13: 0.06 | AF13: =AE13*$C13 -> 26569.14 | AG13: =AE13+AD13 -> 0.64 | AH13: 0.06 | AI13: =AH13*$C13 -> 26569.14 | AJ13: =AH13+AG13 -> 0.7 | AK13: 0.06 | AL13: =AK13*$C13 -> 26569.14 | AM13: =AK13+AJ13 -> 0.76 | AN13: 0.06 | AO13: =AN13*$C13 -> 26569.14 | AP13: =AN13+AM13 -> 0.82 | AQ13: 0.06 | AR13: =AQ13*$C13 -> 26569.14 | AS13: =AQ13+AP13 -> 0.88 | AT13: 0.06 | AU13: =AT13*$C13 -> 26569.14 | AV13: =AT13+AS13 -> 0.94 | AW13: 0.06 | AX13: =AW13*$C13 -> 26569.14 | AY13: =AW13+AV13 -> 1 | BA13: =AZ13*$C13 -> 0 | BB13: =AZ13+AY13 -> 1 | BD13: =BC13*$C13 -> 0 | BE13: =BC13+BB13 -> 1
A14: 2 | B14: =VLOOKUP(A14,'PLAN. ORÇAM.'!C12:K384,2) -> MOVIMENTO DE TERRA | C14: =VLOOKUP(A14,'PLAN. ORÇAM.'!C12:K384,9) -> 49380 | D14: 0.7 | E14: =D14*C14 -> 34566 | F14: =D14 -> 0.7 | G14: 0.3 | H14: =G14*$C14 -> 14814 | I14: =G14+F14 -> 1 | K14: =J14*$C14 -> 0 | L14: =J14+I14 -> 1 | N14: =M14*$C14 -> 0 | O14: =M14+L14 -> 1 | Q14: =P14*$C14 -> 0 | R14: =P14+O14 -> 1 | T14: =S14*$C14 -> 0 | U14: =S14+R14 -> 1 | W14: =V14*$C14 -> 0 | X14: =V14+U14 -> 1 | Z14: =Y14*$C14 -> 0 | AA14: =Y14+X14 -> 1 | AC14: =AB14*$C14 -> 0 | AD14: =AB14+AA14 -> 1 | AF14: =AE14*$C14 -> 0 | AG14: =AE14+AD14 -> 1 | AI14: =AH14*$C14 -> 0 | AJ14: =AH14+AG14 -> 1 | AL14: =AK14*$C14 -> 0 | AM14: =AK14+AJ14 -> 1 | AO14: =AN14*$C14 -> 0 | AP14: =AN14+AM14 -> 1 | AR14: =AQ14*$C14 -> 0 | AS14: =AQ14+AP14 -> 1 | AU14: =AT14*$C14 -> 0 | AV14: =AT14+AS14 -> 1 | AX14: =AW14*$C14 -> 0 | AY14: =AW14+AV14 -> 1 | BA14: =AZ14*$C14 -> 0 | BB14: =AZ14+AY14 -> 1 | BD14: =BC14*$C14 -> 0 | BE14: =BC14+BB14 -> 1
A15: 3 | B15: =VLOOKUP(A15,'PLAN. ORÇAM.'!C19:K385,2) -> GALPÃO COBERTO | C15: =VLOOKUP(A15,'PLAN. ORÇAM.'!C19:K385,9) -> 3143798.7 | E15: =D15*C15 -> 0 | F15: =D15 -> 0 | G15: 0.1 | H15: =G15*$C15 -> 314379.87 | I15: =G15+F15 -> 0.1 | J15: 0.1 | K15: =J15*$C15 -> 314379.87 | L15: =J15+I15 -> 0.2 | M15: 0.1 | N15: =M15*$C15 -> 314379.87 | O15: =M15+L15 -> 0.3 | P15: 0.1 | Q15: =P15*$C15 -> 314379.87 | R15: =P15+O15 -> 0.4 | S15: 0.1 | T15: =S15*$C15 -> 314379.87 | U15: =S15+R15 -> 0.5 | V15: 0.1 | W15: =V15*$C15 -> 314379.87 | X15: =V15+U15 -> 0.6 | Y15: 0.1 | Z15: =Y15*$C15 -> 314379.87 | AA15: =Y15+X15 -> 0.7 | AB15: 0.12 | AC15: =AB15*$C15 -> 377255.85 | AD15: =AB15+AA15 -> 0.82 | AE15: 0.18 | AF15: =AE15*$C15 -> 565883.77 | AG15: =AE15+AD15 -> 1 | AH15: 0 | AI15: =AH15*$C15 -> 0 | AJ15: =AH15+AG15 -> 1 | AL15: =AK15*$C15 -> 0 | AM15: =AK15+AJ15 -> 1 | AO15: =AN15*$C15 -> 0 | AP15: =AN15+AM15 -> 1 | AR15: =AQ15*$C15 -> 0 | AS15: =AQ15+AP15 -> 1 | AU15: =AT15*$C15 -> 0 | AV15: =AT15+AS15 -> 1 | AX15: =AW15*$C15 -> 0 | AY15: =AW15+AV15 -> 1 | BA15: =AZ15*$C15 -> 0 | BB15: =AZ15+AY15 -> 1 | BD15: =BC15*$C15 -> 0 | BE15: =BC15+BB15 -> 1
A16: 4 | B16: =VLOOKUP(A16,'PLAN. ORÇAM.'!C20:K386,2) -> ATERRO E CONTRAPISO INTERNO | C16: =VLOOKUP(A16,'PLAN. ORÇAM.'!C20:K386,9) -> 332824 | E16: =D16*C16 -> 0 | F16: =D16 -> 0 | H16: =G16*$C16 -> 0 | I16: =G16+F16 -> 0 | J16: 0.1 | K16: =J16*$C16 -> 33282.4 | L16: =J16+I16 -> 0.1 | M16: 0.1 | N16: =M16*$C16 -> 33282.4 | O16: =M16+L16 -> 0.2 | Q16: =P16*$C16 -> 0 | R16: =P16+O16 -> 0.2 | T16: =S16*$C16 -> 0 | U16: =S16+R16 -> 0.2 | V16: 0.2 | W16: =V16*$C16 -> 66564.8 | X16: =V16+U16 -> 0.4 | Y16: 0.2 | Z16: =Y16*$C16 -> 66564.8 | AA16: =Y16+X16 -> 0.6 | AB16: 0.2 | AC16: =AB16*$C16 -> 66564.8 | AD16: =AB16+AA16 -> 0.8 | AE16: 0.2 | AF16: =AE16*$C16 -> 66564.8 | AG16: =AE16+AD16 -> 1 | AI16: =AH16*$C16 -> 0 | AJ16: =AH16+AG16 -> 1 | AL16: =AK16*$C16 -> 0 | AM16: =AK16+AJ16 -> 1 | AO16: =AN16*$C16 -> 0 | AP16: =AN16+AM16 -> 1 | AR16: =AQ16*$C16 -> 0 | AS16: =AQ16+AP16 -> 1 | AU16: =AT16*$C16 -> 0 | AV16: =AT16+AS16 -> 1 | AX16: =AW16*$C16 -> 0 | AY16: =AW16+AV16 -> 1 | BA16: =AZ16*$C16 -> 0 | BB16: =AZ16+AY16 -> 1 | BD16: =BC16*$C16 -> 0 | BE16: =BC16+BB16 -> 1
A17: 5 | B17: =VLOOKUP(A17,'PLAN. ORÇAM.'!C21:K387,2) -> CASA DOS RESERVATÓRIOS | C17: =VLOOKUP(A17,'PLAN. ORÇAM.'!C21:K387,9) -> 75330.23 | E17: =D17*C17 -> 0 | F17: =D17 -> 0 | H17: =G17*$C17 -> 0 | I17: =G17+F17 -> 0 | K17: =J17*$C17 -> 0 | L17: =J17+I17 -> 0 | M17: 0.05 | N17: =M17*$C17 -> 3766.51 | O17: =M17+L17 -> 0.05 | P17: 0.2 | Q17: =P17*$C17 -> 15066.05 | R17: =P17+O17 -> 0.25 | S17: 0.3 | T17: =S17*$C17 -> 22599.07 | U17: =S17+R17 -> 0.55 | V17: 0.4 | W17: =V17*$C17 -> 30132.09 | X17: =V17+U17 -> 0.95 | Y17: 0.05 | Z17: =Y17*$C17 -> 3766.51 | AA17: =Y17+X17 -> 1 | AC17: =AB17*$C17 -> 0 | AD17: =AB17+AA17 -> 1 | AF17: =AE17*$C17 -> 0 | AG17: =AE17+AD17 -> 1 | AI17: =AH17*$C17 -> 0 | AJ17: =AH17+AG17 -> 1 | AL17: =AK17*$C17 -> 0 | AM17: =AK17+AJ17 -> 1 | AO17: =AN17*$C17 -> 0 | AP17: =AN17+AM17 -> 1 | AR17: =AQ17*$C17 -> 0 | AS17: =AQ17+AP17 -> 1 | AU17: =AT17*$C17 -> 0 | AV17: =AT17+AS17 -> 1 | AX17: =AW17*$C17 -> 0 | AY17: =AW17+AV17 -> 1 | BA17: =AZ17*$C17 -> 0 | BB17: =AZ17+AY17 -> 1 | BD17: =BC17*$C17 -> 0 | BE17: =BC17+BB17 -> 1
A18: 6 | B18: =VLOOKUP(A18,'PLAN. ORÇAM.'!C22:K388,2) -> PAREDES E BANCADAS | C18: =VLOOKUP(A18,'PLAN. ORÇAM.'!C22:K388,9) -> 901103.61 | E18: =D18*C18 -> 0 | F18: =D18 -> 0 | H18: =G18*$C18 -> 0 | I18: =G18+F18 -> 0 | K18: =J18*$C18 -> 0 | L18: =J18+I18 -> 0 | N18: =M18*$C18 -> 0 | O18: =M18+L18 -> 0 | Q18: =P18*$C18 -> 0 | R18: =P18+O18 -> 0 | T18: =S18*$C18 -> 0 | U18: =S18+R18 -> 0 | W18: =V18*$C18 -> 0 | X18: =V18+U18 -> 0 | Y18: 0.2 | Z18: =Y18*$C18 -> 180220.72 | AA18: =Y18+X18 -> 0.2 | AB18: 0.2 | AC18: =AB18*$C18 -> 180220.72 | AD18: =AB18+AA18 -> 0.4 | AE18: 0.2 | AF18: =AE18*$C18 -> 180220.72 | AG18: =AE18+AD18 -> 0.6 | AH18: 0.3 | AI18: =AH18*$C18 -> 270331.08 | AJ18: =AH18+AG18 -> 0.9 | AK18: 0.1 | AL18: =AK18*$C18 -> 90110.36 | AM18: =AK18+AJ18 -> 1 | AO18: =AN18*$C18 -> 0 | AP18: =AN18+AM18 -> 1 | AR18: =AQ18*$C18 -> 0 | AS18: =AQ18+AP18 -> 1 | AU18: =AT18*$C18 -> 0 | AV18: =AT18+AS18 -> 1 | AX18: =AW18*$C18 -> 0 | AY18: =AW18+AV18 -> 1 | BA18: =AZ18*$C18 -> 0 | BB18: =AZ18+AY18 -> 1 | BD18: =BC18*$C18 -> 0 | BE18: =BC18+BB18 -> 1
A19: 7 | B19: =VLOOKUP(A19,'PLAN. ORÇAM.'!C23:K389,2) -> ESGOTO e DRENAGEM | C19: =VLOOKUP(A19,'PLAN. ORÇAM.'!C23:K389,9) -> 47745.05 | E19: =D19*C19 -> 0 | F19: =D19 -> 0 | H19: =G19*$C19 -> 0 | I19: =G19+F19 -> 0 | K19: =J19*$C19 -> 0 | L19: =J19+I19 -> 0 | N19: =M19*$C19 -> 0 | O19: =M19+L19 -> 0 | P19: 1 | Q19: =P19*$C19 -> 47745.05 | R19: =P19+O19 -> 1 | T19: =S19*$C19 -> 0 | U19: =S19+R19 -> 1 | W19: =V19*$C19 -> 0 | X19: =V19+U19 -> 1 | Z19: =Y19*$C19 -> 0 | AA19: =Y19+X19 -> 1 | AC19: =AB19*$C19 -> 0 | AD19: =AB19+AA19 -> 1 | AF19: =AE19*$C19 -> 0 | AG19: =AE19+AD19 -> 1 | AI19: =AH19*$C19 -> 0 | AJ19: =AH19+AG19 -> 1 | AL19: =AK19*$C19 -> 0 | AM19: =AK19+AJ19 -> 1 | AO19: =AN19*$C19 -> 0 | AP19: =AN19+AM19 -> 1 | AR19: =AQ19*$C19 -> 0 | AS19: =AQ19+AP19 -> 1 | AU19: =AT19*$C19 -> 0 | AV19: =AT19+AS19 -> 1 | AX19: =AW19*$C19 -> 0 | AY19: =AW19+AV19 -> 1 | BA19: =AZ19*$C19 -> 0 | BB19: =AZ19+AY19 -> 1 | BD19: =BC19*$C19 -> 0 | BE19: =BC19+BB19 -> 1
A20: 8 | B20: =VLOOKUP(A20,'PLAN. ORÇAM.'!C24:K390,2) -> REVESTIMENTO DE PAREDE | C20: =VLOOKUP(A20,'PLAN. ORÇAM.'!C24:K390,9) -> 357868.8 | E20: =D20*C20 -> 0 | F20: =D20 -> 0 | H20: =G20*$C20 -> 0 | I20: =G20+F20 -> 0 | K20: =J20*$C20 -> 0 | L20: =J20+I20 -> 0 | N20: =M20*$C20 -> 0 | O20: =M20+L20 -> 0 | Q20: =P20*$C20 -> 0 | R20: =P20+O20 -> 0 | T20: =S20*$C20 -> 0 | U20: =S20+R20 -> 0 | W20: =V20*$C20 -> 0 | X20: =V20+U20 -> 0 | Z20: =Y20*$C20 -> 0 | AA20: =Y20+X20 -> 0 | AC20: =AB20*$C20 -> 0 | AD20: =AB20+AA20 -> 0 | AE20: 0.2 | AF20: =AE20*$C20 -> 71573.76 | AG20: =AE20+AD20 -> 0.2 | AH20: 0.3 | AI20: =AH20*$C20 -> 107360.64 | AJ20: =AH20+AG20 -> 0.5 | AK20: 0.5 | AL20: =AK20*$C20 -> 178934.4 | AM20: =AK20+AJ20 -> 1 | AO20: =AN20*$C20 -> 0 | AP20: =AN20+AM20 -> 1 | AR20: =AQ20*$C20 -> 0 | AS20: =AQ20+AP20 -> 1 | AU20: =AT20*$C20 -> 0 | AV20: =AT20+AS20 -> 1 | AX20: =AW20*$C20 -> 0 | AY20: =AW20+AV20 -> 1 | BA20: =AZ20*$C20 -> 0 | BB20: =AZ20+AY20 -> 1 | BD20: =BC20*$C20 -> 0 | BE20: =BC20+BB20 -> 1
A21: 9 | B21: =VLOOKUP(A21,'PLAN. ORÇAM.'!C25:K391,2) -> REVESTIMENTO DE PAREDE E PISO | C21: =VLOOKUP(A21,'PLAN. ORÇAM.'!C25:K391,9) -> 277963.92 | E21: =D21*C21 -> 0 | F21: =D21 -> 0 | H21: =G21*$C21 -> 0 | I21: =G21+F21 -> 0 | K21: =J21*$C21 -> 0 | L21: =J21+I21 -> 0 | N21: =M21*$C21 -> 0 | O21: =M21+L21 -> 0 | Q21: =P21*$C21 -> 0 | R21: =P21+O21 -> 0 | T21: =S21*$C21 -> 0 | U21: =S21+R21 -> 0 | W21: =V21*$C21 -> 0 | X21: =V21+U21 -> 0 | Z21: =Y21*$C21 -> 0 | AA21: =Y21+X21 -> 0 | AC21: =AB21*$C21 -> 0 | AD21: =AB21+AA21 -> 0 | AF21: =AE21*$C21 -> 0 | AG21: =AE21+AD21 -> 0 | AI21: =AH21*$C21 -> 0 | AJ21: =AH21+AG21 -> 0 | AL21: =AK21*$C21 -> 0 | AM21: =AK21+AJ21 -> 0 | AN21: 0.5 | AO21: =AN21*$C21 -> 138981.96 | AP21: =AN21+AM21 -> 0.5 | AR21: =AQ21*$C21 -> 0 | AS21: =AQ21+AP21 -> 0.5 | AT21: 0.5 | AU21: =AT21*$C21 -> 138981.96 | AV21: =AT21+AS21 -> 1 | AX21: =AW21*$C21 -> 0 | AY21: =AW21+AV21 -> 1 | BA21: =AZ21*$C21 -> 0 | BB21: =AZ21+AY21 -> 1 | BD21: =BC21*$C21 -> 0 | BE21: =BC21+BB21 -> 1
A22: 10 | B22: =VLOOKUP(A22,'PLAN. ORÇAM.'!C26:K392,2) -> ESQUADRIAS | C22: =VLOOKUP(A22,'PLAN. ORÇAM.'!C26:K392,9) -> 1332744.4 | E22: =D22*C22 -> 0 | F22: =D22 -> 0 | H22: =G22*$C22 -> 0 | I22: =G22+F22 -> 0 | K22: =J22*$C22 -> 0 | L22: =J22+I22 -> 0 | N22: =M22*$C22 -> 0 | O22: =M22+L22 -> 0 | Q22: =P22*$C22 -> 0 | R22: =P22+O22 -> 0 | T22: =S22*$C22 -> 0 | U22: =S22+R22 -> 0 | W22: =V22*$C22 -> 0 | X22: =V22+U22 -> 0 | Z22: =Y22*$C22 -> 0 | AA22: =Y22+X22 -> 0 | AC22: =AB22*$C22 -> 0 | AD22: =AB22+AA22 -> 0 | AF22: =AE22*$C22 -> 0 | AG22: =AE22+AD22 -> 0 | AI22: =AH22*$C22 -> 0 | AJ22: =AH22+AG22 -> 0 | AL22: =AK22*$C22 -> 0 | AM22: =AK22+AJ22 -> 0 | AN22: 0.4 | AO22: =AN22*$C22 -> 533097.76 | AP22: =AN22+AM22 -> 0.4 | AQ22: 0.4 | AR22: =AQ22*$C22 -> 533097.76 | AS22: =AQ22+AP22 -> 0.8 | AT22: 0.2 | AU22: =AT22*$C22 -> 266548.88 | AV22: =AT22+AS22 -> 1 | AX22: =AW22*$C22 -> 0 | AY22: =AW22+AV22 -> 1 | BA22: =AZ22*$C22 -> 0 | BB22: =AZ22+AY22 -> 1 | BD22: =BC22*$C22 -> 0 | BE22: =BC22+BB22 -> 1
A23: 11 | B23: =VLOOKUP(A23,'PLAN. ORÇAM.'!C27:K393,2) -> VIDROS | C23: =VLOOKUP(A23,'PLAN. ORÇAM.'!C27:K393,9) -> 168646 | E23: =D23*C23 -> 0 | F23: =D23 -> 0 | H23: =G23*$C23 -> 0 | I23: =G23+F23 -> 0 | K23: =J23*$C23 -> 0 | L23: =J23+I23 -> 0 | N23: =M23*$C23 -> 0 | O23: =M23+L23 -> 0 | Q23: =P23*$C23 -> 0 | R23: =P23+O23 -> 0 | T23: =S23*$C23 -> 0 | U23: =S23+R23 -> 0 | W23: =V23*$C23 -> 0 | X23: =V23+U23 -> 0 | Z23: =Y23*$C23 -> 0 | AA23: =Y23+X23 -> 0 | AC23: =AB23*$C23 -> 0 | AD23: =AB23+AA23 -> 0 | AF23: =AE23*$C23 -> 0 | AG23: =AE23+AD23 -> 0 | AI23: =AH23*$C23 -> 0 | AJ23: =AH23+AG23 -> 0 | AL23: =AK23*$C23 -> 0 | AM23: =AK23+AJ23 -> 0 | AO23: =AN23*$C23 -> 0 | AP23: =AN23+AM23 -> 0 | AR23: =AQ23*$C23 -> 0 | AS23: =AQ23+AP23 -> 0 | AT23: 1 | AU23: =AT23*$C23 -> 168646 | AV23: =AT23+AS23 -> 1 | AX23: =AW23*$C23 -> 0 | AY23: =AW23+AV23 -> 1 | BA23: =AZ23*$C23 -> 0 | BB23: =AZ23+AY23 -> 1 | BD23: =BC23*$C23 -> 0 | BE23: =BC23+BB23 -> 1
A24: 12 | B24: =VLOOKUP(A24,'PLAN. ORÇAM.'!C28:K394,2) -> HIDRÁULICA | C24: =VLOOKUP(A24,'PLAN. ORÇAM.'!C28:K394,9) -> 129096.4 | E24: =D24*C24 -> 0 | F24: =D24 -> 0 | H24: =G24*$C24 -> 0 | I24: =G24+F24 -> 0 | K24: =J24*$C24 -> 0 | L24: =J24+I24 -> 0 | N24: =M24*$C24 -> 0 | O24: =M24+L24 -> 0 | Q24: =P24*$C24 -> 0 | R24: =P24+O24 -> 0 | T24: =S24*$C24 -> 0 | U24: =S24+R24 -> 0 | W24: =V24*$C24 -> 0 | X24: =V24+U24 -> 0 | Z24: =Y24*$C24 -> 0 | AA24: =Y24+X24 -> 0 | AC24: =AB24*$C24 -> 0 | AD24: =AB24+AA24 -> 0 | AF24: =AE24*$C24 -> 0 | AG24: =AE24+AD24 -> 0 | AI24: =AH24*$C24 -> 0 | AJ24: =AH24+AG24 -> 0 | AK24: 0.5 | AL24: =AK24*$C24 -> 64548.2 | AM24: =AK24+AJ24 -> 0.5 | AN24: 0.5 | AO24: =AN24*$C24 -> 64548.2 | AP24: =AN24+AM24 -> 1 | AR24: =AQ24*$C24 -> 0 | AS24: =AQ24+AP24 -> 1 | AU24: =AT24*$C24 -> 0 | AV24: =AT24+AS24 -> 1 | AX24: =AW24*$C24 -> 0 | AY24: =AW24+AV24 -> 1 | BA24: =AZ24*$C24 -> 0 | BB24: =AZ24+AY24 -> 1 | BD24: =BC24*$C24 -> 0 | BE24: =BC24+BB24 -> 1
A25: 13 | B25: =VLOOKUP(A25,'PLAN. ORÇAM.'!C29:K395,2) -> INCÊNDIO | C25: =VLOOKUP(A25,'PLAN. ORÇAM.'!C29:K395,9) -> 63291.37 | E25: =D25*C25 -> 0 | F25: =D25 -> 0 | H25: =G25*$C25 -> 0 | I25: =G25+F25 -> 0 | K25: =J25*$C25 -> 0 | L25: =J25+I25 -> 0 | N25: =M25*$C25 -> 0 | O25: =M25+L25 -> 0 | Q25: =P25*$C25 -> 0 | R25: =P25+O25 -> 0 | T25: =S25*$C25 -> 0 | U25: =S25+R25 -> 0 | W25: =V25*$C25 -> 0 | X25: =V25+U25 -> 0 | Z25: =Y25*$C25 -> 0 | AA25: =Y25+X25 -> 0 | AC25: =AB25*$C25 -> 0 | AD25: =AB25+AA25 -> 0 | AF25: =AE25*$C25 -> 0 | AG25: =AE25+AD25 -> 0 | AI25: =AH25*$C25 -> 0 | AJ25: =AH25+AG25 -> 0 | AK25: 0.6 | AL25: =AK25*$C25 -> 37974.82 | AM25: =AK25+AJ25 -> 0.6 | AN25: 0.4 | AO25: =AN25*$C25 -> 25316.55 | AP25: =AN25+AM25 -> 1 | AR25: =AQ25*$C25 -> 0 | AS25: =AQ25+AP25 -> 1 | AU25: =AT25*$C25 -> 0 | AV25: =AT25+AS25 -> 1 | AX25: =AW25*$C25 -> 0 | AY25: =AW25+AV25 -> 1 | BA25: =AZ25*$C25 -> 0 | BB25: =AZ25+AY25 -> 1 | BD25: =BC25*$C25 -> 0 | BE25: =BC25+BB25 -> 1
A26: 14 | B26: =VLOOKUP(A26,'PLAN. ORÇAM.'!C30:K396,2) -> GÁS | C26: =VLOOKUP(A26,'PLAN. ORÇAM.'!C30:K396,9) -> 14117.51 | E26: =D26*C26 -> 0 | F26: =D26 -> 0 | H26: =G26*$C26 -> 0 | I26: =G26+F26 -> 0 | K26: =J26*$C26 -> 0 | L26: =J26+I26 -> 0 | N26: =M26*$C26 -> 0 | O26: =M26+L26 -> 0 | Q26: =P26*$C26 -> 0 | R26: =P26+O26 -> 0 | T26: =S26*$C26 -> 0 | U26: =S26+R26 -> 0 | W26: =V26*$C26 -> 0 | X26: =V26+U26 -> 0 | Z26: =Y26*$C26 -> 0 | AA26: =Y26+X26 -> 0 | AC26: =AB26*$C26 -> 0 | AD26: =AB26+AA26 -> 0 | AF26: =AE26*$C26 -> 0 | AG26: =AE26+AD26 -> 0 | AI26: =AH26*$C26 -> 0 | AJ26: =AH26+AG26 -> 0 | AL26: =AK26*$C26 -> 0 | AM26: =AK26+AJ26 -> 0 | AO26: =AN26*$C26 -> 0 | AP26: =AN26+AM26 -> 0 | AQ26: 1 | AR26: =AQ26*$C26 -> 14117.51 | AS26: =AQ26+AP26 -> 1 | AU26: =AT26*$C26 -> 0 | AV26: =AT26+AS26 -> 1 | AX26: =AW26*$C26 -> 0 | AY26: =AW26+AV26 -> 1 | BA26: =AZ26*$C26 -> 0 | BB26: =AZ26+AY26 -> 1 | BD26: =BC26*$C26 -> 0 | BE26: =BC26+BB26 -> 1
A27: 15 | B27: =VLOOKUP(A27,'PLAN. ORÇAM.'!C31:K397,2) -> ELÉTRICO_LÓGICA_TELEFONE | C27: =VLOOKUP(A27,'PLAN. ORÇAM.'!C31:K397,9) -> 595936.67 | E27: =D27*C27 -> 0 | F27: =D27 -> 0 | H27: =G27*$C27 -> 0 | I27: =G27+F27 -> 0 | K27: =J27*$C27 -> 0 | L27: =J27+I27 -> 0 | N27: =M27*$C27 -> 0 | O27: =M27+L27 -> 0 | Q27: =P27*$C27 -> 0 | R27: =P27+O27 -> 0 | T27: =S27*$C27 -> 0 | U27: =S27+R27 -> 0 | W27: =V27*$C27 -> 0 | X27: =V27+U27 -> 0 | Z27: =Y27*$C27 -> 0 | AA27: =Y27+X27 -> 0 | AC27: =AB27*$C27 -> 0 | AD27: =AB27+AA27 -> 0 | AF27: =AE27*$C27 -> 0 | AG27: =AE27+AD27 -> 0 | AI27: =AH27*$C27 -> 0 | AJ27: =AH27+AG27 -> 0 | AL27: =AK27*$C27 -> 0 | AM27: =AK27+AJ27 -> 0 | AO27: =AN27*$C27 -> 0 | AP27: =AN27+AM27 -> 0 | AR27: =AQ27*$C27 -> 0 | AS27: =AQ27+AP27 -> 0 | AT27: 0.6 | AU27: =AT27*$C27 -> 357562 | AV27: =AT27+AS27 -> 0.6 | AW27: 0.4 | AX27: =AW27*$C27 -> 238374.67 | AY27: =AW27+AV27 -> 1 | BA27: =AZ27*$C27 -> 0 | BB27: =AZ27+AY27 -> 1 | BD27: =BC27*$C27 -> 0 | BE27: =BC27+BB27 -> 1
A28: 16 | B28: =VLOOKUP(A28,'PLAN. ORÇAM.'!C33:K398,2) -> PINTURAS | C28: =VLOOKUP(A28,'PLAN. ORÇAM.'!C33:K398,9) -> 317399.55 | E28: =D28*C28 -> 0 | F28: =D28 -> 0 | H28: =G28*$C28 -> 0 | I28: =G28+F28 -> 0 | K28: =J28*$C28 -> 0 | L28: =J28+I28 -> 0 | N28: =M28*$C28 -> 0 | O28: =M28+L28 -> 0 | Q28: =P28*$C28 -> 0 | R28: =P28+O28 -> 0 | T28: =S28*$C28 -> 0 | U28: =S28+R28 -> 0 | W28: =V28*$C28 -> 0 | X28: =V28+U28 -> 0 | Z28: =Y28*$C28 -> 0 | AA28: =Y28+X28 -> 0 | AC28: =AB28*$C28 -> 0 | AD28: =AB28+AA28 -> 0 | AF28: =AE28*$C28 -> 0 | AG28: =AE28+AD28 -> 0 | AI28: =AH28*$C28 -> 0 | AJ28: =AH28+AG28 -> 0 | AL28: =AK28*$C28 -> 0 | AM28: =AK28+AJ28 -> 0 | AO28: =AN28*$C28 -> 0 | AP28: =AN28+AM28 -> 0 | AQ28: 0.3 | AR28: =AQ28*$C28 -> 95219.87 | AS28: =AQ28+AP28 -> 0.3 | AT28: 0.5 | AU28: =AT28*$C28 -> 158699.78 | AV28: =AT28+AS28 -> 0.8 | AW28: 0.2 | AX28: =AW28*$C28 -> 63479.91 | AY28: =AW28+AV28 -> 1 | BA28: =AZ28*$C28 -> 0 | BB28: =AZ28+AY28 -> 1 | BD28: =BC28*$C28 -> 0 | BE28: =BC28+BB28 -> 1
A29: 17 | B29: =VLOOKUP(A29,'PLAN. ORÇAM.'!C34:K399,2) -> FORRO | C29: =VLOOKUP(A29,'PLAN. ORÇAM.'!C34:K399,9) -> 404671.28 | E29: =D29*C29 -> 0 | F29: =D29 -> 0 | H29: =G29*$C29 -> 0 | I29: =G29+F29 -> 0 | K29: =J29*$C29 -> 0 | L29: =J29+I29 -> 0 | N29: =M29*$C29 -> 0 | O29: =M29+L29 -> 0 | Q29: =P29*$C29 -> 0 | R29: =P29+O29 -> 0 | T29: =S29*$C29 -> 0 | U29: =S29+R29 -> 0 | W29: =V29*$C29 -> 0 | X29: =V29+U29 -> 0 | Z29: =Y29*$C29 -> 0 | AA29: =Y29+X29 -> 0 | AC29: =AB29*$C29 -> 0 | AD29: =AB29+AA29 -> 0 | AF29: =AE29*$C29 -> 0 | AG29: =AE29+AD29 -> 0 | AI29: =AH29*$C29 -> 0 | AJ29: =AH29+AG29 -> 0 | AL29: =AK29*$C29 -> 0 | AM29: =AK29+AJ29 -> 0 | AO29: =AN29*$C29 -> 0 | AP29: =AN29+AM29 -> 0 | AR29: =AQ29*$C29 -> 0 | AS29: =AQ29+AP29 -> 0 | AT29: 0.5 | AU29: =AT29*$C29 -> 202335.64 | AV29: =AT29+AS29 -> 0.5 | AW29: 0.5 | AX29: =AW29*$C29 -> 202335.64 | AY29: =AW29+AV29 -> 1 | BA29: =AZ29*$C29 -> 0 | BB29: =AZ29+AY29 -> 1 | BD29: =BC29*$C29 -> 0 | BE29: =BC29+BB29 -> 1
A30: 18 | B30: =VLOOKUP(A30,'PLAN. ORÇAM.'!C35:K400,2) -> PEÇAS COMPLEMENTARES | C30: =VLOOKUP(A30,'PLAN. ORÇAM.'!C35:K400,9) -> 50883.03 | E30: =D30*C30 -> 0 | F30: =D30 -> 0 | H30: =G30*$C30 -> 0 | I30: =G30+F30 -> 0 | K30: =J30*$C30 -> 0 | L30: =J30+I30 -> 0 | N30: =M30*$C30 -> 0 | O30: =M30+L30 -> 0 | Q30: =P30*$C30 -> 0 | R30: =P30+O30 -> 0 | T30: =S30*$C30 -> 0 | U30: =S30+R30 -> 0 | W30: =V30*$C30 -> 0 | X30: =V30+U30 -> 0 | Z30: =Y30*$C30 -> 0 | AA30: =Y30+X30 -> 0 | AC30: =AB30*$C30 -> 0 | AD30: =AB30+AA30 -> 0 | AF30: =AE30*$C30 -> 0 | AG30: =AE30+AD30 -> 0 | AI30: =AH30*$C30 -> 0 | AJ30: =AH30+AG30 -> 0 | AL30: =AK30*$C30 -> 0 | AM30: =AK30+AJ30 -> 0 | AO30: =AN30*$C30 -> 0 | AP30: =AN30+AM30 -> 0 | AR30: =AQ30*$C30 -> 0 | AS30: =AQ30+AP30 -> 0 | AT30: 0.5 | AU30: =AT30*$C30 -> 25441.52 | AV30: =AT30+AS30 -> 0.5 | AW30: 0.5 | AX30: =AW30*$C30 -> 25441.52 | AY30: =AW30+AV30 -> 1 | BA30: =AZ30*$C30 -> 0 | BB30: =AZ30+AY30 -> 1 | BD30: =BC30*$C30 -> 0 | BE30: =BC30+BB30 -> 1
A31: 19 | B31: =VLOOKUP(A31,'PLAN. ORÇAM.'!C37:K401,2) -> CALÇADA EXTERNA E GRAMA | C31: =VLOOKUP(A31,'PLAN. ORÇAM.'!C37:K401,9) -> 141848.85 | E31: =D31*C31 -> 0 | F31: =D31 -> 0 | H31: =G31*$C31 -> 0 | I31: =G31+F31 -> 0 | K31: =J31*$C31 -> 0 | L31: =J31+I31 -> 0 | N31: =M31*$C31 -> 0 | O31: =M31+L31 -> 0 | Q31: =P31*$C31 -> 0 | R31: =P31+O31 -> 0 | T31: =S31*$C31 -> 0 | U31: =S31+R31 -> 0 | W31: =V31*$C31 -> 0 | X31: =V31+U31 -> 0 | Z31: =Y31*$C31 -> 0 | AA31: =Y31+X31 -> 0 | AC31: =AB31*$C31 -> 0 | AD31: =AB31+AA31 -> 0 | AF31: =AE31*$C31 -> 0 | AG31: =AE31+AD31 -> 0 | AI31: =AH31*$C31 -> 0 | AJ31: =AH31+AG31 -> 0 | AL31: =AK31*$C31 -> 0 | AM31: =AK31+AJ31 -> 0 | AO31: =AN31*$C31 -> 0 | AP31: =AN31+AM31 -> 0 | AR31: =AQ31*$C31 -> 0 | AS31: =AQ31+AP31 -> 0 | AT31: 0.2 | AU31: =AT31*$C31 -> 28369.77 | AV31: =AT31+AS31 -> 0.2 | AW31: 0.8 | AX31: =AW31*$C31 -> 113479.08 | AY31: =AW31+AV31 -> 1 | BA31: =AZ31*$C31 -> 0 | BB31: =AZ31+AY31 -> 1 | BD31: =BC31*$C31 -> 0 | BE31: =BC31+BB31 -> 1
A32: 20 | B32: =VLOOKUP(A32,'PLAN. ORÇAM.'!C38:K402,2) -> FINALIZAÇÕES | C32: =VLOOKUP(A32,'PLAN. ORÇAM.'!C38:K402,9) -> 2531.57 | E32: =D32*C32 -> 0 | F32: =D32 -> 0 | H32: =G32*$C32 -> 0 | I32: =G32+F32 -> 0 | K32: =J32*$C32 -> 0 | L32: =J32+I32 -> 0 | N32: =M32*$C32 -> 0 | O32: =M32+L32 -> 0 | Q32: =P32*$C32 -> 0 | R32: =P32+O32 -> 0 | T32: =S32*$C32 -> 0 | U32: =S32+R32 -> 0 | W32: =V32*$C32 -> 0 | X32: =V32+U32 -> 0 | Z32: =Y32*$C32 -> 0 | AA32: =Y32+X32 -> 0 | AC32: =AB32*$C32 -> 0 | AD32: =AB32+AA32 -> 0 | AF32: =AE32*$C32 -> 0 | AG32: =AE32+AD32 -> 0 | AI32: =AH32*$C32 -> 0 | AJ32: =AH32+AG32 -> 0 | AL32: =AK32*$C32 -> 0 | AM32: =AK32+AJ32 -> 0 | AO32: =AN32*$C32 -> 0 | AP32: =AN32+AM32 -> 0 | AR32: =AQ32*$C32 -> 0 | AS32: =AQ32+AP32 -> 0 | AU32: =AT32*$C32 -> 0 | AV32: =AT32+AS32 -> 0 | AW32: 1 | AX32: =AW32*$C32 -> 2531.57 | AY32: =AW32+AV32 -> 1 | BA32: =AZ32*$C32 -> 0 | BB32: =AZ32+AY32 -> 1 | BD32: =BC32*$C32 -> 0 | BE32: =BC32+BB32 -> 1
A34: TOTAL SIMPLES EM R$ | C34: =SUM(C13:C33) -> 8850000 | E34: =SUM(E13:E32) -> 65563.33 | H34: =SUM(H13:H32) -> 360191.2 | K34: =SUM(K13:K32) -> 378659.6 | N34: =SUM(N13:N32) -> 382426.11 | Q34: =SUM(Q13:Q32) -> 408188.3 | T34: =SUM(T13:T32) -> 363548.08 | W34: =SUM(W13:W32) -> 437645.9 | Z34: =SUM(Z13:Z32) -> 591501.04 | AC34: =SUM(AC13:AC32) -> 650610.51 | AF34: =SUM(AF13:AF32) -> 910812.19 | AI34: =SUM(AI13:AI32) -> 404260.86 | AL34: =SUM(AL13:AL32) -> 398136.92 | AO34: =SUM(AO13:AO32) -> 788513.61 | AR34: =SUM(AR13:AR32) -> 669004.28 | AU34: =SUM(AU13:AU32) -> 1373154.7 | AX34: 667783.38 | BA34: =SUM(BA13:BA32) -> 0 | BD34: =SUM(BD13:BD32) -> 0
A35: TOTAL SIMPLES EM % | E35: =E34/$C$34 -> 0.0074 | H35: =H34/$C$34 -> 0.0407 | K35: =K34/$C$34 -> 0.0428 | N35: =N34/$C$34 -> 0.0432 | Q35: =Q34/$C$34 -> 0.0461 | T35: =T34/$C$34 -> 0.0411 | W35: =W34/$C$34 -> 0.0495 | Z35: =Z34/$C$34 -> 0.0668 | AC35: =AC34/$C$34 -> 0.0735 | AF35: =AF34/$C$34 -> 0.1029 | AI35: =AI34/$C$34 -> 0.0457 | AL35: =AL34/$C$34 -> 0.045 | AO35: =AO34/$C$34 -> 0.0891 | AR35: =AR34/$C$34 -> 0.0756 | AU35: =AU34/$C$34 -> 0.1552 | AX35: =AX34/$C$34 -> 0.0755 | BA35: =BA34/$C$34 -> 0 | BD35: =BD34/$C$34 -> 0
A36: TOTAL ACUMULADO EM R$ | D36: =D34 -> 0 | E36: =E34 -> 65563.33 | G36: =F34/$C$34 -> 0 | H36: =H34+E36 -> 425754.53 | J36: =I34/$C$34 -> 0 | K36: =K34+H36 -> 804414.13 | M36: =L34/$C$34 -> 0 | N36: =N34+K36 -> 1186840.2 | P36: =O34/$C$34 -> 0 | Q36: =Q34+N36 -> 1595028.5 | S36: =R34/$C$34 -> 0 | T36: =T34+Q36 -> 1958576.6 | V36: =U34/$C$34 -> 0 | W36: =W34+T36 -> 2396222.5 | Y36: =X34/$C$34 -> 0 | Z36: =Z34+W36 -> 2987723.6 | AB36: =AA34/$C$34 -> 0 | AC36: =AC34+Z36 -> 3638334.1 | AE36: =AD34/$C$34 -> 0 | AF36: =AF34+AC36 -> 4549146.3 | AH36: =AG34/$C$34 -> 0 | AI36: =AI34+AF36 -> 4953407.1 | AK36: =AJ34/$C$34 -> 0 | AL36: =AL34+AI36 -> 5351544 | AN36: =AM34/$C$34 -> 0 | AO36: =AO34+AL36 -> 6140057.7 | AQ36: =AP34/$C$34 -> 0 | AR36: =AR34+AO36 -> 6809061.9 | AT36: =AS34/$C$34 -> 0 | AU36: =AU34+AR36 -> 8182216.6 | AW36: =AV34/$C$34 -> 0 | AX36: =AX34+AU36 -> 8850000 | AZ36: =AY34/$C$34 -> 0 | BA36: =BA34+AX36 -> 8850000 | BC36: =BB34/$C$34 -> 0 | BD36: =BD34+BA36 -> 8850000
A37: TOTAL ACUMULADO EM % | H37: =H36/$C$34 -> 0.0481 | K37: =K36/$C$34 -> 0.0909 | N37: =N36/$C$34 -> 0.1341 | Q37: =Q36/$C$34 -> 0.1802 | T37: =T36/$C$34 -> 0.2213 | W37: =W36/$C$34 -> 0.2708 | Z37: =Z36/$C$34 -> 0.3376 | AC37: =AC36/$C$34 -> 0.4111 | AF37: =AF36/$C$34 -> 0.514 | AI37: =AI36/$C$34 -> 0.5597 | AL37: =AL36/$C$34 -> 0.6047 | AO37: =AO36/$C$34 -> 0.6938 | AR37: =AR36/$C$34 -> 0.7694 | AU37: =AU36/$C$34 -> 0.9245 | AX37: =AX36/$C$34 -> 1 | BA37: =BA36/$C$34 -> 1 | BD37: =BD36/$C$34 -> 1
B39: O CRONOGRAMA DEVERÁ SER ADEQUADO PELA CONSTRUTORA, MANTENDO-SE O PRAZO MÁXIMO DE 16 MESES
B40: LOCAL, DATA | G40: ENG./CREA-ASSINATURA

Sheet Plan1
B3: COMPOSIÇÃO 1 | H3: 72110
A4: 72110 | B4: ESTRUTURA METÁLICA | C4: m² | D4: 75.68 | H4: ESTRUTURA METALICA EM TESOURAS OU TRELICAS, VAO LIVRE DE 12M, FORNECIMENTO E
A5: 94216 | B5: TELHAMENTO | C5: m² | D5: 93.12 | H5: MONTAGEM, NAO SENDO CONSIDERADOS OS FECHAMENTOS METALICOS, AS COLUNAS, OS
H6: SERVICOS GERAIS EM ALVENARIA E CONCRETO, AS TELHAS DE COBERTURA E A PINTURA DE
H7: M2 61,52 14,16 75,68
H9: 94216 TELHAMENTO COM TELHA METÁLICA TERMOACÚSTICA E = 30 MM, COM ATÉ 2 ÁGUAS, INCLUSO M2 91,70 1,42 93,12

Sheet COMP 1_ESTRUTURA E TELHADO
C4: COMPOSIÇÃO 1
C5: Estrutura de Concreto Armado Pre-moldado e Cobertura em telha de aço/aço com isolante térmico
C9: ÁREA DE COBERTURA REAL INCLUSIVE BEIRAL | D9: COMPR | E9: LARG.REAL | F9: X | G9: TELHA M² | H9: TELHA TRANSL. (M²) | I9: CUMEEIRA (M) | J9: RUFO | K9: CALHA
B10: MAT | C10: TELHADO SUPERIOR | D10: =122+1.5 -> 123.5 | E10: 2.8 | F10: 2 | G10: =D10*E10*F10 -> 691.6
B11: MAT | C11: CUMEEIRA | D11: =D16 -> 123.5 | I11: =D11 -> 123.5
B12: MAT | C12: VERTICAL INTERIOR | D12: 122 | E12: 2.5 | F12: 2 | G12: =D12*E12*F12 -> 610
B13: MAT | C13: TELHA TRANSLUCIDA | D13: =D16 -> 123.5 | E13: 1 | F13: 2 | G13: =D13*E13*F13 -> 247 | H13: =G13 -> 247
B14: MAT | C14: RUFO | D14: 122 | F14: 2 | J14: =F14*D14 -> 244
B15: MAT | C15: CALHA | D15: 8 | K15: =D15 -> 8
B16: MAT | C16: TELHADO INFERIOR [DESCONTADO 48,0M² DO WC] | D16: =D10 -> 123.5 | E16: 8.8 | F16: 2 | G16: 2130
B17: MAT | C17: TELHADO VERTICAL DO BEIRAL | D17: =D16 -> 123.5 | E17: 0.4 | F17: 2 | G17: =F17*E17*D17 -> 98.8
B18: MAT | C18: TELHADO HORIZONTAL DO BEIRAL | D18: =D17+21.5 -> 145 | E18: 0.6 | F18: 2 | G18: =F18*E18*D18 -> 174
B19: MAT | C19: TELHA PARA EITÃO (FRENTE E FUNDOS) | G19: =39.6*2 -> 79.2
B20: MAT | C20: TELHA PARA EITÃO (desnível de 1,0m) | G20: 26.5
C21: SOMAS | G21: =SUM(G10:G20) -> 4057.1 | H21: =SUM(H10:H20) -> 247 | I21: =SUM(I10:I20) -> 123.5 | J21: =SUM(J10:J20) -> 244 | K21: =SUM(K10:K20) -> 8
B23: BIO | C23: ÁREA DE COBERTURA REAL INCLUSIVE BEIRAL | D23: COMPR | E23: LARG.REAL | F23: X | G23: TELHA M² | H23: TELHA TRANSL. (M²) | I23: CUMEEIRA (M) | J23: RUFO | K23: CALHA
B24: BIO | C24: TELHADO SUPERIOR | D24: =184.5+1.5 -> 186 | E24: 2.8 | F24: 2 | G24: =D24*E24*F24 -> 1041.6
B25: BIO | C25: CUMEEIRA | D25: =D30 -> 186 | I25: =D25 -> 186
B26: BIO | C26: VERTICAL INTERIOR | D26: 184.5 | E26: 2.5 | F26: 2 | G26: =D26*E26*F26 -> 922.5
B27: BIO | C27: TELHA TRANSLUCIDA | D27: =D30 -> 186 | E27: 1 | F27: 2 | G27: =D27*E27*F27 -> 372 | H27: =G27 -> 372
B28: BIO | C28: RUFO | D28: 184.5 | F28: 2 | J28: =F28*D28 -> 369
B29: BIO | C29: CALHA | D29: 6 | K29: =D29 -> 6
B30: BIO | C30: TELHADO INFERIOR [DESCONTADO 32,0M² DO WC] | D30: =D24 -> 186 | E30: 8.8 | F30: 2 | G30: =3242 -> 3242
B31: BIO | C31: TELHADO VERTICAL DO BEIRAL | D31: =D30 -> 186 | E31: 0.4 | F31: 2 | G31: =F31*E31*D31 -> 148.8
B32: BIO | C32: TELHADO HORIZONTAL DO BEIRAL | D32: =D31+21.5 -> 207.5 | E32: 0.6 | F32: 2 | G32: =F32*E32*D32 -> 249
B33: BIO | C33: TELHA PARA EITÃO (FRENTE E FUNDOS) | G33: =39.6*2 -> 79.2
B34: BIO | C34: TELHA PARA EITÃO (desnível de 0,6m - 3X) | G34: 39
C35: SOMAS | G35: =SUM(G24:G34) -> 6094.1 | H35: =SUM(H24:H34) -> 372 | I35: =SUM(I24:I34) -> 186 | J35: =SUM(J24:J34) -> 369 | K35: =SUM(K24:K34) -> 6
C37: TOTAIS | G37: =G35+G21 -> 10151.2 | H37: =H35+H21 -> 619 | I37: =I35+I21 -> 309.5 | J37: =J35+J21 -> 613 | K37: =K35+K21 -> 14
C39: COMP. 1-A
C40: ÁREA DO TELHADO EM PROJEÇÃO: | D40: COMPR.(m) | E40: LARG.(m) | F40: ÁREA (m²)
C41: BLOCO MATEMÁTICA_PÓS-GRADUAÇÃO | D41: 123.5 | E41: =20+1.5 -> 21.5 | F41: =E41*D41 -> 2655.3
C42: ÁREA DE LAJE (CASA DO RESERVATÓRIO) | D42: 8 | E42: 6 | F42: =(-1)*E42*D42 -> -48
C43: BLOCO BIOLOGIA_GEOGRAFIA | D43: =185+1.5 -> 186.5 | E43: =E41 -> 21.5 | F43: =E43*D43 -> 4009.8
C44: ÁREA DE LAJE (CASA DO RESERVATÓRIO) | D44: 8 | E44: 4 | F44: =(-1)*E44*D44 -> -32
C45: ÁREA TOTAL EM PROJEÇÃO DE COBERTURA EM TELHA DE AÇO | F45: =SUM(F41:F44) -> 6585.1
C47: BARRACÃO PRE-MOLDADO - ESTRUTURA E COBERTURA | D47: CIMENTEC | F47: MARIO A OLIVEIRA | G47: METACIL | H47: BLOCO BIO | I47: BLOCO MAT | J47: SOMA
C48: ESTRUTURA | E48: SERPELLONI | H48: 335244 | I48: 224480 | J48: =SUM(H48:I48) -> 559724
C49: Escavação para fundação
C50: Sapatas de concreto armado
...

Sheet COMP2_DIVISORIAAS
A3: COMP 2
B4: GESSO ACARTONADO
B5: LOCAL | C5: porta 80x210 | D5: Comp. (L) | E5: Alt (H) | F5: Rodapé
A8: MATEMATICA | B8: LAB.T.ED. | D8: 8 | E8: 3.5 | F8: =D8*2 -> 16
A9: MATEMATICA | B9: LAB.P.A.P | D9: 8 | E9: 3.5 | F9: =D9*2 -> 16
A10: MATEMATICA | B10: LAB.MAT.AP. | D10: 8 | E10: 3.5 | F10: =D10*2 -> 16
A11: MATEMATICA | B11: LAB.MAT. | D11: 8 | E11: 3.5 | F11: =D11*2 -> 16
A13: MATEMATICA | B13: Coor. Curso | C13: 1 | D13: =8+6 -> 14 | E13: 3.5 | F13: =D13*2 -> 28
A14: MATEMATICA | B14: LAB.FISICA | D14: 8 | E14: 3.5 | F14: =D14*2 -> 16
A15: MATEMATICA | B15: LAB. GEOM. | D15: 8 | E15: 3.5 | F15: =D15*2 -> 16
A16: MATEMATICA | B16: sala per. Doc. | D16: 8 | E16: 3.5 | F16: =D16*2 -> 16
F17: =D17*2 -> 0
A18: PÓS-GRAD. | B18: COPA | D18: =8+3 -> 11 | E18: 3.5 | F18: =D18*2 -> 22
A19: PÓS-GRAD. | B19: ARQUIVO | C19: 1 | D19: 8 | E19: 3.5 | F19: =D19*2 -> 16
A20: PÓS-GRAD. | B20: SECRET. | C20: 1 | D20: 6 | E20: 1 | F20: =D20*2 -> 12
A22: GEOGRAFIA | B22: COORD. | C22: 1 | D22: =8+5.2 -> 13.2 | E22: 3.5 | F22: =D22*2 -> 26.4
A23: GEOGRAFIA | B23: LAB. CART | D23: 8 | E23: 3.5 | F23: =D23*2 -> 16
A24: GEOGRAFIA | B24: S. PROF. 3 | D24: 8 | E24: 3.5 | F24: =D24*2 -> 16
A25: GEOGRAFIA | B25: LAB.ENS.GEO. | D25: 8 | E25: 3.5 | F25: =D25*2 -> 16
A26: GEOGRAFIA | B26: LAB.GEOPROC. | D26: 8 | E26: 3.5 | F26: =D26*2 -> 16
A27: GEOGRAFIA | B27: LAB.ENS.GEO. | D27: 8 | E27: 3.5 | F27: =D27*2 -> 16
A28: GEOGRAFIA | B28: LAGEFA | D28: 8 | E28: 3.5 | F28: =D28*2 -> 16
A30: BIOLOGIA | B30: LAB.ENS.ZOO.
A31: BIOLOGIA | B31: LAB.ENS.MICR.
A32: BIOLOGIA | B32: COORD.CURSO | D32: =8.5+5.4 -> 13.9 | E32: 3.5 | F32: =D32*2 -> 27.8
A33: BIOLOGIA | B33: S.PROF. | D33: 6 | E33: 3.5 | F33: =D33*2 -> 12
A35: BIOLOGIA | B35: LAB.ENS.BOT. | D35: 8 | E35: 3.5 | F35: =D35*2 -> 16
A36: BIOLOGIA | B36: LAB.ENS.ANAT. | D36: 8 | E36: 3.5 | F36: =D36*2 -> 16
A37: BIOLOGIA | B37: LAB.ENS. | D37: 8 | E37: 3.5 | F37: =D37*2 -> 16
F38: =D38*2 -> 0
A39: BIOLOGIA | B39: LAB. GEN. | D39: 8 | E39: 3.5 | F39: =D39*2 -> 16
A40: BIOLOGIA | B40: COLEÇÃO PEIXES | D40: 8 | E40: 3.5 | F40: =D40*2 -> 16
A41: BIOLOGIA | B41: ECOL. | D41: 8 | E41: 3.5 | F41: =D41*2 -> 16
A42: BIOLOGIA | B42: FISIOL. | D42: 8 | E42: 3.5 | F42: =D42*2 -> 16
F43: =D43*2 -> 0
A44: BIOLOGIA | B44: BOTANICA | D44: 8 | E44: 3.5 | F44: =D44*2 -> 16
A45: BIOLOGIA | B45: CONTROLE | D45: 8 | E45: 3.5 | F45: =D45*2 -> 16
A46: BIOLOGIA | B46: MICROB. | D46: 8 | E46: 3.5 | F46: =D46*2 -> 16
A47: BIOLOGIA | B47: LIMNOL. | D47: 8 | E47: 3.5 | F47: =D47*2 -> 16
A48: BIOLOGIA | B48: FREEZER | D48: 8 | E48: 3.5 | F48: =D48*2 -> 16
...

Sheet BANCADAS
B3: BANCADAS
B4: COD. | C4: COMPR. | D4: LARGURA | E4: ALTURA | F4: ACESSÓRIOS | G4: QUANT. | H4: m²
J5: ALVENARIA | K5: =1.5*4 -> 6 | L5: 110 | M5: =L5*K5 -> 660
B6: BC1 | C6: 450 | D6: 100 | E6: 80 | G6: 3 | H6: =C6*D6*G6/10000 -> 13.5 | J6: CHAPISCO/EMBOÇO | K6: 12 | L6: 28.53 | M6: =L6*K6 -> 342.36
B7: BC2 | C7: 450 | D7: 80 | E7: 80 | F7: 1 CB 40x34x14 | G7: 15 | H7: =C7*D7*G7/10000 -> 54 | J7: TAMPO DE MÁRMORE | M7: =264.92*4 -> 1059.68 | O7: 11692 | P7: SINAP
B8: BC3 | C8: 600 | D8: 100 | E8: 80 | G8: 3 | H8: =C8*D8*G8/10000 -> 18 | M8: =SUM(M5:M7) -> 2062.04 | O8: 00011692 BANCADA/ BANCA EM MARMORE, POLIDO, BRANCO COMUM, E= *3* CM M2 CR 264,62
B9: BC4 | C9: 600 | D9: 120 | E9: 80 | F9: T: 127V/220V | G9: 3 | H9: =C9*D9*G9/10000 -> 21.6
H10: =C10*D10*G10/10000 -> 0
B11: BC5 | C11: 450 | D11: 100 | E11: 80 | F11: T: 127V/220V; LG | G11: 6 | H11: =C11*D11*G11/10000 -> 27
B12: BC6 | C12: 600 | D12: 80 | E12: 80 | G12: 3 | H12: =C12*D12*G12/10000 -> 14.4
H13: =C13*D13*G13/10000 -> 0
B14: BC7 | C14: 450 | D14: 80 | E14: 80 | G14: 6 | H14: =C14*D14*G14/10000 -> 21.6
B15: BC8 | C15: 300 | D15: 100 | E15: 80 | F15: T: 127V/220V; LG | G15: 4 | H15: =C15*D15*G15/10000 -> 12
B16: BC9 | C16: 280 | D16: 100 | E16: 80 | G16: 2 | H16: =C16*D16*G16/10000 -> 5.6
B17: BC10 | C17: 450 | D17: 100 | E17: 80 | F17: 2 CB 50X40X40 | G17: 1 | H17: =C17*D17*G17/10000 -> 4.5
B18: BC11 | C18: 450 | D18: 100 | E18: 80 | F18: 1 CB 40x34x14+1 CB 50X40X40 | G18: 3 | H18: =C18*D18*G18/10000 -> 13.5
B19: BC12 | C19: 750 | D19: 80 | E19: 80 | F19: 1 CB 40x34x14 | G19: 1 | H19: =C19*D19*G19/10000 -> 6
B20: BC13 | C20: 600 | D20: 80 | E20: 80 | F20: 1 CB 40x34x14+1 CB 50X40X40 | G20: 1 | H20: =C20*D20*G20/10000 -> 4.8
B21: BC14 | C21: 300 | D21: 80 | E21: 80 | G21: 3 | H21: =C21*D21*G21/10000 -> 7.2
B22: BC15 | C22: 750 | D22: 80 | E22: 80 | F22: 1 CB 40x34x14+1 CB 50X40X40 | G22: 1 | H22: =C22*D22*G22/10000 -> 6
B23: BC16 | C23: 150 | D23: 80 | E23: 80 | F23: 1 CB 40x34x14 | G23: 1 | H23: =C23*D23*G23/10000 -> 1.2
B24: BC17 | C24: 150 | D24: 60 | E24: 90 | G24: 1 | H24: =C24*D24*G24/10000 -> 0.9
B25: BC18 | C25: 300 | D25: 60 | E25: 90 | F25: 2 CB 40x34x14 | G25: 1 | H25: =C25*D25*G25/10000 -> 1.8
B26: BC19 | C26: 300 | D26: 80 | E26: 80 | F26: 1 CB 40x34x14 | H26: =C26*D26*G26/10000 -> 0
B27: BC20 | C27: 500 | D27: 80 | E27: 80 | G27: 4 | H27: =C27*D27*G27/10000 -> 16
H28: =SUM(H6:H27) -> 249.6 | I28: m² | J28: =SUM(G6:G28) -> 62 | K28: =J28*1200 -> 74400
B29: BC = BANCADA
B30: CB = CUBA INOX
B31: T = TOMADA ELÉTRICA
B32: LG = TOMADA LÓGICA
B34: BB | C34: BEBEDOURO DE ÁGUA, 127V | G34: 6
B35: BAP | C35: BARRA DE APOIO - D = 5cm, L= 60cm , METAL CROMADO | G35: 10
B36: BS | C36: BACIA SANITÁRIA | G36: 48
B37: CH | C37: CHUVEIRO ELÉTRICO 127V | G37: 10
B38: DGA | C38: DIVISÓRIA GESSO ACARTONADO C/ ISOL. ACÚST., H=3,50m
B39: DN | C39: DIVISÓRIA NAVAL, H=3,50m
B40: DS | C40: DIVISÓRIA SANITÁRIA, H=1,90m
B41: ED1 | C41: QUADRO DE EDITAL, 80X90cm | G41: 58
B42: QD | C42: QUADRO DE GIZ, VERDE QUADRICULADO, COM MOLDURA DE | G42: 29
C43: MADEIRA OU CANTONEIRA DE ALUMÍNIO
...

Sheet COMP 3 quadro giz_divisoria
B4: comp 4
B5: Quadro Verde Quadriculado Tam. 400x120 cmLaminado Melamínico texturizado, verde, quadriculado (5x5cm) sobre chapa de MDF - Moldura em alumínio - suporte de Apagador ao longo de toda extensão do quadro.
B8: LousaTec | C8: 960
B9: Corti Arte | C9: 854.63
B10: Board Solutions | C10: 810
C11: =SUM(C8:C10) -> 2624.63
B12: média = | C12: =C11/3 -> 874.88
B15: COMP .2 | C15: M²
B16: divisória gesso acartonado | C16: PAREDE | D16: ISOL. | F16: PORTA COMPLETA( BATENTE , FECHADURA,DOBRADIÇA)
B17: JS FORROS E DIVISÓRIAS | C17: 78 | D17: 31.5 | E17: =SUM(C17:D17) -> 109.5 | F17: 430
B18: PLANEJE | C18: 78 | D18: 20 | E18: =SUM(C18:D18) -> 98 | F18: 380
B19: WR GESSO E DECORAÇÃO | E19: 105 | F19: 460
D20: SOMA | E20: =SUM(E17:E19) -> 312.5 | F20: =SUM(F17:F19) -> 1270
D21: MÉDIA | E21: =E20/3 -> 104.16667 | F21: =F20/3 -> 423.33333
F22: 423.35

Sheet COMP4_PASSARELA
C2: COMP.4
C3: COMPOSIÇÃO DE PREÇOS PARA UM MÓDULO DE 2,0X2,5M, ALTURA 2,2M
C4: PÉ DIREITO [tubo redondo 2mm Ø 50mm] | D4: M | E4: PESO(KG) | F4: peso | G4: R$/kg | H4: R$-ítem
B5: 92593 | C5: (COMPOSIÇÃO REPRESENTATIVA) FABRICAÇÃO E INSTALAÇÃO DE TESOURA INTEIRA EM AÇO, PARA VÃOS DE 3 A 12 M E PARA QUALQUER TIPO DE TELHA, INCLUSO IÇAMENTO. AF_12/2015 | D5: 7.5 | E5: 2.41 | F5: =E5*D5 -> 18.08 | G5: 7 | H5: =G5*F5 -> 126.56
C7: ARCO [tubo retangular [60x60X2MM] | D7: M | E7: PESO(KG) | F7: peso | G7: R$/kg | H7: R$-ítem
B8: 92593 | C8: (COMPOSIÇÃO REPRESENTATIVA) FABRICAÇÃO E INSTALAÇÃO DE TESOURA INTEIRA EM AÇO, PARA VÃOS DE 3 A 12 M E PARA QUALQUER TIPO DE TELHA, INCLUSO IÇAMENTO. AF_12/2015 | D8: 7.5 | E8: =16.4/6 -> 2.73 | F8: =E8*D8 -> 20.48 | G8: =G5 -> 7 | H8: =G8*F8 -> 143.36
C10: COBERTURA EM TELHA DE AÇO GALVANIZADO GALVALUME
D11: M² | G11: R$/m²
B12: 94213 | C12: TELHAMENTO COM TELHA DE AÇO/ALUMÍNIO E = 0,5 MM, COM ATÉ 2 ÁGUAS, INCLUSO IÇAMENTO | D12: 5 | G12: 35.15 | H12: =G12*D12 -> 175.75
D14: Preço de um módulo de 2,5x5,0m | G14: = | H14: =SUM(H5:H12) -> 445.67
D15: Preço médio por m² sem BDI | G15: = | H15: =H14/5 -> 89.13
D16: Preço médio por m² com BDI de 30% | G16: = | H16: =H15*1.3 -> 115.87
D18: Preço médio por m² com arredondamento = | H18: 120
C20: REFERÊNCIA: SINAP - SEIL/PRED 002/2017

Sheet ELETRICA_LOG_TEL
I2: SOMAS
B3: Lista de materiais ELETRICO MAT POS | E3: Lista de materiais ELETRICO BIOLOGIA_GEOGRAFIA | I3: Lista de materiais ELETRICO BIOLOGIA_GEOGRAFIA _MATEMÁTICA_PÓS-GRADUAÇÃO
B5: Elétrica - Acessórios p/ eletrodutos | E5: Elétrica - Acessórios p/ eletrodutos | I5: Elétrica - Acessórios p/ eletrodutos
B7: Caixa | E7: Caixa | I7: Caixa
B8: 4x2" | C8: 3 | D8: pç | E8: 4x2" | F8: 104 | G8: pç | I8: 4x2" | J8: =IF(F8="","-",F8+C8) -> 107 | K8: pç
J9: =IF(F9="","-",F9+C9) -> -
E10: Curva 90º PVC longa rosca | I10: Curva 90º PVC longa rosca | J10: =IF(F10="","-",F10+C10) -> -
E11: 1.1/2" | F11: 2 | G11: pç | I11: 1.1/2" | J11: =IF(F11="","-",F11+C11) -> 2 | K11: pç
E12: Luva PVC rosca | I12: Luva PVC rosca | J12: =IF(F12="","-",F12+C12) -> -
E13: 1.1/2" | F13: 5 | G13: pç | I13: 1.1/2" | J13: =IF(F13="","-",F13+C13) -> 5 | K13: pç
B14: Luva aço galvan. leve | E14: Luva aço galvan. leve | I14: Luva aço galvan. leve | J14: =IF(F14="","-",F14+C14) -> -
B15: 1" | C15: 330 | D15: pç | E15: 1" | F15: 270 | I15: 1" | J15: =IF(F15="","-",F15+C15) -> 600
B16: 1.1/2" | C16: 2 | D16: pç | E16: 1.1/2" | F16: 75 | G16: pç | I16: 1.1/2" | J16: =IF(F16="","-",F16+C16) -> 77 | K16: pç
E17: Luva aço galvan. pesado | I17: Luva aço galvan. pesado | J17: =IF(F17="","-",F17+C17) -> -
E18: 1.1/2" | F18: 4 | G18: pç | I18: 1.1/2" | J18: =IF(F18="","-",F18+C18) -> 4 | K18: pç
J19: =IF(F19="","-",F19+C19) -> -
B20: Elétrica - Cabo Unipolar (cobre) | E20: Elétrica - Cabo Unipolar (cobre) | I20: Elétrica - Cabo Unipolar (cobre) | J20: =IF(F20="","-",F20+C20) -> -
B21: Isol.HEPR - ench.EVA - 0,6/1kV (ref. Pirelli Afumex) | E21: Isol.HEPR - ench.EVA - 0,6/1kV (ref. Pirelli Afumex) | I21: Isol.HEPR - ench.EVA - 0,6/1kV (ref. Pirelli Afumex) | J21: =IF(F21="","-",F21+C21) -> -
B22: 1.5 mm² | C22: 2200 | D22: m | E22: 1.5 mm² | F22: 1660 | G22: m | I22: 1.5 mm² | J22: =IF(F22="","-",F22+C22) -> 3860 | K22: m | L22: 1.5 mm² | M22: =[1]Plan1!$J$29 -> 3860 | N22: m
B23: 10 mm² | C23: 1800 | D23: m | E23: 10 mm² | F23: 4030 | G23: m | I23: 10 mm² | J23: =IF(F23="","-",F23+C23) -> 5830 | K23: m | L23: 10 mm² | M23: =[1]Plan1!$J$30 -> 5830 | N23: m
B24: 16 mm² | C24: 750 | D24: m | E24: 16 mm² | F24: 1670 | G24: m | I24: 16 mm² | J24: =IF(F24="","-",F24+C24) -> 2420 | K24: m | L24: 16 mm² | M24: =[1]Plan1!$J$31 -> 2420 | N24: m
B25: 2.5 mm² | C25: 5060 | D25: m | E25: 2.5 mm² | F25: 6750 | G25: m | I25: 2.5 mm² | J25: =IF(F25="","-",F25+C25) -> 11810 | K25: m | L25: 2.5 mm² | M25: =[1]Plan1!$J$32 -> 11810 | N25: m
B26: 25 mm² | C26: 1380 | D26: m | E26: 25 mm² | F26: 965 | G26: m | I26: 25 mm² | J26: =IF(F26="","-",F26+C26) -> 2345 | K26: m | L26: 25 mm² | M26: =[1]Plan1!$J$33 -> 2345 | N26: m
B27: 4 mm² | C27: 1720 | D27: m | E27: 4 mm² | F27: 2030 | G27: m | I27: 4 mm² | J27: =IF(F27="","-",F27+C27) -> 3750 | K27: m | L27: 4 mm² | M27: =[1]Plan1!$J$34 -> 3750 | N27: m
B28: 6 mm² | C28: 780 | D28: m | E28: 6 mm² | F28: 870 | G28: m | I28: 6 mm² | J28: =IF(F28="","-",F28+C28) -> 1650 | K28: m | L28: 6 mm² | M28: =[1]Plan1!$J$35 -> 1650 | N28: m
B29: Elétrica - Caixa de passagem - embutir | E29: Elétrica - Caixa de passagem - embutir | I29: Elétrica - Caixa de passagem - embutir | J29: =IF(F29="","-",F29+C29) -> -
E30: Alvenaria | I30: Alvenaria | J30: =IF(F30="","-",F30+C30) -> -
B31: 400x400x400mm | C31: 20 | D31: pç | E31: 400x400x400mm | F31: 8 | G31: pç | I31: 400x400x400mm | J31: =IF(F31="","-",F31+C31) -> 28 | K31: pç
B32: Tampa 400x400x50mm | C32: 20 | D32: pç | E32: Tampa 400x400x50mm | F32: 8 | G32: pç | I32: Tampa 400x400x50mm | J32: =IF(F32="","-",F32+C32) -> 28 | K32: pç
J33: =IF(F33="","-",F33+C33) -> -
J34: =IF(F34="","-",F34+C34) -> -
E35: Elétrica - Caixa de passagem - sobrepor | I35: Elétrica - Caixa de passagem - sobrepor | J35: =IF(F35="","-",F35+C35) -> -
E36: Aço pintada (ref Brum) | I36: Aço pintada (ref Brum) | J36: =IF(F36="","-",F36+C36) -> -
B37: Aço pintada (ref Brum) | E37: 150x150x80 mm | F37: 24 | G37: pç | I37: 150x150x80 mm | J37: =IF(F37="","-",F37+C37) -> 24 | K37: pç
B38: 200x200x100 mm | C38: 54 | D38: pç | E38: 200x200x100 mm | F38: 10 | G38: pç | I38: 200x200x100 mm | J38: =IF(F38="","-",F38+C38) -> 64 | K38: pç
E39: Aço pintada (ref Lukbox) | I39: Aço pintada (ref Lukbox) | J39: =IF(F39="","-",F39+C39) -> -
E40: 150x150x80 mm | F40: 10 | G40: pç | I40: 150x150x80 mm | J40: =IF(F40="","-",F40+C40) -> 10 | K40: pç
E41: 200x200x100 mm | F41: 15 | G41: pç | I41: 200x200x100 mm | J41: =IF(F41="","-",F41+C41) -> 15 | K41: pç
E42: PVC (ref Cemar) | I42: PVC (ref Cemar) | J42: =IF(F42="","-",F42+C42) -> -
E43: 150x150x68 mm | F43: 10 | G43: pç | I43: 150x150x68 mm | J43: =IF(F43="","-",F43+C43) -> 10 | K43: pç
...

Sheet REVISÕES 
B2: PAREDES DE ALVENARIA (+) | F2: PAREDE 20 | G2: PAREDE 15 | J2: PAREDES DE ALVENARIA (-) | P2: ELETRICO
B3: 122 | C3: =-2-4-2-2 -> -10 | D3: =B3+C3 -> 112 | E3: 3.2 | F3: =E3*D3 -> 358.4 | J3: JANELAS
B4: 122 | C4: =-2-4-2-2 -> -10 | D4: =B4+C4 -> 112 | E4: 3.2 | F4: =E4*D4 -> 358.4 | J4: JF1 | K4: 2.5 | L4: 1.5 | M4: 122 | N4: =M4*L4*K4 -> 457.5
B5: 122 | C5: =-2-4-2-2 -> -10 | D5: =B5+C5 -> 112 | E5: 3.2 | F5: =E5*D5 -> 358.4 | J5: JF2 | K5: 2.5 | L5: 0.5 | M5: 114 | N5: =M5*L5*K5 -> 142.5
B6: 122 | C6: =-2-4-2-2 -> -10 | D6: =B6+C6 -> 112 | E6: 3.2 | F6: =E6*D6 -> 358.4 | J6: JF3 | K6: 1.5 | L6: 1 | M6: 7 | N6: =M6*L6*K6 -> 10.5
C7: 15 | D7: 8 | E7: 3.2 | G7: =E7*D7*C7 -> 384 | J7: JF4 | K7: 1 | L7: 1 | M7: 7 | N7: =M7*L7*K7 -> 7
C8: 9 | D8: 8 | E8: 3.2 | G8: =E8*D8*C8 -> 230.4 | J8: JF5 | K8: 2 | L8: 1 | M8: 13 | N8: =M8*L8*K8 -> 26
B11: 185 | C11: -16 | D11: =B11-C11 -> 201 | E11: 3.2 | F11: =E11*D11 -> 643.2 | J11: PORTAS
B12: 185 | C12: -16 | D12: =B12-C12 -> 201 | E12: 3.2 | F12: =E12*D12 -> 643.2 | J12: PM1 | K12: 0.8 | L12: 2.1 | M12: 67 | N12: =M12*L12*K12 -> 112.56
B13: 185 | C13: -16 | D13: =B13-C13 -> 201 | E13: 3.2 | F13: =E13*D13 -> 643.2 | J13: PA1 | K13: 1.5 | L13: 2.1 | M13: 1 | N13: =M13*L13*K13 -> 3.15
B14: 185 | C14: -16 | D14: =B14-C14 -> 201 | E14: 3.2 | F14: =E14*D14 -> 643.2 | J14: PA2 | K14: 2 | L14: 3.1 | M14: 1 | N14: =M14*L14*K14 -> 6.2
C15: 17 | D15: 8 | E15: 3.2 | G15: =E15*D15*C15 -> 435.2 | J15: PA3 | K15: 1.5 | L15: 3.1 | M15: 12 | N15: =M15*L15*K15 -> 55.8
C16: 16 | D16: 8 | E16: 3.2 | G16: =E16*D16*C16 -> 409.6
N18: =SUM(N4:N15) -> 821.21
B19: PAREDES DE ALVENARIA (+) | E19: RESERVATÓRIOS
B20: RESERV. MATEMATICA = 7,5*6,5
B21: RESERV BIOLOGIA = 7,5*4
C22: 2 | D22: 6.5 | E22: 3.5 | F22: =E22*D22*C22 -> 45.5
C23: 2 | D23: 7.5 | E23: 3.5 | F23: =E23*D23*C23 -> 52.5
C25: 2 | D25: 4 | E25: 3.5 | F25: =E25*D25*C25 -> 28
C26: 2 | D26: 7.5 | E26: 3.5 | F26: =E26*D26*C26 -> 52.5
B33: SOMAS | F33: =SUM(F3:F26) -> 4184.9 | G33: =SUM(G3:G26) -> 1459.2
B34: PAREDE 20 + PAREDE 15 | G34: =F33+G33 -> 5644.1
B35: DESCONTO JANELAS/PORTAS | G35: =821.21*(-1) -> -821.21
B36: AREA REAL DE ALVENARIA | G36: =G34+G35 -> 4822.89 | I36: =F33+G35 -> 3363.69
B38: CHAPISCO/EMBOÇO( PAREDES) | G38: =G36*2 -> 9645.78
B39: CHAPISCO/EMBOÇO( LAJES) | G39: 160
B40: CHAPISCO/EMBOÇO(TOTAL) | G40: =SUM(G38:G39) -> 9805.78
F41: CHAPISCO/EMBOÇO(TOTAL) | G41: 9805.78
