Workbook

Sheet ORÇAMENTO
B5: CAMPUS: | C5: CLM
B7: OBRA: | C7: APRISCO
B8: LOCAL: | C8: VETERINÁRIA
B9: TIPO: | C9: CONSTRUÇÃO_BARRACÃO
B10: DIMENSÃO: | C10: 9X20m = 180,0m²
B11: VALOR MÁX.:
C13: ORÇAMENTO
H14: R$ TOTAL= | I14: =SUM(I17:I66) -> 60000.001
G15: BDI = | H15: 0.3
A16: ítem | B16: COD. | D16: qde. | E16: unid. | F16: R$ -unit | G16: R$ (S/BDI) | H16: R$ (C/BDI) | I16: R$_ÍTEM
A17: 1 | C17: PRELIMINARES | I17: =H19 -> 399.33
A18: 1.1 | C18: PRELIMINARES
C19: LIMPEZA _REGULARIZAÇÃO DO TERRENO | D19: 200 | E19: m² | H19: 399.33 | M19: =D19*F19*1.3 -> 0
A20: 2 | C20: BARRACÃO PRE-MOLDADO COBERTO | G20: =F20*D20 -> 0 | H20: =($H$15+1)*G20 -> 0 | I20: =H21 -> 35100
A21: 2.1 | C21: Barracão (9x20)m, pilares de concreto armado 30X30cm a cada 5 m, estrutura da cobertura -tesouras e terças - em perfis "U" e "L" metálicos, pintados, telhado e fechamento dos eitões em telha de metal galvalume 0,4mm, fornecimento e montagem | D21: 180 | E21: m² | F21: 150 | G21: =F21*D21 -> 27000 | H21: =($H$15+1)*G21 -> 35100
A22: 3 | C22: ALVENARIA DE TIJOLOS E LAJE DO TETO | G22: =F22*D22 -> 0 | H22: =($H$15+1)*G22 -> 0 | I22: =SUM(H25:H33) -> 9269.676 | K22: =SUM(J25:J34) -> 0
C23: 87509 ALVENARIA DE VEDAÇÃO DE BLOCOS CERÂMICOS FURADOS NA HORIZONTAL DE 14X9X19CM (ESPESSURA 14CM, BLOCO DEITADO) DE PAREDES COM ÁREA LÍQUIDA MAIO M2 AS 98,29 | G23: =F23*D23 -> 0 | H23: =($H$15+1)*G23 -> 0
A24: 3.1 | B24: 87473 | C24: Parede em alvenaria, tijolo furado assentado a chato (e=14cm) | G24: =F24*D24 -> 0 | H24: =($H$15+1)*G24 -> 0
C25: PAREDE DO ESCRITÓRIO (h=2,70m) - tijolo aparente | D25: 33.6 | E25: m² | F25: 51.6 | G25: =F25*D25 -> 1733.76 | H25: =($H$15+1)*G25 -> 2253.888
C26: PAREDE DO DEPÓSITO (h=2,70m) - tijolo aparente | D26: 33.6 | E26: m² | F26: =F25 -> 51.6 | G26: =F26*D26 -> 1733.76 | H26: =($H$15+1)*G26 -> 2253.888
C27: LAJE PRE-MOLD BETA 11 P/1KN/M2 VAOS 4,40M/INCL VIGOTAS TIJOLOS ARMADURURA INCLUSO | G27: =F27*D27 -> 0 | H27: =($H$15+1)*G27 -> 0
C28: MASSA ÚNICA, PARA RECEBIMENTO DE PINTURA, EM ARGAMASSA TRAÇO 1:2:8 | G28: =F28*D28 -> 0 | H28: =($H$15+1)*G28 -> 0
A29: 3.2 | C29: Laje teto em concreto pré moldado, chapiscado e emboçado | G29: =F29*D29 -> 0 | H29: =($H$15+1)*G29 -> 0
B30: 87530 | C30: LAJE TETO DO ESCRITÓRIO (chapiscado e emboçado) | D30: 9 | E30: m² | F30: 31.5 | G30: =F30*D30 -> 283.5 | H30: =($H$15+1)*G30 -> 368.55
B31: 87530 | C31: LAJE TETO DO DEPÓSITO (chapiscado e emboçado) | D31: 9 | E31: m² | F31: =F30 -> 31.5 | G31: =F31*D31 -> 283.5 | H31: =($H$15+1)*G31 -> 368.55
A32: 3.4 | C32: Parede em alvenaria, tijolo furado assentado a chato (e=14cm) | G32: =F32*D32 -> 0 | H32: =($H$15+1)*G32 -> 0
B33: 87509 | C33: PAREDE DO APRISCO (h=1,5m) - tijolo aparente | D33: =40*1.5 -> 60 | E33: m² | F33: =F25 -> 51.6 | G33: =F33*D33 -> 3096 | H33: =($H$15+1)*G33 -> 4024.8
G34: =F34*D34 -> 0 | H34: =($H$15+1)*G34 -> 0
A35: 4 | C35: ESQUADRIAS METÁLICAS | G35: =F35*D35 -> 0 | H35: =($H$15+1)*G35 -> 0 | I35: =SUM(H36:H39) -> 4349.28 | K35: =SUM(J36:J39) -> 0
A36: 4.1 | C36: PORTÃO DE FERRO, DE ABRIR, (3,0x2,0)m, fechamento em tela artística, pintadas com tinta esmalte, cor azul. | D36: 2 | E36: un | F36: 700 | G36: =F36*D36 -> 1400 | H36: =($H$15+1)*G36 -> 1820
A37: 4.2 | C37: PORTA DE FERRO, (80X210)cm, fechamento em lambril metálico, com guarnições, pintura esmalte cor azul. | D37: 2 | E37: un | F37: 280 | G37: =F37*D37 -> 560 | H37: =($H$15+1)*G37 -> 728
A38: 4.3 | C38: PORTA DE FERRO, (70X210)cm, fechamento em lambril metálico, com guarnições, pintura esmalte, cor azul. | D38: 1 | E38: un | F38: 250 | G38: =F38*D38 -> 250 | H38: =($H$15+1)*G38 -> 325
A39: 4.4 | B39: 94559 | C39: JANELA DE AÇO BASCULANTE, FIXAÇÃO COM ARGAMASSA, COM VIDROS, PADRONIZADA, pintura em tinta esmalte, cor azul. | D39: 1.36 | E39: m² | F39: 835 | G39: =F39*D39 -> 1135.6 | H39: =($H$15+1)*G39 -> 1476.28
G40: =F40*D40 -> 0 | H40: =($H$15+1)*G40 -> 0
A41: 5 | C41: PISO CONCRETADO | I41: =SUM(H42:H43) -> 3088.8
C42: PISO CONCRETADO - corredor central (3,0X20,0)m + Escritório (3,0x3,0)m + Depósito (3,0x3,0)m = 78 m² >>>[x5cm] = 3,9 m³ | G42: =F42*D42 -> 0 | H42: =($H$15+1)*G42 -> 0
A43: 5.1 | B43: 94993 | C43: 94993 EXECUÇÃO DE PISO DE CONCRETO COM CONCRETO MOLDADOIN LOCO, USINADO, ACABAMENTO CONVENCIONAL, ESPESSURA | D43: 80 | E43: m² | F43: 29.7 | G43: =F43*D43 -> 2376 | H43: =($H$15+1)*G43 -> 3088.8
A45: 6 | C45: ÁGUA FRIA, PEÇAS SANITÁRIAS E ESGOTO, TORNEIRAS | G45: =F45*D45 -> 0 | H45: =($H$15+1)*G45 -> 0 | I45: =SUM(H46:H60) -> 6292.715 | K45: =SUM(J46:J53) -> 0
A46: 6.1 | B46: 95463 | C46: 95463 FOSSA SÉPTICA EM ALVENARIA DE TIJOLO CERÂMICO MACIÇO, DIMENSÕES EXTERNAS DE 1,90X1,10X1,40 M, VOLUME DE 1.500 LITROS, REVESTIDO INTERNAMENTECOM MASSA ÚNICA E IMPERMEABILIZANTE E COM TAMPA DE CONCRETO ARMADO COM ESPESSURA DE 8 CM UN AS 1.356,38 | D46: 1 | E46: un | F46: 1400 | G46: =F46*D46 -> 1400 | H46: =($H$15+1)*G46 -> 1820
A47: 6.2 | B47: 73658 | C47: LIGAÇÃO DE ESGOTO DN 100MM, DA CASA ATÉ A CAIXA, COMPOSTO POR 10,0M TUBO DE PVC ESGOTO PREDIAL DN 100MM E CAIXA DE ALVENARIA COM TAMPA DE CONCRETO - | D47: 1 | E47: un | F47: 150 | G47: =F47*D47 -> 150 | H47: =($H$15+1)*G47 -> 195
...

Sheet CRONOGRAMA FISICO FINANCEIRO
B1: Universidade Estadual do Norte do Paraná - UENP
B2: Decreto Estadual n.º3909, Publicado no Diario Oficial do Estado do Paraná em 01/12/08
B3: CLM - Campus Bandeirantes PR
A5: CRONOGRAMA FÍSICO-FINANCEIRO
A6: OBRA | B6: =ORÇAMENTO!C7 -> APRISCO | D6: DATA: | G6: =TODAY() -> 43385
A7: LOCAL | B7: =ORÇAMENTO!C8 -> VETERINÁRIA | D7: VALOR DA OBRA: | G7: =ORÇAMENTO!K14 -> 0
A8: CAMPUS: | B8: =ORÇAMENTO!C5 -> CLM
A9: ITEM | B9: DESCRIÇÃO DOS SERVIÇOS | C9: VALOR DOS SERVIÇOS | D9: SERVIÇOS A EXECUTAR
D10: 1.º MÊS | F10: 2.º MÊS
A11: 1 | B11: =ORÇAMENTO!C17 -> PRELIMINARES | C11: =ORÇAMENTO!I17 -> 399.33 | D11: 1 | E11: =D11*C11 -> 399.33 | G11: =F11*C11 -> 0
A12: 2 | B12: =ORÇAMENTO!C20 -> BARRACÃO PRE-MOLDADO COBERTO | C12: =ORÇAMENTO!I20 -> 35100 | D12: 1 | E12: =D12*C12 -> 35100 | G12: =F12*C12 -> 0
A13: 3 | B13: =ORÇAMENTO!C22 -> ALVENARIA DE TIJOLOS E LAJE DO TETO | C13: =ORÇAMENTO!I22 -> 9269.676 | D13: 0.5 | E13: =D13*C13 -> 4634.838 | F13: 0.5 | G13: =F13*C13 -> 4634.838
A14: 4 | B14: =ORÇAMENTO!C35 -> ESQUADRIAS METÁLICAS | C14: =ORÇAMENTO!I35 -> 4349.28 | E14: =D14*C14 -> 0 | F14: 1 | G14: =F14*C14 -> 4349.28
A15: 5 | B15: =ORÇAMENTO!C41 -> PISO CONCRETADO | C15: =ORÇAMENTO!I41 -> 3088.8 | E15: =D15*C15 -> 0 | F15: 1 | G15: =F15*C15 -> 3088.8
A16: 6 | B16: =ORÇAMENTO!C45 -> ÁGUA FRIA, PEÇAS SANITÁRIAS E ESGOTO, TORNEIRAS | C16: =ORÇAMENTO!I45 -> 6292.715 | E16: =D16*C16 -> 0 | F16: 1 | G16: =F16*C16 -> 6292.715
A17: 7 | B17: =ORÇAMENTO!C62 -> ELÉTRICO | C17: =ORÇAMENTO!I62 -> 1500.2 | E17: =D17*C17 -> 0 | F17: 1 | G17: =F17*C17 -> 1500.2
E18: =D18*C18 -> 0 | G18: =F18*C18 -> 0
G19: =F19*C19 -> 0
G20: =F20*C20 -> 0
B21: TOTAL SIMPLES EM R$ | C21: =SUM(C11:C19) -> 60000.001 | E21: =SUM(E11:E20) -> 40134.168 | G21: =SUM(G11:G20) -> 19865.833 | I21: =SUM(I18:I18) -> 0
B22: TOTAL ACUMULADO EM % | D22: =E21/C21 -> 0.66890279 | F22: =(G21+E21)/C21 -> 1
B23: TOTAL ACUMULADO EM R$ | E23: =E21 -> 40134.168 | G23: =G21+E21 -> 60000.001 | H23: =F23+H21 -> 0
B25: Valor Total = | C25: =C21 -> 60000.001
B26: Prazo de execução = | C26: 2 meses

Sheet Plan3
