Workbook

Sheet ORÇAMENTO
B5: CAMPUS: | C5: CLM
B7: OBRA: | C7: APRISCO
B8: LOCAL: | C8: VETERINÁRIA
B9: TIPO: | C9: CONSTRUÇÃO_BARRACÃO
B10: DIMENSÃO: | C10: 9X20m = 180,0m²
B11: VALOR MÁX.:
C13: ORÇAMENTO
H14: R$ TOTAL= | I14: =SUM(I17:I66) -> 60000.001
G15: BDI = | H15: 0.3
A16: ítem | B16: COD. | D16: qde. | E16: unid. | F16: R$ -unit | G16: R$ (S/BDI) | H16: R$ (C/BDI) | I16: R$_ÍTEM
A17: 1 | C17: PRELIMINARES | I17: =H19 -> 399.33
A18: 1.1 | C18: PRELIMINARES
C19: LIMPEZA _REGULARIZAÇÃO DO TERRENO | D19: 200 | E19: m² | H19: 399.33 | M19: =D19*F19*1.3 -> 0
A20: 2 | C20: BARRACÃO PRE-MOLDADO COBERTO | G20: =F20*D20 -> 0 | H20: =($H$15+1)*G20 -> 0 | I20: =H21 -> 35100
A21: 2.1 | C21: Barracão (9x20)m, pilares de concreto armado 30X30cm a cada 5 m, estrutura da cobertura -tesouras e terças - em perfis "U" e "L" metálicos, pintados, telhado e fechamento dos eitões em telha de metal galvalume 0,4mm, fornecimento e montagem | D21: 180 | E21: m² | F21: 150 | G21: =F21*D21 -> 27000 | H21: =($H$15+1)*G21 -> 35100
A22: 3 | C22: ALVENARIA DE TIJOLOS E LAJE DO TETO | G22: =F22*D22 -> 0 | H22: =($H$15+1)*G22 -> 0 | I22: =SUM(H25:H33) -> 9269.676 | K22: =SUM(J25:J34) -> 0
C23: 87509 ALVENARIA DE VEDAÇÃO DE BLOCOS CERÂMICOS FURADOS NA HORIZONTAL DE 14X9X19CM (ESPESSURA 14CM, BLOCO DEITADO) DE PAREDES COM ÁREA LÍQUIDA MAIO M2 AS 98,29 | G23: =F23*D23 -> 0 | H23: =($H$15+1)*G23 -> 0
A24: 3.1 | B24: 87473 | C24: Parede em alvenaria, tijolo furado assentado a chato (e=14cm) | G24: =F24*D24 -> 0 | H24: =($H$15+1)*G24 -> 0
C25: PAREDE DO ESCRITÓRIO (h=2,70m) - tijolo aparente | D25: 33.6 | E25: m² | F25: 51.6 | G25: =F25*D25 -> 1733.76 | H25: =($H$15+1)*G25 -> 2253.888
C26: PAREDE DO DEPÓSITO (h=2,70m) - tijolo aparente | D26: 33.6 | E26: m² | F26: =F25 -> 51.6 | G26: =F26*D26 -> 1733.76 | H26: =($H$15+1)*G26 -> 2253.888
C27: LAJE PRE-MOLD BETA 11 P/1KN/M2 VAOS 4,40M/INCL VIGOTAS TIJOLOS ARMADURURA INCLUSO | G27: =F27*D27 -> 0 | H27: =($H$15+1)*G27 -> 0
C28: MASSA ÚNICA, PARA RECEBIMENTO DE PINTURA, EM ARGAMASSA TRAÇO 1:2:8 | G28: =F28*D28 -> 0 | H28: =($H$15+1)*G28 -> 0
A29: 3.2 | C29: Laje teto em concreto pré moldado, chapiscado e emboçado | G29: =F29*D29 -> 0 | H29: =($H$15+1)*G29 -> 0
B30: 87530 | C30: LAJE TETO DO ESCRITÓRIO (chapiscado e emboçado) | D30: 9 | E30: m² | F30: 31.5 | G30: =F30*D30 -> 283.5 | H30: =($H$15+1)*G30 -> 368.55
B31: 87530 | C31: LAJE TETO DO DEPÓSITO (chapiscado e emboçado) | D31: 9 | E31: m² | F31: =F30 -> 31.5 | G31: =F31*D31 -> 283.5 | H31: =($H$15+1)*G31 -> 368.55
A32: 3.4 | C32: Parede em alvenaria, tijolo furado assentado a chato (e=14cm) | G32: =F32*D32 -> 0 | H32: =($H$15+1)*G32 -> 0
B33: 87509 | C33: PAREDE DO APRISCO (h=1,5m) - tijolo aparente | D33: =40*1.5 -> 60 | E33: m² | F33: =F25 -> 51.6 | G33: =F33*D33 -> 3096 | H33: =($H$15+1)*G33 -> 4024.8
G34: =F34*D34 -> 0 | H34: =($H$15+1)*G34 -> 0
A35: 4 | C35: ESQUADRIAS METÁLICAS | G35: =F35*D35 -> 0 | H35: =($H$15+1)*G35 -> 0 | I35: =SUM(H36:H39) -> 4349.28 | K35: =SUM(J36:J39) -> 0
A36: 4.1 | C36: PORTÃO DE FERRO, DE ABRIR, (3,0x2,0)m, fechamento em tela artística, pintadas com tinta esmalte, cor azul. | D36: 2 | E36: un | F36: 700 | G36: =F36*D36 -> 1400 | H36: =($H$15+1)*G36 -> 1820
A37: 4.2 | C37: PORTA DE FERRO, (80X210)cm, fechamento em lambril metálico, com guarnições, pintura esmalte cor azul. | D37: 2 | E37: un | F37: 280 | G37: =F37*D37 -> 560 | H37: =($H$15+1)*G37 -> 728
A38: 4.3 | C38: PORTA DE FERRO, (70X210)cm, fechamento em lambril metálico, com guarnições, pintura esmalte, cor azul. | D38: 1 | E38: un | F38: 250 | G38: =F38*D38 -> 250 | H38: =($H$15+1)*G38 -> 325
A39: 4.4 | B39: 94559 | C39: JANELA DE AÇO BASCULANTE, FIXAÇÃO COM ARGAMASSA, COM VIDROS, PADRONIZADA, pintura em tinta esmalte, cor azul. | D39: 1.36 | E39: m² | F39: 835 | G39: =F39*D39 -> 1135.6 | H39: =($H$15+1)*G39 -> 1476.28
G40: =F40*D40 -> 0 | H40: =($H$15+1)*G40 -> 0
A41: 5 | C41: PISO CONCRETADO | I41: =SUM(H42:H43) -> 3088.8
C42: PISO CONCRETADO - corredor central (3,0X20,0)m + Escritório (3,0x3,0)m + Depósito (3,0x3,0)m = 78 m² >>>[x5cm] = 3,9 m³ | G42: =F42*D42 -> 0 | H42: =($H$15+1)*G42 -> 0
A43: 5.1 | B43: 94993 | C43: 94993 EXECUÇÃO DE PISO DE CONCRETO COM CONCRETO MOLDADOIN LOCO, USINADO, ACABAMENTO CONVENCIONAL, ESPESSURA | D43: 80 | E43: m² | F43: 29.7 | G43: =F43*D43 -> 2376 | H43: =($H$15+1)*G43 -> 3088.8
A45: 6 | C45: ÁGUA FRIA, PEÇAS SANITÁRIAS E ESGOTO, TORNEIRAS | G45: =F45*D45 -> 0 | H45: =($H$15+1)*G45 -> 0 | I45: =SUM(H46:H60) -> 6292.715 | K45: =SUM(J46:J53) -> 0
A46: 6.1 | B46: 95463 | C46: 95463 FOSSA SÉPTICA EM ALVENARIA DE TIJOLO CERÂMICO MACIÇO, DIMENSÕES EXTERNAS DE 1,90X1,10X1,40 M, VOLUME DE 1.500 LITROS, REVESTIDO INTERNAMENTECOM MASSA ÚNICA E IMPERMEABILIZANTE E COM TAMPA DE CONCRETO ARMADO COM ESPESSURA DE 8 CM UN AS 1.356,38 | D46: 1 | E46: un | F46: 1400 | G46: =F46*D46 -> 1400 | H46: =($H$15+1)*G46 -> 1820
A47: 6.2 | B47: 73658 | C47: LIGAÇÃO DE ESGOTO DN 100MM, DA CASA ATÉ A CAIXA, COMPOSTO POR 10,0M TUBO DE PVC ESGOTO PREDIAL DN 100MM E CAIXA DE ALVENARIA COM TAMPA DE CONCRETO - | D47: 1 | E47: un | F47: 150 | G47: =F47*D47 -> 150 | H47: =($H$15+1)*G47 -> 195
A48: 6.3 | B48: 86931 | C48: VASO SANITÁRIO SIFONADO COM CAIXA ACOPLADA LOUÇA BRANCA, INCLUSO ENGATE FLEXÍVEL EM PLÁSTICO BRANCO, 1/2 X 40CM - FORNECIMENTO E INSTALAÇÃO. AF_12/2013 | D48: 1 | E48: un | F48: 323 | G48: =F48*D48 -> 323 | H48: =($H$15+1)*G48 -> 419.9
A49: 6.4 | B49: 86939 | C49: LAVATÓRIO LOUÇA BRANCA COM COLUNA, *44 X 35,5* CM, PADRÃO POPULAR, INCLUSO SIFÃO FLEXÍVEL EM PVC, VÁLVULA E ENGATE FLEXÍVEL 30CM EM PLÁSTICO E COM TORNEIRA CROMADA PADRÃO POPULAR - FORNECIMENTO E INSTALAÇÃO. AF_12/2013 | D49: 1 | E49: un | F49: 285 | G49: =F49*D49 -> 285 | H49: =($H$15+1)*G49 -> 370.5
A50: 6.5 | C50: PONTO DE CONSUMO TERMINAL DE ÁGUA FRIA (SUBRAMAL) COM TUBULAÇÃO DE PVC, DN 25 MM, INSTALADO EM RAMAL DE ÁGUA, INCLUSOS FIXAÇÃO EM ALVENARIA. AF_12/2014 [1 externo, na entrada, 1 PARA VASO, 1 PARA LAVAT., 1 PARA JARDIM, 34 PARA BEBEDOUROS] | D50: 38 | E50: un | F50: 15 | G50: =F50*D50 -> 570 | H50: =($H$15+1)*G50 -> 741
A51: 6.6 | B51: 91785 | C51: SERVIÇO DE INSTALAÇÃO DE TUBOS DE PVC, SOLDÁVEL, ÁGUA FRIA, DN 25 MM (INSTALADO EM RAMAL, SUB-RAMAL, RAMAL DE DISTRIBUIÇÃO OU PRUMADA), INCLUSIVE CONEXÕES, CORTES E FIXAÇÕES, PARA PRÉDIOS. AF_10/2015 | D51: 50 | E51: m | F51: 15 | G51: =F51*D51 -> 750 | H51: =($H$15+1)*G51 -> 975
A52: 6.7 | B52: 89972 | C52: REGISTRO DE GAVETA BRUTO DE LATÃO ¾", INCLUSIVE CONEXÕES, ROSCÁVEL, INSTALADO EM RAMAL DE ÁGUA FRIA - FORNECIMENTO E INSTALAÇÃO. AF_12/2014 [1 PARA ENTRADA GERAL + 1 PARA WC + 2 PARA BEBEDOUROS] | D52: 4 | E52: un | F52: 35 | G52: =F52*D52 -> 140 | H52: =($H$15+1)*G52 -> 182
A53: 6.8 | C53: TORNEIRA de PVC 1/2" FORNECIMENTO E INSTALAÇÃO [ 16 PARA BEBEDOUROS + 1 PARA JARDIM] | D53: 17 | E53: un | F53: 15.35 | G53: =F53*D53 -> 260.95 | H53: =($H$15+1)*G53 -> 339.235
G54: =F54*D54 -> 0 | H54: =($H$15+1)*G54 -> 0
A55: 6.9 | C55: Reservatório PVC 500l | D55: 1 | E55: pç | F55: 350 | G55: =F55*D55 -> 350 | H55: =($H$15+1)*G55 -> 455
A56: 6.10 | C56: torneira de boia 3/4" | D56: 1 | E56: pç | F56: 14 | G56: =F56*D56 -> 14 | H56: =($H$15+1)*G56 -> 18.2
G57: =F57*D57 -> 0 | H57: =($H$15+1)*G57 -> 0
C58: Tubos (3/4") | G58: =F58*D58 -> 0 | H58: =($H$15+1)*G58 -> 0
A59: 6.11 | C59: 25 mm (inclusive escavação/aterro) | D59: 60 | E59: m | F59: 7.96 | G59: =F59*D59 -> 477.6 | H59: =($H$15+1)*G59 -> 620.88
A60: 6.12 | C60: conexões (te/luva,joelho) | D60: 30 | E60: pç | F60: 4 | G60: =F60*D60 -> 120 | H60: =($H$15+1)*G60 -> 156
G61: =F61*D61 -> 0 | H61: =($H$15+1)*G61 -> 0
A62: 7 | C62: ELÉTRICO | G62: =F62*D62 -> 0 | I62: =SUM(H65:H66) -> 1500.2
C63: Elétrica - Material p/ ALIMENTAÇÃO
C64: Poste de concreto 7,0m
A65: 7.1 | C65: POSTE CONCRETO SEÇÃO CIRCULAR COMPRIMENTO=7M CARGA NOMINAL TOPO 100KG INCLUSIVE ESCAVACAO - FORNECIMENTO E COLOCAÇÃO | D65: 2 | E65: pç | F65: 410 | G65: 850 | H65: =($H$15+1)*G65 -> 1105
A66: 7.2 | C66: Isolador roldana 600V, parafuso aço galvanizado cabeça quadr.Rosca M16x2, comprim. 180mm | D66: 8 | E66: pç | F66: 38 | G66: =F66*D66 -> 304 | H66: =($H$15+1)*G66 -> 395.2
C68: instalações futuras
B69: instalação futura | C69: Lista de materiais ELÉTRICO | G69: =F69*D69 -> 0 | H69: =($H$15+1)*G69 -> 0
C70: Curva 90º PVC longa rosca | G70: =F70*D70 -> 0 | H70: =($H$15+1)*G70 -> 0
A71: 7.1 | C71: 1.1/2" | D71: 2 | E71: pç | F71: 13 | G71: =F71*D71 -> 26 | H71: =($H$15+1)*G71 -> 33.8
C72: Luva PVC encaixe | G72: =F72*D72 -> 0 | H72: =($H$15+1)*G72 -> 0
A73: 7.2 | C73: 3/4" | D73: 14 | E73: pç | F73: 6 | G73: =F73*D73 -> 84 | H73: =($H$15+1)*G73 -> 109.2
C74: Luva PVC rosca | G74: =F74*D74 -> 0 | H74: =($H$15+1)*G74 -> 0
A75: 7.3 | C75: 1" | D75: 1 | E75: pç | F75: 10 | G75: =F75*D75 -> 10 | H75: =($H$15+1)*G75 -> 13
A76: 7.4 | C76: 1.1/2" | D76: 6 | E76: pç | F76: 12 | G76: =F76*D76 -> 72 | H76: =($H$15+1)*G76 -> 93.6
A77: 7.5 | C77: 3/4" | D77: 4 | E77: pç | F77: 9 | G77: =F77*D77 -> 36 | H77: =($H$15+1)*G77 -> 46.8
C78: Elétrica - Cabo Tripolar (cobre) | G78: =F78*D78 -> 0 | H78: =($H$15+1)*G78 -> 0
C79: Isol. EPR - 0,6/1kV (ref. Inbrac Eprovene) | G79: =F79*D79 -> 0 | H79: =($H$15+1)*G79 -> 0
A80: 7.6 | C80: 6 mm² | D80: 210 | E80: m | F80: 4 | G80: =F80*D80 -> 840 | H80: =($H$15+1)*G80 -> 1092
C81: Elétrica - Cabo Unipolar (cobre) | G81: =F81*D81 -> 0 | H81: =($H$15+1)*G81 -> 0
C82: Isol.HEPR - ench.EVA - 0,6/1kV (ref. Pirelli Afumex) | G82: =F82*D82 -> 0 | H82: =($H$15+1)*G82 -> 0
A83: 7.7 | C83: 1.5 mm² | D83: 250 | E83: m | F83: 1.8 | G83: =F83*D83 -> 450 | H83: =($H$15+1)*G83 -> 585
A84: 7.8 | C84: 2.5 mm² | D84: 200 | E84: m | F84: 2.5 | G84: =F84*D84 -> 500 | H84: =($H$15+1)*G84 -> 650
C85: Elétrica - Caixa de passagem | G85: =F85*D85 -> 0 | H85: =($H$15+1)*G85 -> 0
C86: Aço pintada (ref Lukbox) | G86: =F86*D86 -> 0 | H86: =($H$15+1)*G86 -> 0
A87: 7.9 | C87: 200x200x150 mm | D87: 1 | E87: pç | F87: 100 | G87: =F87*D87 -> 100 | H87: =($H$15+1)*G87 -> 130
C88: Elétrica - Dispositivo Elétrico - sobrepor | G88: =F88*D88 -> 0 | H88: =($H$15+1)*G88 -> 0
A89: 7.10 | C89: Condulete alum. encaixe tipo C | D89: 16 | E89: pç | F89: 15 | G89: =F89*D89 -> 240 | H89: =($H$15+1)*G89 -> 312
A90: 7.11 | C90: interruptor 1 tecla simples | D90: 6 | E90: pç | F90: 15 | G90: =F90*D90 -> 90 | H90: =($H$15+1)*G90 -> 117
A91: 7.12 | C91: Tomada hexagonal (NBR 14136) 2P+T 10A | D91: 10 | E91: pç | F91: 30 | G91: =F91*D91 -> 300 | H91: =($H$15+1)*G91 -> 390
C92: Elétrica - Dispositivo de Proteção | G92: =F92*D92 -> 0 | H92: =($H$15+1)*G92 -> 0
C93: Disjuntor Unipolar Termomagnético - norma DIN | G93: =F93*D93 -> 0 | H93: =($H$15+1)*G93 -> 0
A94: 7.13 | C94: 10 A | D94: 2 | E94: pç | F94: 50 | G94: =F94*D94 -> 100 | H94: =($H$15+1)*G94 -> 130
A95: 7.14 | C95: 25 A | D95: 1 | E95: pç | F95: 55 | G95: =F95*D95 -> 55 | H95: =($H$15+1)*G95 -> 71.5
C96: Elétrica - Eletroduto PVC encaixe | G96: =F96*D96 -> 0 | H96: =($H$15+1)*G96 -> 0
C97: Braçadeira galvan. tipo cunha | G97: =F97*D97 -> 0 | H97: =($H$15+1)*G97 -> 0
A98: 7.15 | C98: 3/4" | D98: 80 | E98: pç | F98: 4 | G98: =F98*D98 -> 320 | H98: =($H$15+1)*G98 -> 416
C99: Eletroduto, vara 3,0m | G99: =F99*D99 -> 0 | H99: =($H$15+1)*G99 -> 0
A100: 7.16 | C100: 3/4" | D100: 90 | E100: m | F100: 7 | G100: =F100*D100 -> 630 | H100: =($H$15+1)*G100 -> 819
A101: 7.17 | C101: abraçadeira 3/4" | D101: 60 | E101: pç | F101: 2 | G101: =F101*D101 -> 120 | H101: =($H$15+1)*G101 -> 156
C102: Elétrica - Lâmpadas Led | G102: =F102*D102 -> 0 | H102: =($H$15+1)*G102 -> 0
C103: Calha para lampada tubular 1,20m + Lampada Led A65 15W E27 | D103: 22 | E103: pç | F103: 35 | G103: =F103*D103 -> 770 | H103: =($H$15+1)*G103 -> 1001
C105: Elétrica - Material p/ ALIMENTAÇÃO
C106: Poste de concreto 7,0m
A107: 7.18
A108: 7.19 | C108: Isolador roldana 600V, parafuso aço galvanizado cabeça quadr.Rosca M16x2, comprim. 180mm | D108: 8 | E108: pç | F108: 40 | G108: =F108*D108 -> 320 | H108: =($H$15+1)*G108 -> 416
C109: Elétrica - Quadro distrib. chapa pintada - sobrepor
...

Sheet CRONOGRAMA FISICO FINANCEIRO
B1: Universidade Estadual do Norte do Paraná - UENP
B2: Decreto Estadual n.º3909, Publicado no Diario Oficial do Estado do Paraná em 01/12/08
B3: CLM - Campus Bandeirantes PR
A5: CRONOGRAMA FÍSICO-FINANCEIRO
A6: OBRA | B6: =ORÇAMENTO!C7 -> APRISCO | D6: DATA: | G6: =TODAY() -> 43385
A7: LOCAL | B7: =ORÇAMENTO!C8 -> VETERINÁRIA | D7: VALOR DA OBRA: | G7: =ORÇAMENTO!K14 -> 0
A8: CAMPUS: | B8: =ORÇAMENTO!C5 -> CLM
A9: ITEM | B9: DESCRIÇÃO DOS SERVIÇOS | C9: VALOR DOS SERVIÇOS | D9: SERVIÇOS A EXECUTAR
D10: 1.º MÊS | F10: 2.º MÊS
A11: 1 | B11: =ORÇAMENTO!C17 -> PRELIMINARES | C11: =ORÇAMENTO!I17 -> 399.33 | D11: 1 | E11: =D11*C11 -> 399.33 | G11: =F11*C11 -> 0
A12: 2 | B12: =ORÇAMENTO!C20 -> BARRACÃO PRE-MOLDADO COBERTO | C12: =ORÇAMENTO!I20 -> 35100 | D12: 1 | E12: =D12*C12 -> 35100 | G12: =F12*C12 -> 0
A13: 3 | B13: =ORÇAMENTO!C22 -> ALVENARIA DE TIJOLOS E LAJE DO TETO | C13: =ORÇAMENTO!I22 -> 9269.676 | D13: 0.5 | E13: =D13*C13 -> 4634.838 | F13: 0.5 | G13: =F13*C13 -> 4634.838
A14: 4 | B14: =ORÇAMENTO!C35 -> ESQUADRIAS METÁLICAS | C14: =ORÇAMENTO!I35 -> 4349.28 | E14: =D14*C14 -> 0 | F14: 1 | G14: =F14*C14 -> 4349.28
A15: 5 | B15: =ORÇAMENTO!C41 -> PISO CONCRETADO | C15: =ORÇAMENTO!I41 -> 3088.8 | E15: =D15*C15 -> 0 | F15: 1 | G15: =F15*C15 -> 3088.8
A16: 6 | B16: =ORÇAMENTO!C45 -> ÁGUA FRIA, PEÇAS SANITÁRIAS E ESGOTO, TORNEIRAS | C16: =ORÇAMENTO!I45 -> 6292.715 | E16: =D16*C16 -> 0 | F16: 1 | G16: =F16*C16 -> 6292.715
A17: 7 | B17: =ORÇAMENTO!C62 -> ELÉTRICO | C17: =ORÇAMENTO!I62 -> 1500.2 | E17: =D17*C17 -> 0 | F17: 1 | G17: =F17*C17 -> 1500.2
E18: =D18*C18 -> 0 | G18: =F18*C18 -> 0
G19: =F19*C19 -> 0
G20: =F20*C20 -> 0
B21: TOTAL SIMPLES EM R$ | C21: =SUM(C11:C19) -> 60000.001 | E21: =SUM(E11:E20) -> 40134.168 | G21: =SUM(G11:G20) -> 19865.833 | I21: =SUM(I18:I18) -> 0
B22: TOTAL ACUMULADO EM % | D22: =E21/C21 -> 0.66890279 | F22: =(G21+E21)/C21 -> 1
B23: TOTAL ACUMULADO EM R$ | E23: =E21 -> 40134.168 | G23: =G21+E21 -> 60000.001 | H23: =F23+H21 -> 0
B25: Valor Total = | C25: =C21 -> 60000.001
B26: Prazo de execução = | C26: 2 meses

Sheet Plan3
