Workbook

Sheet Original
C5: Universidade Estadual do Norte do Paraná - UENP
C6: Decreto Estadual n.º 3909/08 - CNPJ 08.885.100/0001-54 | D6: BLOCOS NOVOS DO CAMPUS UENP DE CORNÉLIO PROCÓPIO - SALAS DE AULA (MAT / BIO) - (GEOG / PÓS )
C7: Campus Cornélio Procópio - Área Total 6.1950 m2 | D7: REF.: Referência SINAPI: MARÇO/ 2019
C8: Contrato nº 30/2017 - Eng. Fiscal Lincoln Nozaki | D8: Resolução Conjunta SEIL/PRED 002/2017
A10: SERVIÇO ADITIVO - TELHADO | D10: PLANILHA | F10: ACRÉSCIMO | H10: UNITÁRIO (Sem BDI) | K10: TOTAL (Valores sem BDI)
A11: COD. | B11: ITEM | C11: DESCRIÇÃO DOS SERVIÇOS | D11: Unid | E11: Quant | F11: Unid | G11: Quant | H11: Material | I11: Mão de Obra | J11: Total Unitário | K11: Total (MO + MAT)
B12: 1 | C12: REMOÇÃO DE TELHA
A13: 97647 | C13: 97647 REMOÇÃO DE TELHAS, DE FIBROCIMENTO, METÁLICA E CERÂMICA, DE FORMA MANUAL M2 CR 2,61 | F13: m2 | G13: 4857.6 | I13: 2.61 | J13: 2.61 | K13: =I13*G13 -> 12678.34
B14: 2 | C14: TELHA DE AÇO PARA FACE INFERIOR (SOMENTE INSUMO)
A15: 00007243 | C15: 00007243 TELHA DE ACO ZINCADO TRAPEZOIDAL, A = *40* MM, E = 0,5 MM, SEM PINTURA M2 CR 29,31 | F15: m2 | G15: =G13 -> 4857.6 | H15: 29.31 | J15: =I15+H15 -> 29.31 | K15: =H15*G15 -> 142376.26
B16: 3 | C16: MONTAGEM DE TELHA GALVALUME COM ISOLAMENTO TERMOACUSTICO
A17: COMP.1 | C17: MONTAGEM DE TELHA GALVALUME COM ISOLAMENTO TERMOACUSTICO | F17: m2 | G17: =G15 -> 4857.6 | I17: =E40 -> 1.54 | J17: =I17+H17 -> 1.54 | K17: =I17*G17 -> 7480.7
C20: (ADITIVOS : VALORES TOTAIS (SEM BDI) | K20: =SUM(K13:K17) -> 162535.3
C21: VALOR DO BDI (21,82%) [idem da licitação] | K21: =0.2482*K20 -> 40341.26
C22: VALOR TOTAL DA OBRA (COM BDI) | K22: =K20+K21 -> 202876.56
C23: DESCONTO APLICADO NA HOLOGAÇÃO (22,20%) | K23: =0.222*K22 -> 45038.6
C24: VALOR DO ADITIVO COM DESCONTO | K24: =K22-K23 -> 157837.96
C26: DATA: 17/04/2019
C28: ÍNDICES E VALORES DE REFERÊNCIA UTILIZADOS
C29: VALOR DO DESCONTO
C30: CÁLCULO DO DESCONTO= VL HOMOL./ VL. MÁX
C31: – O preço máximo para a contratação será de R$ 8.850.000,00 | E31: 8850000
C32: KS – CONSTRUTORA GALVAN EIRELI - EPP no valor total de R$ 6.885.124,75 | E32: 6885124.8
C34: DESCONTO (R$) = | E34: =E31-E32 -> 1964875.2
C35: DESCONTO (%) = | E35: =E34/E31 -> 0.222
C37: COMP.1 (REF. SINAP COMPOSIÇÃO ANALÍTICA 2019)
C38: 42172 TELHA GALVALUME COM ISOLAMENTO TERMOACUSTICO EM ESPUMA RIGIDA DE POLIURETA M2
C39: MATERIAL : 144,39 98,9432513 %
C40: MAO DE OBRA : 1,54 1,0567487 % | E40: 1.54

Sheet muro com pilar
C2: Universidade Estadual do Norte do Paraná - UENP
C3: Decreto Estadual n.º 3909/08 - CNPJ 08.885.100/0001-54 | D3: DATA: MAIO DE 2019
C4: Campus Jacarezinho | D4: REF.: Referência SINAPI: MARÇO/ 2019
C5: Contrato nº | D5: BDI = | H5: 0.25
C6: OBRA: MURO DE ARRIMO (AO LADO DA CANTINA)
A7: COD. | B7: ITEM | C7: DESCRIÇÃO DOS SERVIÇOS | D7: Unid | E7: Quant | F7: R$/un. | G7: Total (sem BDI) | H7: Total (COM BDI) | I7: TOTAL DO ÍTEM
C8: MURO
B9: 1 | C9: CORTE DO TALUDE E ESCAVAÇÕES, INCLUSIVE TRANSPORTE | I9: =SUM(H12:H17) -> 489.29
A11: 74154/001 | C11: ESCAVACAO, CARGA E TRANSPORTE DE MATERIAL DE 1A CATEGORIA COM TRATOR SOBRE ESTEIRAS 347 HP E CACAMBA 6M3, DMT 50 A 200M
A12: 74154/001 | B12: 1.1 | C12: ESCAVAÇÃO TALUDE : H=1,70 ; BASE = 1,70; COMPRIMENTO = 28,0 M . Volume corte = 45 M³ | D12: m³ | E12: 40 | F12: 4.43 | G12: =F12*E12 -> 177.2 | H12: =G12*(1+$H$5) -> 221.5
A13: 74154/001 | B13: 1.2 | C13: PILAR = 15 X 0,15X0,3X3 | D13: m³ | E13: 35 | F13: 4.43 | G13: =F13*E13 -> 155.05 | H13: =G13*(1+$H$5) -> 193.81
A14: 74154/001 | B14: 1.3 | C14: ESCAVAÇÃO VIGA BALDRAME = 0,3X0,3X30 | D14: m³ | E14: =0.3*0.4*28 -> 3.36 | F14: =F13 -> 4.43 | G14: =F14*E14 -> 14.88 | H14: =G14*(1+$H$5) -> 18.6
A15: 74154/001 | B15: 1.4 | C15: ESCAVAÇÃO BLOCO INFERIOR = 15 X (0,5X1,2X0,5) | D15: m³ | E15: 5 | F15: =F14 -> 4.43 | G15: =F15*E15 -> 22.15 | H15: =G15*(1+$H$5) -> 27.69
A16: 74154/001 | B16: 1.5 | C16: ESCAVAÇÃO VIGA TIRANTE | D16: m³ | E16: 3 | F16: =F15 -> 4.43 | G16: =F16*E16 -> 13.29 | H16: =G16*(1+$H$5) -> 16.61
A17: 74154/001 | B17: 1.6 | C17: ESCAVAÇÃO BLOCO SUPERIOR = 15 X (0,5X0,5X0,5) | D17: m³ | E17: 2 | F17: =F16 -> 4.43 | G17: =F17*E17 -> 8.86 | H17: =G17*(1+$H$5) -> 11.08
H18: =G18*(1+$H$5) -> 0
B19: 2 | C19: ESTRUTURA EM CONCRETO ARMADO | H19: =G19*(1+$H$5) -> 0 | I19: =SUM(H21:H40) -> 27372.27
C20: BROCA DE 3 M (15X) | H20: =G20*(1+$H$5) -> 0
A21: 98229 | B21: 2.1 | C21: 98229 ESTACA BROCA DE CONCRETO, DIÃMETRO DE 25 CM, PROFUNDIDADE DE ATÉ 3 M, M CR 65,93 | D21: m | E21: =3*15 -> 45 | F21: 65.93 | G21: =F21*E21 -> 2966.85 | H21: =G21*(1+$H$5) -> 3708.56
B22: 2.2 | C22: armação da broca: 4 f . 8,0mm, comprim. =3m | D22: kg | E22: 80 | F22: 7.92 | G22: =F22*E22 -> 633.6 | H22: =G22*(1+$H$5) -> 792
C23: Fôrma para pilar, em alvenaria de tijolos 6 furos,assentado a chato (e=20cm) | H23: =G23*(1+$H$5) -> 0
C24: alvenaria = [(1+1+,5)*3] x 15 = 115 m² | H24: =G24*(1+$H$5) -> 0
A25: 87473 | B25: 2.3 | C25: ALVENARIA DE VEDAÇÃO DE BLOCOS CERÂMICOS FURADOS NA VERTICAL DE 14X19X39CM (ESPESSURA 14CM) | D25: m² | E25: 85 | F25: 51.1 | G25: =F25*E25 -> 4343.5 | H25: =G25*(1+$H$5) -> 5429.38
C26: BLOCO INFERIOR : 15 X (0,5X1,0X0,5) | H26: =G26*(1+$H$5) -> 0
A27: 90996 | B27: 2.4 | C27: FORMA: =3X0,5X15 = 22,5m²: FORMAS MANUSEÁVEIS PARA PAREDES DE CONCRETO MOLDADAS IN LOCO | D27: m² | E27: 22.5 | F27: 12.6 | G27: =F27*E27 -> 283.5 | H27: =G27*(1+$H$5) -> 354.38
A28: 92778 | B28: 2.5 | C28: ARMAÇÃO DE BLOCO DE UMA ESTRUTURA CONVENCIONAL DE CONCRETO ARM KG CR 7,92 | D28: kg | E28: 200 | F28: 7.92 | G28: =F28*E28 -> 1584 | H28: =G28*(1+$H$5) -> 1980
A29: 94964 | B29: 2.6 | C29: CONCRETO FCK = 20MPA, TRAÇO 1:2,7:3 (CIMENTO/ AREIA MÉDIA/ BRITA 1) - M3 CR 280,51 | D29: m³ | E29: =0.5*0.5*1*15 -> 3.75 | F29: 280.51 | G29: =F29*E29 -> 1051.91 | H29: =G29*(1+$H$5) -> 1314.89
C30: PILAR (25X40X3)X15 | H30: =G30*(1+$H$5) -> 0
A31: 92778 | B31: 2.7 | C31: ARMAÇÃO DE PILAR DE UMA ESTRUTURA CONVENCIONAL DE CONCRETO ARM KG CR 7,92 | D31: kg | E31: 330 | F31: 7.92 | G31: =F31*E31 -> 2613.6 | H31: =G31*(1+$H$5) -> 3267
A32: 94964 | B32: 2.8 | C32: CONCRETO FCK = 20MPA, TRAÇO 1:2,7:3 (CIMENTO/ AREIA MÉDIA/ BRITA 1) - M3 CR 280,51 | D32: m³ | E32: 5.5 | F32: 281.51 | G32: =F32*E32 -> 1548.31 | H32: =G32*(1+$H$5) -> 1935.39
C33: VIGA INFERIOR + VIGA INTERM. + VIGA SUPERIOR = 3X20x (0,2X0,3X28) = 3,6 M3 | H33: =G33*(1+$H$5) -> 0
A34: 90996 | B34: 2.9 | C34: FORMA: =1,5 X 0,3*20 = 22,5m²: FORMAS MANUSEÁVEIS PARA PAREDES DE CONCRETO MOLDADAS IN LOCO | D34: m² | E34: 20 | F34: 12.6 | G34: =F34*E34 -> 252 | H34: =G34*(1+$H$5) -> 315
A35: 92778 | B35: 2.10 | C35: ARMAÇÃO DE VIGA DE UMA ESTRUTURA CONVENCIONAL DE CONCRETO ARM KG CR 7,92 | D35: kg | E35: 290 | F35: 7.92 | G35: =F35*E35 -> 2296.8 | H35: =G35*(1+$H$5) -> 2871
A36: 94964 | B36: 2.11 | C36: CONCRETO FCK = 20MPA, TRAÇO 1:2,7:3 (CIMENTO/ AREIA MÉDIA/ BRITA 1) - M3 CR 280,51 | D36: m³ | E36: 5 | F36: 281.51 | G36: =F36*E36 -> 1407.55 | H36: =G36*(1+$H$5) -> 1759.44
C37: VIGA TIRANTE + BLOCO SUPERIOR 15 X (20X30) X 2,5M | H37: =G37*(1+$H$5) -> 0
A38: 90996 | B38: 2.12 | C38: FORMA: =15 X (0,3*2,5 X 2)= 22,5m²: FORMAS MANUSEÁVEIS PARA PAREDES DE CONCRETO MOLDADAS IN LOCO | D38: m² | E38: 32 | F38: 12.6 | G38: =F38*E38 -> 403.2 | H38: =G38*(1+$H$5) -> 504
A39: 92778 | B39: 2.13 | C39: ARMAÇÃO DE VIGA DE UMA ESTRUTURA CONVENCIONAL DE CONCRETO ARM KG CR 7,92 | D39: kg | E39: 200 | F39: 7.92 | G39: =F39*E39 -> 1584 | H39: =G39*(1+$H$5) -> 1980
A40: 94964 | B40: 2.14 | C40: CONCRETO FCK = 20MPA, TRAÇO 1:2,7:3 (CIMENTO/ AREIA MÉDIA/ BRITA 1) - M3 CR 280,51 | D40: m³ | E40: 3.3 | F40: 281.51 | G40: =F40*E40 -> 928.98 | H40: =G40*(1+$H$5) -> 1161.23
B42: 3 | C42: PAREDE DE ALVENARIA - ARIMO | I42: =SUM(H43:H48) -> 20586.83
C43: ALVENARIA DE TIJOLO - PAREDE DO ARRIMO: 28X3m = 54,0m² + 54,0m²
...

Sheet ORÇAMENTO_muro estaca ficha
C2: Universidade Estadual do Norte do Paraná - UENP
C3: Decreto Estadual n.º 3909/08 - CNPJ 08.885.100/0001-54 | D3: DATA: MAIO DE 2019
C4: Campus Jacarezinho | D4: REF.: Referência SINAPI: MARÇO/ 2019
C5: Contrato nº | D5: BDI = | H5: 0.25
C6: OBRA: MURO DE ARRIMO (AO LADO DA CANTINA) | H6: TOTAL = | I6: =I73 -> 52395.41
C7: CRONOGRAMA DOS SERVIÇOS PARA O MURO DE ARRIMO
B8: 1 | C8: ESTACAS DE 5M, NO ALINHAMENTO PREDIAL
B9: 2 | C9: ESTACAS DE 3M, AO LADO DA CALÇADA DACANTINA
B10: 3 | C10: VIGAS TIRANTE E VIGA DE RESPADO NO ALINHAMENTO DAS ESTACAS DE 5M
B11: 4 | C11: CORTE DO TALUDE (ALTURA DOCORTE = 2,0M, EM MÉDIA), TANGENCIANDO ESTACAS DE 5M
B12: 5 | C12: ALVENARIA DO MURO E VIGAS DE AMARRAÇÃO ENTRE ESTACAS DE 5M
B13: 6 | C13: ACABAMENTO DO MURO
B14: 7 | C14: FIXAÇÃO DO ALAMBRADO
B15: 8 | C15: REPAROS NAS CALÇADAS 1
B16: 9 | C16: REPAROS NAS CALÇADAS 2
A17: COD. | B17: ITEM | C17: DESCRIÇÃO DOS SERVIÇOS | D17: Unid | E17: Quant | F17: R$/un. | G17: Total (sem BDI) | H17: Total (COM BDI) | I17: TOTAL DO ÍTEM
C18: MURO
H19: =G19*(1+$H$5) -> 0
B20: 1 | C20: ESTRUTURA EM CONCRETO ARMADO | H20: =G20*(1+$H$5) -> 0 | I20: =SUM(H23:H37) -> 23750.03
H21: =G21*(1+$H$5) -> 0
C22: ESTACA - BROCA DE 5 M (18X) | H22: =G22*(1+$H$5) -> 0
A23: 98229 | B23: 1.1 | C23: 98229 ESTACA BROCA DE CONCRETO, DIÃMETRO DE 25 CM, PROFUNDIDADE DE 5M, M CR 65,93 | D23: m | E23: 90 | F23: 65.93 | G23: =F23*E23 -> 5933.7 | H23: =G23*(1+$H$5) -> 7417.13
B24: 1.2 | C24: armação da broca: 4 f . 8,0mm, comprim. =3m | D24: kg | E24: 160 | F24: 7.92 | G24: =F24*E24 -> 1267.2 | H24: =G24*(1+$H$5) -> 1584
C25: ESTACA -BROCA DE 3 M (18X) | H25: =G25*(1+$H$5) -> 0
A26: 98229 | B26: 1.3 | C26: 98229 ESTACA BROCA DE CONCRETO, DIÃMETRO DE 25 CM, PROFUNDIDADE DE ATÉ 3 M, M CR 65,93 | D26: m | E26: 54 | F26: 65.93 | G26: =F26*E26 -> 3560.22 | H26: =G26*(1+$H$5) -> 4450.28
B27: 1.4 | C27: armação da broca: 4 f . 8,0mm, comprim. =3m | D27: kg | E27: 96 | F27: 7.92 | G27: =F27*E27 -> 760.32 | H27: =G27*(1+$H$5) -> 950.4
C29: VIGA TIRANTE + BLOCO SUPERIOR 18 X (20X30) X 2,5M | H29: =G29*(1+$H$5) -> 0
A30: 90996 | B30: 1.5 | C30: FORMA: =18 X (0,3*2,5 X 1,6)= 22,5m²: FORMAS MANUSEÁVEIS PARA PAREDES DE CONCRETO MOLDADAS IN LOCO | D30: m² | E30: 35 | F30: 12.6 | G30: =F30*E30 -> 441 | H30: =G30*(1+$H$5) -> 551.25
A31: 92778 | B31: 1.6 | C31: ARMAÇÃO DE VIGA DE UMA ESTRUTURA CONVENCIONAL DE CONCRETO ARMADO | D31: kg | E31: 250 | F31: 7.92 | G31: =F31*E31 -> 1980 | H31: =G31*(1+$H$5) -> 2475
A32: 94964 | B32: 1.7 | C32: CONCRETO FCK = 20MPA, TRAÇO 1:2,7:3 (CIMENTO/ AREIA MÉDIA/ BRITA 1) | D32: m³ | E32: 2 | F32: 281.51 | G32: =F32*E32 -> 563.02 | H32: =G32*(1+$H$5) -> 703.78
C34: VIGA INFERIOR + VIGA INTERM. + VIGA SUPERIOR = 3X20x (0,2X0,3X28) = 3,6 M3 | H34: =G34*(1+$H$5) -> 0
A35: 90996 | B35: 1.8 | C35: FORMA: =1,5 X 0,3*20 = 22,5m²: FORMAS MANUSEÁVEIS PARA PAREDES DE CONCRETO MOLDADAS IN LOCO | D35: m² | E35: 25 | F35: 12.6 | G35: =F35*E35 -> 315 | H35: =G35*(1+$H$5) -> 393.75
A36: 92778 | B36: 1.9 | C36: ARMAÇÃO DE VIGA DE UMA ESTRUTURA CONVENCIONAL DE CONCRETO ARMADO KG CR 7,92 | D36: kg | E36: 350 | F36: 7.92 | G36: =F36*E36 -> 2772 | H36: =G36*(1+$H$5) -> 3465
A37: 94964 | B37: 1.10 | C37: CONCRETO FCK = 20MPA, TRAÇO 1:2,7:3 (CIMENTO/ AREIA MÉDIA/ BRITA 1) - M3 CR 280,51 | D37: m³ | E37: 5 | F37: 281.51 | G37: =F37*E37 -> 1407.55 | H37: =G37*(1+$H$5) -> 1759.44
B39: 2 | C39: CORTE DO TALUDE E ESCAVAÇÕES, INCLUSIVE TRANSPORTE | I39: =SUM(H42:H43) -> 359.94
A41: 74154/001 | C41: ESCAVACAO, CARGA E TRANSPORTE DE MATERIAL DE 1A CATEGORIA COM TRATOR SOBRE ESTEIRAS 347 HP E CACAMBA 6M3, DMT 50 A 200M
A42: 74154/001 | B42: 2.1 | C42: ESCAVAÇÃO TALUDE : H=1,70 ; BASE = 1,70; COMPRIMENTO = 28,0 M . Volume corte = 45 M³ | D42: m³ | E42: 45 | F42: 4.43 | G42: =F42*E42 -> 199.35 | H42: =G42*(1+$H$5) -> 249.19
A43: 74154/001 | B43: 2.2 | C43: escavação entre estacas (0,3x2,0x28)m | D43: m³ | E43: 20 | F43: 4.43 | G43: =F43*E43 -> 88.6 | H43: =G43*(1+$H$5) -> 110.75
B45: 3 | C45: PAREDE DE ALVENARIA - ARIMO | I45: =SUM(H46:H52) -> 16426.5
A46: 72131 | B46: 3.1 | C46: 72131 ALVENARIA EM TIJOLO CERAMICO MACICO 5X10X20CM 1 VEZ (ESPESSURA 20CM), ASSENTADO COM ARGAMASSA TRACO 1:2:8 (CIMENTO, CAL E AREIA)M2 CR 114,04 | D46: m² | E46: 80 | F46: 114.04 | G46: =F46*E46 -> 9123.2 | H46: =G46*(1+$H$5) -> 11404
...

Sheet CRONOGRAMA
C3: Obra: MURO CCS
C4: Local:UENP_CJ
B5: CRONOGRAMA FÍSICO-FINANCEIRO
E6: SERVIÇOS A EXECUTAR
B7: SERVIÇOS | C7: TOTAIS | E7: 1º mês | G7: 2º mês | I7: 3º mês | K7: 4º mês | M7: 5º mês | O7: 6º mês | Q7: TOTAL EXECUTADO
C8: VALOR | D8: % | E8: % | F8: valor | G8: % | H8: valor | I8: % | J8: valor | K8: % | L8: valor | M8: % | N8: valor | O8: % | P8: valor | Q8: % | R8: valor
A9: 1 | B9: =VLOOKUP(A9,'ORÇAMENTO_muro estaca ficha'!B20:I72,2,0) -> ESTRUTURA EM CONCRETO ARMADO | C9: =VLOOKUP(A9,'ORÇAMENTO_muro estaca ficha'!B20:J72,8,0) -> 23750.03 | E9: 1 | F9: =C9*E9 -> 23750.03 | H9: =G9*C9 -> 0 | J9: =I9*C9 -> 0 | L9: =K9*C9 -> 0 | N9: =M9*C9 -> 0 | Q9: =M9+K9+I9+G9+E9 -> 1 | R9: =L9+J9+H9+F9 -> 23750.03
A10: 2 | B10: =VLOOKUP(A10,'ORÇAMENTO_muro estaca ficha'!B21:I73,2,0) -> CORTE DO TALUDE E ESCAVAÇÕES, INCLUSIVE TRANSPORTE | C10: =VLOOKUP(A10,'ORÇAMENTO_muro estaca ficha'!B21:J73,8,0) -> 359.94 | E10: 1 | F10: =C10*E10 -> 359.94 | Q10: =M10+K10+I10+G10+E10 -> 1 | R10: =L10+J10+H10+F10 -> 359.94
A11: 3 | B11: =VLOOKUP(A11,'ORÇAMENTO_muro estaca ficha'!B22:I73,2,0) -> PAREDE DE ALVENARIA - ARIMO | C11: =VLOOKUP(A11,'ORÇAMENTO_muro estaca ficha'!B22:J73,8,0) -> 16426.5 | F11: =C10*E11 -> 0 | G11: 0.7 | H11: =G11*C11 -> 11498.55 | I11: 0.3 | J11: =I11*C11 -> 4927.95 | Q11: =M11+K11+I11+G11+E11 -> 1 | R11: =L11+J11+H11+F11 -> 16426.5
A12: 4 | B12: =VLOOKUP(A12,'ORÇAMENTO_muro estaca ficha'!B23:I73,2,0) -> ALAMBRADO | C12: =VLOOKUP(A12,'ORÇAMENTO_muro estaca ficha'!B23:J73,8,0) -> 8100 | F12: =C12*E12 -> 0 | G12: 0.5 | H12: =G12*C12 -> 4050 | I12: 0.5 | J12: =I12*C12 -> 4050 | Q12: =M12+K12+I12+G12+E12 -> 1 | R12: =L12+J12+H12+F12 -> 8100
A13: 5 | B13: =VLOOKUP(A13,'ORÇAMENTO_muro estaca ficha'!B24:I74,2,0) -> CALHA, CAIXA DE PASSAGEM, TAMPA - DE CONCRETO | C13: =VLOOKUP(A13,'ORÇAMENTO_muro estaca ficha'!B24:J74,8,0) -> 1335.19 | F13: =C13*E13 -> 0 | H13: =G13*C13 -> 0 | I13: 1 | J13: =I13*C13 -> 1335.19 | Q13: =M13+K13+I13+G13+E13 -> 1 | R13: =L13+J13+H13+F13 -> 1335.19
A14: 6 | B14: =VLOOKUP(A14,'ORÇAMENTO_muro estaca ficha'!B25:I75,2,0) -> TUBULAÇÃO DE ESGOTO | C14: =VLOOKUP(A14,'ORÇAMENTO_muro estaca ficha'!B25:J75,8,0) -> 1810.5 | F14: =C14*E14 -> 0 | J14: =I14*C14 -> 0 | K14: 1 | L14: =K14*C14 -> 1810.5 | Q14: =M14+K14+I14+G14+E14 -> 1 | R14: =L14+J14+H14+F14 -> 1810.5
A15: 7 | B15: =VLOOKUP(A15,'ORÇAMENTO_muro estaca ficha'!B27:I77,2,0) -> REATERRO | C15: =VLOOKUP(A15,'ORÇAMENTO_muro estaca ficha'!B26:J76,8,0) -> 613.25 | F15: =C15*E15 -> 0 | J15: =I15*C15 -> 0 | K15: 1 | L15: =K15*C15 -> 613.25 | Q15: =M15+K15+I15+G15+E15 -> 1 | R15: =L15+J15+H15+F15 -> 613.25
B19: PARCIAIS | C19: =SUM(C9:C16) -> 52395.41 | F19: =SUM(F9:F18) -> 24109.97 | H19: =SUM(H9:H18) -> 15548.55 | J19: =SUM(J9:J18) -> 10313.14 | L19: =SUM(L9:L18) -> 2423.75 | N19: =SUM(N9:N18) -> 0
B20: ACUMULADOS | F20: =F19 -> 24109.97 | H20: =H19+F19 -> 39658.52 | J20: =J19+H20 -> 49971.66 | L20: =L19+J20 -> 52395.41 | R20: =SUM(R9:R15) -> 52395.41
B21: TOTAIS | C21: =SUM(C8:C18) -> 52395.41
B23: Prazo máximo de execução: | C23: 4 | D23: MESES
F24: data | J24: Engenheiro
J25: CREA:
B26: Nota: A empresa construtora poderá apresentar cronograma alternativo, respeitando o prazo máximo de execução.
