Workbook

Sheet ORÇAMENTO GLOBAL
D3: UNIVERSIDADE ESTADUAL DO NORTE DO PARANÁ
D4: CNPJ: 08.885.100/0001-54 | L4: BDI | M4: 0.2601
D5: OBRA : INSTALAÇÕES DE PREVENÇÃO CONTRA INCÊNDIO E PÂNICO DO CLM | L5: BDI dif. | M5: 0.1635
D6: Local: CAMPUS LUIZ MENEGHEL
D7: Data do orçamento: AGOSTO DE 2022 | L7: Total c/BDI | M7: =SUM(N14:N436) -> 894581.36
D8: REFERÊNCIA DE PREÇOS : SINAPI_ref_Insumos_Composicoes_PR_052022_Desonerado // ORSE ABRIL 2022 // SICRO 2022
D9: RESP PROJETO: ENG.CIVIL LINCOLN MAKOTO NOZAKI CREA PR 9555/D
A11: ITEM | B11: RESUMO | C11: CÓDIGO | D11: DESCRIÇÃO DOS SERVIÇOS | E11: UN | F11: QTD | G11: UNITÁRIO (SEM BDI) | J11: TOTAL (Valores sem BDI) | M11: VALOR TOTAL C/ BDI
G12: MATERIAL + EQ | H12: MÃO DE OBRA | I12: TOTAL | J12: MATERIAL | K12: MÃO DE OBRA | L12: TOTAL
A14: 1 | D14: SERVIÇOS GERAIS | J14: =SUM(J15:J16) -> 2978.82 | K14: =SUM(K15:K16) -> 10412.28 | L14: =SUM(L15:L16) -> 13391.1 | M14: =SUM(M15:M16) -> 16874.12 | N14: =M14 -> 16874.12
A15: 1.1 | B15: GERAL - ALMOXARIFADO | C15: 10776 INS. | D15: LOCACAO DE CONTAINER 2,30 X 6,00 M, ALT. 2,50 M, PARA ESCRITORIO, SEM DIVISORIAS INTERNAS E SEM SANITARIO | E15: MES | F15: 6 | G15: 468.75 | H15: 0 | I15: =G15+H15 -> 468.75 | J15: =G15*F15 -> 2812.5 | K15: =H15*F15 -> 0 | L15: =ROUND(J15+K15,2) -> 2812.5 | M15: =ROUND(L15*(1+$M$4),2) -> 3544.03
A16: 1.2 | B16: ENGENHEIRO | C16: 90778 | D16: ENGENHEIRO CIVIL DE OBRA PLENO COM ENCARGOS COMPLEMENTARES | E16: H | F16: =6*4*4.5 -> 108 | G16: 1.54 | H16: 96.41 | I16: =G16+H16 -> 97.95 | J16: =G16*F16 -> 166.32 | K16: =H16*F16 -> 10412.28 | L16: =ROUND(J16+K16,2) -> 10578.6 | M16: =ROUND(L16*(1+$M$4),2) -> 13330.09
A18: 2 | D18: RESERVATÓRIO | J18: =J19+J28 -> 75664.2 | K18: =K19+K28 -> 5491.5505 | L18: =L19+L28 -> 81155.756 | M18: =M19+M28 -> 96932.55
D19: FUNDAÇÃO DO RESERVATÓRIO | J19: =SUM(J20:J26) -> 10558.603 | K19: =SUM(K20:K26) -> 2772.3505 | L19: =SUM(L20:L26) -> 13330.96 | M19: =SUM(M20:M26) -> 16798.35 | N19: =M19 -> 16798.35
A20: 2.1 | B20: RES BASE 3x3x1 | C20: 101273 | D20: ESCAVAÇÃO VERTICAL A CÉU ABERTO, EM OBRAS DE INFRAESTRUTURA, INCLUINDO CARGA, DESCARGA E TRANSPORTE, EM SOLO DE 1ª CATEGORIA COM ESCAVADEIRA | E20: M3 | F20: 9 | G20: 15.14 | H20: 1.28 | I20: =G20+H20 -> 16.42 | J20: =G20*F20 -> 136.26 | K20: =H20*F20 -> 11.52 | L20: =ROUND(J20+K20,2) -> 147.78 | M20: =ROUND(L20*(1+$M$4),2) -> 186.22
A21: 2.2 | B21: RES BASE - ARMAÇÃO ESTACA | C21: 92779 | D21: ARMAÇÃO DE PILAR OU VIGA DE UMA ESTRUTURA CONVENCIONAL DE CONCRETO ARMADO EM UMA EDIFICAÇÃO TÉRREA OU SOBRADO UTILIZANDO AÇO CA-50 DE 12,5 MM - MONTAGEM. AF_12/2015 | E21: KG | F21: 62 | G21: 10.41 | H21: 1.57 | I21: =G21+H21 -> 11.98 | J21: =G21*F21 -> 645.42 | K21: =H21*F21 -> 97.34 | L21: =ROUND(J21+K21,2) -> 742.76 | M21: =ROUND(L21*(1+$M$4),2) -> 935.95
A22: 2.3 | B22: RES BASE - ESTACA BROCA | C22: 100896 | D22: ESTACA ESCAVADA MECANICAMENTE, SEM FLUIDO ESTABILIZANTE, COM 25CM DE DIÂMETRO, CONCRETO LANÇADO POR CAMINHÃO BETONEIRA (EXCLUSIVE MOBILIZAÇÃO E DESMOBILIZAÇÃO). AF_01/2020 | E22: M | F22: =6*6 -> 36 | G22: 47.21 | H22: 31.29 | I22: =G22+H22 -> 78.5 | J22: =G22*F22 -> 1699.56 | K22: =H22*F22 -> 1126.44 | L22: =ROUND(J22+K22,2) -> 2826 | M22: =ROUND(L22*(1+$M$4),2) -> 3561.04
A23: 2.4 | B23: RES BASE - LASTRO 5 CM | C23: 96622 | D23: LASTRO COM MATERIAL GRANULAR, APLICADO EM PISOS OU LAJES SOBRE SOLO, ESPESSURA DE *5 CM*. AF_08/2017 | E23: M3 | F23: =9*0.05 -> 0.45 | G23: 75.45 | H23: 28.05 | I23: =G23+H23 -> 103.5 | J23: =G23*F23 -> 33.9525 | K23: =H23*F23 -> 12.6225 | L23: =ROUND(J23+K23,2) -> 46.58 | M23: =ROUND(L23*(1+$M$4),2) -> 58.7
A24: 2.5 | B24: RES BASE - FORMA | C24: 96536 | D24: FABRICAÇÃO, MONTAGEM E DESMONTAGEM DE FÔRMA PARA VIGA BALDRAME, EM MADEIRA SERRADA, E=25 MM, 4 UTILIZAÇÕES. AF_06/2017 | E24: M2 | F24: =1.1*12 -> 13.2 | G24: 53.76 | H24: 28.65 | I24: =G24+H24 -> 82.41 | J24: =G24*F24 -> 709.632 | K24: =H24*F24 -> 378.18 | L24: =ROUND(J24+K24,2) -> 1087.81 | M24: =ROUND(L24*(1+$M$4),2) -> 1370.75
A25: 2.6 | B25: RES BASE - ARMAÇÃO | C25: 92779 | D25: ARMAÇÃO DE PILAR OU VIGA DE UMA ESTRUTURA CONVENCIONAL DE CONCRETO ARMADO EM UMA EDIFICAÇÃO TÉRREA OU SOBRADO UTILIZANDO AÇO CA-50 - MONTAGEM. AF_12/2015 | E25: KG | F25: 380 | G25: 10.41 | H25: 1.57 | I25: =G25+H25 -> 11.98 | J25: =G25*F25 -> 3955.8 | K25: =H25*F25 -> 596.6 | L25: =ROUND(J25+K25,2) -> 4552.4 | M25: =ROUND(L25*(1+$M$4),2) -> 5736.48
A26: 2.7 | B26: RES BASE - CONCRETO | C26: 94964 | D26: CONCRETO FCK = 20MPA, TRAÇO 1:2,7:3 (EM MASSA SECA DE CIMENTO/ AREIA MÉDIA/ BRITA 1) - PREPARO MECÂNICO COM BETONEIRA 400 L. AF_05/2021 | E26: M3 | F26: =1.1*9 -> 9.9 | G26: 341.21 | H26: 55.52 | I26: =G26+H26 -> 396.73 | J26: =G26*F26 -> 3377.979 | K26: =H26*F26 -> 549.648 | L26: =ROUND(J26+K26,2) -> 3927.63 | M26: =ROUND(L26*(1+$M$4),2) -> 4949.21
D28: RESERVATÓRIO METÁLICO | J28: =SUM(J29:J52) -> 65105.596 | K28: =SUM(K29:K52) -> 2719.2 | L28: =SUM(L29:L52) -> 67824.796 | M28: =SUM(M29:M52) -> 80134.2 | N28: =M28 -> 80134.2
A29: 2.8 | B29: RESERVATÓRIO | C29: COTAÇÃO 3 | D29: RESERVATÓRIO METÁLICO CILÍNDRICO DE 30.000 LITROS | E29: UN | F29: 1 | G29: ='COTAÇÕES'!B32 -> 55195 | H29: 0 | I29: =G29+H29 -> 55195 | J29: =G29*F29 -> 55195 | K29: =H29*F29 -> 0 | L29: =ROUND(J29+K29,2) -> 55195 | M29: =ROUND(L29*(1+$M$5),2) -> 64219.38
A30: 2.9 | B30: RES PARA_RAIO | C30: COMP. 01 | D30: SISTEMA DE PROTEÇÃO E ATERRAMENTO DE RESERVATÓRIO METÁLICO. INCLUSIVE PARA RAIO, CORDOALHAS, ELETRODUTOS E ATERRAMENTO COM HASTE DE COBRE | E30: UN | F30: 1 | G30: 1510.29 | H30: 437.04 | I30: =G30+H30 -> 1947.33 | J30: =G30*F30 -> 1510.29 | K30: =H30*F30 -> 437.04 | L30: =ROUND(J30+K30,2) -> 1947.33 | M30: =ROUND(L30*(1+$M$4),2) -> 2453.83
A31: 2.10 | B31: TUB. RES - ALIMENTAÇÃO, CONSUMO, EXTRAVASOR E LIMPEZA | C31: 94651 | D31: TUBULAÇÃO: ALIMENTAÇÃO - TUBO, PVC, SOLDÁVEL, DN 50 MM, INSTALADO EM RESERVAÇÃO DE ÁGUA DE EDIFICAÇÃO QUE POSSUA RESERVATÓRIO DE FIBRA/FIBROCIMENTO FORNECIMENTO E INSTALAÇÃO. AF_06/2016 M CR 23,36 | E31: M | F31: 51 | G31: 22.34 | H31: 6.23 | I31: =G31+H31 -> 28.57 | J31: =G31*F31 -> 1139.34 | K31: =H31*F31 -> 317.73 | L31: =ROUND(J31+K31,2) -> 1457.07 | M31: =ROUND(L31*(1+$M$4),2) -> 1836.05
A32: 2.11 | B32: R.G. RES - ALIMENTAÇÃO, CONSUMO E LIMPEZA | C32: 94499 | D32: REGISTRO DE GAVETA BRUTO, LATÃO, ROSCÁVEL, 2 1/2, INSTALADO EM RESERVAÇÃO DE ÁGUA DE EDIFICAÇÃO QUE POSSUA RESERVATÓRIO FORNECIMENTO E INSTALAÇÃO. AF_06/2016 217,93 | E32: UN | F32: 3 | G32: 245.45 | H32: 15.01 | I32: =G32+H32 -> 260.46 | J32: =G32*F32 -> 736.35 | K32: =H32*F32 -> 45.03 | L32: =ROUND(J32+K32,2) -> 781.38 | M32: =ROUND(L32*(1+$M$4),2) -> 984.62
A33: 2.12 | B33: RES TUB | C33: 89501 | D33: JOELHO 90 GRAUS, PVC, SOLDÁVEL, DN 50MM, INSTALADO EM PRUMADA DE ÁGUA - FORNECIMENTO E INSTALAÇÃO. AF_12/2014 | E33: UN | F33: 11 | G33: 12.48 | H33: 3.56 | I33: =G33+H33 -> 16.04 | J33: =G33*F33 -> 137.28 | K33: =H33*F33 -> 39.16 | L33: =ROUND(J33+K33,2) -> 176.44 | M33: =ROUND(L33*(1+$M$4),2) -> 222.33
A34: 2.13 | B34: RES TUB | C34: 89595 | D34: ADAPTADOR CURTO COM BOLSA E ROSCA PARA REGISTRO, PVC, SOLDÁVEL, DN 50MM X 1.1/4_x0094_, INSTALADO EM PRUMADA DE ÁGUA - FORNECIMENTO E INSTALAÇÃO. AF_12/2014 | E34: UN | F34: 6 | G34: 15.57 | H34: 2.36 | I34: =G34+H34 -> 17.93 | J34: =G34*F34 -> 93.42 | K34: =H34*F34 -> 14.16 | L34: =ROUND(J34+K34,2) -> 107.58 | M34: =ROUND(L34*(1+$M$4),2) -> 135.56
A35: 2.14 | B35: RES BOMBA | C35: 93358 | D35: ESCAVAÇÃO MANUAL DE VALA COM PROFUNDIDADE MENOR OU IGUAL A 1,30 M. AF_02/2021 | E35: M3 | F35: 6 | G35: 25.76 | H35: 52.48 | I35: =G35+H35 -> 78.24 | J35: =G35*F35 -> 154.56 | K35: =H35*F35 -> 314.88 | L35: =ROUND(J35+K35,2) -> 469.44 | M35: =ROUND(L35*(1+$M$4),2) -> 591.54
A36: 2.15 | B36: RES BOMBA | C36: 91871 | D36: ELETRODUTO RÍGIDO ROSCÁVEL, PVC, DN 25 MM (3/4"), PARA CIRCUITOS TERMINAIS, INSTALADO EM PAREDE - FORNECIMENTO E INSTALAÇÃO. AF_12/2015 | E36: M | F36: 75 | G36: 7.89 | H36: 5.71 | I36: =G36+H36 -> 13.6 | J36: =G36*F36 -> 591.75 | K36: =H36*F36 -> 428.25 | L36: =ROUND(J36+K36,2) -> 1020 | M36: =ROUND(L36*(1+$M$4),2) -> 1285.3
A37: 2.16 | B37: RES BOIA | C37: 102137 | D37: CHAVE DE BOIA AUTOMÁTICA SUPERIOR/INFERIOR 15A/250V - FORNECIMENTO E INSTALAÇÃO. AF_12/2020 | E37: UN | F37: 1 | G37: 63.37 | H37: 21.24 | I37: =G37+H37 -> 84.61 | J37: =G37*F37 -> 63.37 | K37: =H37*F37 -> 21.24 | L37: =ROUND(J37+K37,2) -> 84.61 | M37: =ROUND(L37*(1+$M$4),2) -> 106.62
A38: 2.17 | B38: ABRIGO (150x100x150) PARA BOMBA EM ALVENARIA DE TIJOLO - CONCRETO | C38: 94964 | D38: CONCRETO FCK = 20MPA, TRAÇO 1:2,7:3 (EM MASSA SECA DE CIMENTO/ AREIA MÉDIA/ BRITA 1) - PREPARO MECÂNICO COM BETONEIRA 400 L. AF_05/2021 | E38: M3 | F38: 0.4 | G38: 341.21 | H38: 55.52 | I38: =G38+H38 -> 396.73 | J38: =G38*F38 -> 136.484 | K38: =H38*F38 -> 22.208 | L38: =I38*F38 -> 158.692 | M38: =ROUND(L38*(1+$M$4),2) -> 199.97
A39: 2.18 | B39: ABRIGO (150x100x150) PARA BOMBA EM ALVENARIA DE TIJOLOS - FERRAGEM | C39: 92776 | D39: ARMAÇÃO DE PILAR OU VIGA DE UMA ESTRUTURA CONVENCIONAL DE CONCRETO ARMADO EM UMA EDIFICAÇÃO TÉRREA OU SOBRADO UTILIZANDO AÇO CA-50 DE 6,3 MM - MONTAGEM. AF_12/2015 | E39: KG | F39: 28.8 | G39: 13.11 | H39: 4.41 | I39: =G39+H39 -> 17.52 | J39: =G39*F39 -> 377.568 | K39: =H39*F39 -> 127.008 | L39: =I39*F39 -> 504.576 | M39: =ROUND(L39*(1+$M$4),2) -> 635.82
A40: 2.19 | B40: ABRIGO (150x100x150) PARA BOMBA EM ALVENARIA DE TIJOLOS - ALVENARIA | C40: 103332 | D40: ALVENARIA DE VEDAÇÃO DE BLOCOS CERÂMICOS FURADOS NA HORIZONTAL DE 9X14X19 CM (ESPESSURA 9 CM) E ARGAMASSA DE ASSENTAMENTO COM PREPARO EM BETONEIRA. AF_12/2021 | E40: M2 | F40: 1.9 | G40: 56.33 | H40: 56.58 | I40: =G40+H40 -> 112.91 | J40: =G40*F40 -> 107.027 | K40: =H40*F40 -> 107.502 | L40: =I40*F40 -> 214.529 | M40: =ROUND(L40*(1+$M$4),2) -> 270.33
A41: 2.20 | B41: ABRIGO (150x100x150) PARA BOMBA EM ALVENARIA DE TIJOLOS - FORMAS | C41: 96534 | D41: FABRICAÇÃO, MONTAGEM E DESMONTAGEM DE FÔRMA PARA BLOCO DE COROAMENTO, EM MADEIRA SERRADA, E=25 MM, 4 UTILIZAÇÕES. AF_06/2017 | E41: M2 | F41: 7.1 | G41: 59.01 | H41: 35.35 | I41: =G41+H41 -> 94.36 | J41: =G41*F41 -> 418.971 | K41: =H41*F41 -> 250.985 | L41: =I41*F41 -> 669.956 | M41: =ROUND(L41*(1+$M$4),2) -> 844.21
A42: 2.21 | B42: ABRIGO (150x100x150) PARA BOMBA EM ALVENARIA DE TIJOLOS - TERRA | C42: 94319 | D42: ATERRO MANUAL DE VALAS COM SOLO ARGILO-ARENOSO E COMPACTAÇÃO MECANIZADA. AF_05/2016 | E42: M3 | F42: 0.42 | G42: 52.3 | H42: 18.85 | I42: =G42+H42 -> 71.15 | J42: =G42*F42 -> 21.966 | K42: =H42*F42 -> 7.917 | L42: =I42*F42 -> 29.883 | M42: =ROUND(L42*(1+$M$4),2) -> 37.66
A43: 2.22 | B43: RES BOMBA | C43: 102115 | D43: BOMBA CENTRÍFUGA, TRIFÁSICA, 1,5 CV OU 1,48 HP, HM 10 A 70 M, Q 1,8 A 5,3 M3/H - FORNECIMENTO E INSTALAÇÃO. AF_12/2020 | E43: UN | F43: 1 | G43: 2141.1 | H43: 129.9 | I43: =G43+H43 -> 2271 | J43: =G43*F43 -> 2141.1 | K43: =H43*F43 -> 129.9 | L43: =ROUND(J43+K43,2) -> 2271 | M43: =ROUND(L43*(1+$M$4),2) -> 2861.69
A44: 2.23 | B44: RES BOMBA | C44: 101877 | D44: QUADRO DE DISTRIBUIÇÃO DE ENERGIA EM PVC, DE EMBUTIR, SEM BARRAMENTO, PARA 3 DISJUNTORES - FORNECIMENTO E INSTALAÇÃO. AF_10/2020 | E44: UN | F44: 1 | G44: 49.03 | H44: 10.27 | I44: =G44+H44 -> 59.3 | J44: =G44*F44 -> 49.03 | K44: =H44*F44 -> 10.27 | L44: =ROUND(J44+K44,2) -> 59.3 | M44: =ROUND(L44*(1+$M$4),2) -> 74.72
A45: 2.24 | B45: RES BOMBA | C45: 93665 | D45: DISJUNTOR BIPOLAR TIPO DIN, CORRENTE NOMINAL DE 40A - FORNECIMENTO E INSTALAÇÃO. AF_10/2020 | E45: UN | F45: 1 | G45: 68.29 | H45: 9.07 | I45: =G45+H45 -> 77.36 | J45: =G45*F45 -> 68.29 | K45: =H45*F45 -> 9.07 | L45: =ROUND(J45+K45,2) -> 77.36 | M45: =ROUND(L45*(1+$M$4),2) -> 97.48
A46: 2.25 | B46: RES BOMBA | C46: 91926 | D46: CABO DE COBRE FLEXÍVEL ISOLADO, 2,5 MM², ANTI-CHAMA 450/750 V, PARA CIRCUITOS TERMINAIS - FORNECIMENTO E INSTALAÇÃO. AF_12/2015 | E46: M | F46: 160 | G46: 3.04 | H46: 1 | I46: =G46+H46 -> 4.04 | J46: =G46*F46 -> 486.4 | K46: =H46*F46 -> 160 | L46: =ROUND(J46+K46,2) -> 646.4 | M46: =ROUND(L46*(1+$M$4),2) -> 814.53
...

Sheet COMPOSIÇÕES
D3: UNIVERSIDADE ESTADUAL DO NORTE DO PARANÁ
D4: CNPJ: 08.885.100/0001-54
D5: OBRA : INSTALAÇÕES DE PREVENÇÃO CONTRA INCÊNDIO E PÂNICO DO CLM
D6: Local: CAMPUS LUIZ MENEGHEL
D7: Data do orçamento: AGOSTO DE 2022
D8: REFERÊNCIA DE PREÇOS : SINAPI_ref_Insumos_Composicoes_PR_052022_Desonerado // ORSE ABRIL 2022 // SICRO 2022
D9: RESP PROJETO: ENG.CIVIL LINCOLN MAKOTO NOZAKI CREA PR 9555/D
A13: COMP. 01 | B13: SISTEMA DE PROTEÇÃO E ATERRAMENTO DE RESERVATÓRIO METÁLICO. INCLUSIVE PARA RAIO, CORDOALHAS, ELETRODUTOS E ATERRAMENTO COM HASTE DE COBRE | D13: UN | E13: VALORES
A14: RESUMO | B14: COMPOSIÇÃO | F14: VALOR UNITÁRIO (SEM BDI) | I14: VALOR TOTAL (SEM BDI)
A15: DESCRIÇÃO | B15: CÓDIGO | C15: ITEM | D15: UNIDADE | E15: QNT. | F15: MAT. + EQUIP. | G15: MÃO DE OBRA | H15: VALOR TOTAL | I15: MAT. + EQUIP. | J15: MÃO DE OBRA | K15: VALOR TOTAL
A16: CORDOALHA | B16: 96973 | C16: CORDOALHA DE COBRE NU 35 MM², NÃO ENTERRADA, COM ISOLADOR - FORNECIMENTO E INSTALAÇÃO. AF_12/2017 | D16: M | E16: 16 | F16: 49.55 | G16: 13.79 | H16: =F16+G16 -> 63.34 | I16: =F16*E16 -> 792.8 | J16: =G16*E16 -> 220.64 | K16: =I16+J16 -> 1013.44
A17: ELETRODUTO | B17: 96984 | C17: ELETRODUTO PVC 40MM (1 ¼ ) PARA SPDA - FORNECIMENTO E INSTALAÇÃO. AF_12/2017 | D17: UN | E17: 1 | F17: 33.36 | G17: 27.82 | H17: =F17+G17 -> 61.18 | I17: =F17*E17 -> 33.36 | J17: =G17*E17 -> 27.82 | K17: =I17+J17 -> 61.18
A18: HASTE | B18: 96986 | C18: HASTE DE ATERRAMENTO 3/4 PARA SPDA - FORNECIMENTO E INSTALAÇÃO. AF_12/2017 | D18: UN | E18: 1 | F18: 123.85 | G18: 13.25 | H18: =F18+G18 -> 137.1 | I18: =F18*E18 -> 123.85 | J18: =G18*E18 -> 13.25 | K18: =I18+J18 -> 137.1
A19: BASE METÁLICA | B19: 96987 | C19: BASE METÁLICA PARA MASTRO 1 ½ PARA SPDA - FORNECIMENTO E INSTALAÇÃO. AF_12/2017 | D19: UN | E19: 1 | F19: 74.49 | G19: 38.02 | H19: =F19+G19 -> 112.51 | I19: =F19*E19 -> 74.49 | J19: =G19*E19 -> 38.02 | K19: =I19+J19 -> 112.51
A20: MASTRO | B20: 96988 | C20: MASTRO 1 ½ PARA SPDA - FORNECIMENTO E INSTALAÇÃO. AF_12/2017 | D20: UN | E20: 1 | F20: 177.71 | G20: 5.29 | H20: =F20+G20 -> 183 | I20: =F20*E20 -> 177.71 | J20: =G20*E20 -> 5.29 | K20: =I20+J20 -> 183
A21: CAPTOR FRANKLIN | B21: 96989 | C21: CAPTOR TIPO FRANKLIN PARA SPDA - FORNECIMENTO E INSTALAÇÃO. AF_12/2017 | D21: UN | E21: 1 | F21: 148.96 | G21: 4.22 | H21: =F21+G21 -> 153.18 | I21: =F21*E21 -> 148.96 | J21: =G21*E21 -> 4.22 | K21: =I21+J21 -> 153.18
A22: SUPORTE | B22: 98463 | C22: SUPORTE ISOLADOR PARA CORDOALHA DE COBRE - FORNECIMENTO E INSTALAÇÃO. AF_12/2017 | D22: UN | E22: 12 | F22: 13.26 | G22: 10.65 | H22: =F22+G22 -> 23.91 | I22: =F22*E22 -> 159.12 | J22: =G22*E22 -> 127.8 | K22: =I22+J22 -> 286.92
E23: Total: | I23: =SUM(I16:I22) -> 1510.29 | J23: =SUM(J16:J22) -> 437.04 | K23: =SUM(K16:K22) -> 1947.33
A25: COMP. 02 | B25: PERFURAÇÃO, FECHAMENTO E REPINTURA NAS PASSAGENS DE TUBULAÇÃO | D25: M2 | E25: VALORES
A26: RESUMO | B26: COMPOSIÇÃO | F26: VALOR UNITÁRIO (SEM BDI) | I26: VALOR TOTAL (SEM BDI)
A27: DESCRIÇÃO | B27: CÓDIGO | C27: ITEM | D27: UNIDADE | E27: QNT. | F27: MAT. + EQUIP. | G27: MÃO DE OBRA | H27: VALOR TOTAL | I27: MAT. + EQUIP. | J27: MÃO DE OBRA | K27: VALOR TOTAL
A28: FURO | B28: 90437 | C28: FURO EM ALVENARIA PARA DIÂMETROS MAIORES QUE 40 MM E MENORES OU IGUAIS A 75 MM. AF_05/2015 | D28: UN | E28: 1 | F28: 8.38 | G28: 25.17 | H28: =F28+G28 -> 33.55 | I28: =F28*E28 -> 8.38 | J28: =G28*E28 -> 25.17 | K28: =I28+J28 -> 33.55
A29: PREENCHIMENTO | B29: 91188 | C29: CHUMBAMENTO PONTUAL DE ABERTURA EM LAJE COM PASSAGEM DE 1 TUBO DE DIAMETRO EQUIVALENTE IGUAL À 50 MM. AF_05/2015 | D29: UN | E29: 1 | F29: 2.84 | G29: 4.06 | H29: =F29+G29 -> 6.9 | I29: =F29*E29 -> 2.84 | J29: =G29*E29 -> 4.06 | K29: =I29+J29 -> 6.9
A30: PINTURA | B30: 88489 | C30: APLICAÇÃO MANUAL DE PINTURA COM TINTA LÁTEX ACRÍLICA EM PAREDES, DUAS DEMÃOS. AF_06/2014 | D30: M2 | E30: 0.5 | F30: 9.87 | G30: 4.4 | H30: =F30+G30 -> 14.27 | I30: =F30*E30 -> 4.935 | J30: =G30*E30 -> 2.2 | K30: =I30+J30 -> 7.135
E31: Total: | I31: =SUM(I28:I30) -> 16.155 | J31: =SUM(J28:J30) -> 31.43 | K31: =SUM(K28:K30) -> 47.585
A33: COMP. 03 | B33: ABRIGO TANQUE DE COMBUSTÍVEL - ESTRUTURA METÁLICA TRELIÇADA, TELHAMENTO EM AÇO, FUNDAÇÃO EM BLOCO E ESTACA BROCA DE CONCRETO ARMADO, PINTURA ESMALTE EM TODA ESTRUTURA METÁLICA | D33: UN | E33: VALORES
A34: RESUMO | B34: COMPOSIÇÃO | F34: VALOR UNITÁRIO (SEM BDI) | I34: VALOR TOTAL (SEM BDI)
A35: DESCRIÇÃO | B35: CÓDIGO | C35: ITEM | D35: UNIDADE | E35: QNT. | F35: MAT. + EQUIP. | G35: MÃO DE OBRA | H35: VALOR TOTAL | I35: MAT. + EQUIP. | J35: MÃO DE OBRA | K35: VALOR TOTAL
A36: ESTRUTURA | B36: 100777 | C36: ESTRUTURA TRELIÇADA DE COBERTURA, TIPO SHED, COM LIGAÇÕES PARAFUSADAS, INCLUSOS PERFIS METÁLICOS, CHAPAS METÁLICAS, MÃO DE OBRA E TRANSPORTE COM GUINDASTE - FORNECIMENTO E INSTALAÇÃO. AF_01/2020_P | D36: KG | E36: 455.66 | F36: 16.2 | G36: 1.07 | H36: =F36+G36 -> 17.27 | I36: =F36*E36 -> 7381.692 | J36: =G36*E36 -> 487.5562 | K36: =I36+J36 -> 7869.2482
A37: TELHAMENTO | B37: 94213 | C37: TELHAMENTO COM TELHA DE AÇO/ALUMÍNIO E = 0,5 MM, COM ATÉ 2 ÁGUAS, INCLUSO IÇAMENTO. AF_07/2019 | D37: M2 | E37: 24.18 | F37: 90.4 | G37: 2.97 | H37: =F37+G37 -> 93.37 | I37: =F37*E37 -> 2185.872 | J37: =G37*E37 -> 71.8146 | K37: =I37+J37 -> 2257.6866
A38: CONCRETO BLOCO | B38: 97096 | C38: CONCRETAGEM DE RADIER, PISO DE CONCRETO OU LAJE SOBRE SOLO, FCK 30 MPA - LANÇAMENTO, ADENSAMENTO E ACABAMENTO. AF_09/2021 | D38: M3 | E38: 0.52 | F38: 452.15 | G38: 13.14 | H38: =F38+G38 -> 465.29 | I38: =F38*E38 -> 235.118 | J38: =G38*E38 -> 6.8328 | K38: =I38+J38 -> 241.9508
A39: FERRAGEM | B39: 96545 | C39: ARMAÇÃO DE BLOCO, VIGA BALDRAME OU SAPATA UTILIZANDO AÇO CA-50 DE 8 MM - MONTAGEM. AF_06/2017 | D39: KG | E39: 17.23 | F39: 13.1 | G39: 3.09 | H39: =F39+G39 -> 16.19 | I39: =F39*E39 -> 225.713 | J39: =G39*E39 -> 53.2407 | K39: =I39+J39 -> 278.9537
A40: FORMA | B40: 96534 | C40: FABRICAÇÃO, MONTAGEM E DESMONTAGEM DE FÔRMA PARA BLOCO DE COROAMENTO, EM MADEIRA SERRADA, E=25 MM, 4 UTILIZAÇÕES. AF_06/2017 | D40: M2 | E40: 2.4 | F40: 59.01 | G40: 35.35 | H40: =F40+G40 -> 94.36 | I40: =F40*E40 -> 141.624 | J40: =G40*E40 -> 84.84 | K40: =I40+J40 -> 226.464
A41: ESTACA | B41: 100896 | C41: ESTACA ESCAVADA MECANICAMENTE, SEM FLUIDO ESTABILIZANTE, COM 25CM DE DIÂMETRO, CONCRETO LANÇADO POR CAMINHÃO BETONEIRA (EXCLUSIVE MOBILIZAÇÃO E DESMOBILIZAÇÃO). AF_01/2020 | D41: M | E41: 12 | F41: 48.82 | G41: 5.3 | H41: =F41+G41 -> 54.12 | I41: =F41*E41 -> 585.84 | J41: =G41*E41 -> 63.6 | K41: =I41+J41 -> 649.44
A42: PINTURA | B42: 100725 | C42: PINTURA COM TINTA ALQUÍDICA DE FUNDO E ACABAMENTO (ESMALTE SINTÉTICO GRAFITE) PULVERIZADA SOBRE SUPERFÍCIES METÁLICAS (EXCETO PERFIL) EXECUTADO EM OBRA (POR DEMÃO). AF_01/2020_P | D42: M2 | E42: 16.94 | F42: 13.07 | G42: 9.84 | H42: =F42+G42 -> 22.91 | I42: =F42*E42 -> 221.4058 | J42: =G42*E42 -> 166.6896 | K42: =I42+J42 -> 388.0954
E43: Total: | I43: =SUM(I36:I42) -> 10977.265 | J43: =SUM(J36:J42) -> 934.5739 | K43: =SUM(K36:K42) -> 11911.839
A45: COMP. 04 | B45: ESCADA PRÉDIO CENTRAL - ESCADA EM ESTRUTURA METÁLICA SOLDADA E PARAFUSADA, PILARES E VIGAS EM PERFIL U, PISO EM CHAPA XADREZ, FUNDAÇÃO EM BLOCO E ESTACA BROCA. COM GUARDA CORPO METÁLICO, CORRIMÃO EM AÇO. INCLUSO PINTURA ESMALTE DE TODOS AS ESTRUTURAS | D45: UN | E45: VALORES
A46: RESUMO | B46: COMPOSIÇÃO | F46: VALOR UNITÁRIO (SEM BDI) | I46: VALOR TOTAL (SEM BDI)
A47: DESCRIÇÃO | B47: CÓDIGO | C47: ITEM | D47: UNIDADE | E47: QNT. | F47: MAT. + EQUIP. | G47: MÃO DE OBRA | H47: VALOR TOTAL | I47: MAT. + EQUIP. | J47: MÃO DE OBRA | K47: VALOR TOTAL
A48: CONCRETO | B48: 97096 | C48: CONCRETAGEM DE RADIER, PISO DE CONCRETO OU LAJE SOBRE SOLO, FCK 30 MPA - LANÇAMENTO, ADENSAMENTO E ACABAMENTO. AF_09/2021 | D48: M3 | E48: =ROUND(8*0.55*0.55*0.4,2) -> 0.97 | F48: 452.15 | G48: 13.14 | H48: =F48+G48 -> 465.29 | I48: =F48*E48 -> 438.5855 | J48: =G48*E48 -> 12.7458 | K48: =I48+J48 -> 451.3313
...

Sheet COTAÇÕES
D3: UNIVERSIDADE ESTADUAL DO NORTE DO PARANÁ
D4: CNPJ: 08.885.100/0001-54
D5: OBRA : INSTALAÇÕES DE PREVENÇÃO CONTRA INCÊNDIO E PÂNICO DO CLM
D6: Local: CAMPUS LUIZ MENEGHEL
D7: Data do orçamento: AGOSTO DE 2022
D8: REFERÊNCIA DE PREÇOS : SINAPI_ref_Insumos_Composicoes_PR_052022_Desonerado // ORSE ABRIL 2022 // SICRO 2022
D9: RESP PROJETO: ENG.CIVIL LINCOLN MAKOTO NOZAKI CREA PR 9555/D
A11: COTAÇÕES UENP - MERCADO
A13: 1 | B13: TANQUE AÉREO EM AÇO CARBONO COM PINTURA EXTERNA - COMPLETO COM VÁLVULAS E ACESSÓRIOS - PARA DIESEL CAPACIDADE 3000L | K13: 44707
A14: Empresa | B14: Empresa 1: | E14: Empresa 2: | H14: Empresa 3:
A15: Razão Social | B15: MEDIZA EQUIPAMENTOS AGRO-INDUSTRIAIS LTDA | E15: ECOBRASIL INDUSTRIA E COMERCIO LTDA | H15: PASSAFARO METAL MECANICA DO BRASIL LTDA
A16: CNPJ: | B16: 00.279.510.0001-40 | E16: 07.679.248/0001-70 | H16: 07.054.142/0001-80
A17: Valor | B17: 13120 | E17: 14720 | H17: 15900
A18: Média | B18: =(B17+E17+H17)/(COUNT(B17:J17)) -> 14580
A20: 2 | B20: KIT DE ABASTECIMENTO PARA GASOLINA E DIESEL, 230V, COM MEDIDOR, 4 METROS DE MANGUEIRA E BICO AUTOMÁTICO, VAZÃO 60 L/MIN | K20: 44753
A21: Empresa | B21: Empresa 1: | E21: Empresa 2: | H21: Empresa 3:
A22: Razão Social | B22: PETRO LIDER COMERCIO DE EQUIPAMENTOS PARA ABASTECER E LUBRIFICAR EIRELI (link) | E22: GURGELMIX MAQUINHAS E FERRAMENTAS S.A. (link) | H22: CASA DO FRENTISTA COMERCIO DE MAQUINAS LTDA (link)
A23: CNPJ: | B23: 34.560.360/0001-60 | E23: 29.302.348/0001-15 | H23: 21.463.174/0001-60
A24: Valor | B24: 3480 | E24: 2476.56 | H24: 3239.1
A25: Média | B25: =(B24+E24+H24)/(COUNT(B24:J24)) -> 3065.22
A27: 3 | B27: RESERVATÓRIO METÁLICO CILÍNDRICO COM CAPACIDADE PARA 30.000 LITROS | K27: 44753
A28: Empresa | B28: Empresa 1: | E28: Empresa 2: | H28: Empresa 3:
A29: Razão Social | B29: PASSAFARO METAL MECANICA DO BRASIL LTDA | E29: BADY ACO LTDA | H29: A.B. CAVALCANTI RESERVATORIOS
A30: CNPJ: | B30: 07.054.142/0001-80 | E30: 30.985.955/0001-06 | H30: 29.694.872/0001-89
A31: Proposta | B31: 69900 | E31: 49700 | H31: 45985
A32: Média | B32: =(B31+E31+H31)/(COUNT(B31:J31)) -> 55195
A34: 3 | B34: LUMINÁRIA DE EMERGÊNCIA COM DOIS PROJETORES LED DE 2000 LUMENS | K34: 44753
A35: Empresa | B35: Empresa 1: | E35: Empresa 2: | H35: Empresa 3:
A36: Razão Social | B36: AMERICANAS S.A. (link) | E36: DUTRA MAQUINAS COMERCIAL E TECNICA LTDA (link) | H36: AOPEN DO BRASIL SOLUCOES TECNOLOGICAS LTDA (link)
A37: CNPJ: | B37: 00.776.574/0006-60 | E37: 50.970.342/0001-02 | H37: 24.822.848/0002-45
A38: Valor | B38: 172.44 | E38: 145 | H38: 194.9
A39: Média | B39: =(B38+E38+H38)/(COUNT(B38:J38)) -> 170.78

Sheet CRONOGRAMA
D3: UNIVERSIDADE ESTADUAL DO NORTE DO PARANÁ
D4: CNPJ: 08.885.100/0001-54
D5: OBRA : INSTALAÇÕES DE PREVENÇÃO CONTRA INCÊNDIO E PÂNICO DO CLM
D6: Local: CAMPUS LUIZ MENEGHEL
D7: Data do orçamento: AGOSTO DE 2022
D8: REFERÊNCIA DE PREÇOS : SINAPI_ref_Insumos_Composicoes_PR_052022_Desonerado // ORSE ABRIL 2022 // SICRO 2022
D9: RESP PROJETO: ENG.CIVIL LINCOLN MAKOTO NOZAKI CREA PR 9555/D
A11: CRONOGRAMA FÍSICO- FINANCEIRO | D11: CRONOGRAMA FÍSICO- FINANCEIRO
B12: SERVIÇO/LOCAL | E12: 30 DIAS | G12: 60 DIAS | I12: 90 DIAS | K12: 120 DIAS | M12: 150 DIAS | O12: 180 DIAS
C13: Valores | D13: % | E13: % | F13: R$ | G13: % | H13: R$ | J13: R$ | K13: % | L13: R$ | M13: % | N13: R$ | O13: % | P13: R$
A14: 1 | B14: =VLOOKUP(A14,'ORÇAMENTO GLOBAL'!A14:M437,4,0) -> SERVIÇOS GERAIS | C14: =VLOOKUP(A14,'ORÇAMENTO GLOBAL'!A14:M437,13,FALSE()) -> 16874.12 | D14: =C14/'ORÇAMENTO GLOBAL'!$M$7 -> 0.018862588 | E14: =1/6 -> 0.16666667 | F14: =E14*C14 -> 2812.3533 | G14: =1/6 -> 0.16666667 | H14: =G14*C14 -> 2812.3533 | I14: =1/6 -> 0.16666667 | J14: =I14*C14 -> 2812.3533 | K14: =1/6 -> 0.16666667 | L14: =K14*C14 -> 2812.3533 | M14: =1/6 -> 0.16666667 | N14: =M14*C14 -> 2812.3533 | O14: =1/6 -> 0.16666667 | P14: =O14*C14 -> 2812.3533 | Q14: =O14+M14+K14+I14+G14+E14 -> 1
A15: 2 | B15: =VLOOKUP(A15,'ORÇAMENTO GLOBAL'!A15:M438,4,0) -> RESERVATÓRIO | C15: =VLOOKUP(A15,'ORÇAMENTO GLOBAL'!A15:M438,13,FALSE()) -> 96932.55 | D15: =C15/'ORÇAMENTO GLOBAL'!$M$7 -> 0.10835521 | F15: =E15*C15 -> 0 | G15: 0.7 | H15: =G15*C15 -> 67852.785 | I15: 0.3 | J15: =I15*C15 -> 29079.765 | L15: =K15*C15 -> 0 | N15: =M15*C15 -> 0 | P15: =O15*C15 -> 0 | Q15: =O15+M15+K15+I15+G15+E15 -> 1
A16: 3 | B16: =VLOOKUP(A16,'ORÇAMENTO GLOBAL'!A16:M439,4,0) -> EXECUÇÃO DE REDE DE HIDRANTES E INSTALAÇÃO DE BOMBAS | C16: =VLOOKUP(A16,'ORÇAMENTO GLOBAL'!A16:M439,13,FALSE()) -> 383687.06 | D16: =C16/'ORÇAMENTO GLOBAL'!$M$7 -> 0.42890125 | E16: 0.3 | F16: =E16*C16 -> 115106.12 | G16: 0.3 | H16: =G16*C16 -> 115106.12 | I16: 0.4 | J16: =I16*C16 -> 153474.82 | L16: =K16*C16 -> 0 | N16: =M16*C16 -> 0 | P16: =O16*C16 -> 0 | Q16: =O16+M16+K16+I16+G16+E16 -> 1
A17: 4 | B17: =VLOOKUP(A17,'ORÇAMENTO GLOBAL'!A17:M440,4,0) -> EXTINTORES, PLACAS, ALARME E ILUMINAÇÃO | C17: =VLOOKUP(A17,'ORÇAMENTO GLOBAL'!A17:M440,13,FALSE()) -> 175975.16 | D17: =C17/'ORÇAMENTO GLOBAL'!$M$7 -> 0.1967123 | F17: =E17*C17 -> 0 | H17: =G17*C17 -> 0 | J17: =I17*C17 -> 0 | L17: =K17*C17 -> 0 | M17: 0.5 | N17: =M17*C17 -> 87987.58 | O17: 0.5 | P17: =O17*C17 -> 87987.58 | Q17: =O17+M17+K17+I17+G17+E17 -> 1
A18: 5 | B18: =VLOOKUP(A18,'ORÇAMENTO GLOBAL'!A19:M441,4,0) -> ADEQUAÇÕES PREDIO CENTRAL SUPERIOR | C18: =VLOOKUP(A18,'ORÇAMENTO GLOBAL'!A19:M441,13,FALSE()) -> 81290.74 | D18: =C18/'ORÇAMENTO GLOBAL'!$M$7 -> 0.090870147 | F18: =E18*C18 -> 0 | H18: =G18*C18 -> 0 | J18: =I18*C18 -> 0 | K18: 0.5 | L18: =K18*C18 -> 40645.37 | M18: 0.5 | N18: =M18*C18 -> 40645.37 | P18: =O18*C18 -> 0 | Q18: =O18+M18+K18+I18+G18+E18 -> 1
A19: 6 | B19: =VLOOKUP(A19,'ORÇAMENTO GLOBAL'!A20:M442,4,0) -> ADEQUAÇÕES PREDIO CENTRAL TÉRREO | C19: =VLOOKUP(A19,'ORÇAMENTO GLOBAL'!A20:M442,13,FALSE()) -> 4219.53 | D19: =C19/'ORÇAMENTO GLOBAL'!$M$7 -> 0.0047167649 | F19: =E19*C19 -> 0 | H19: =G19*C19 -> 0 | J19: =I19*C19 -> 0 | K19: 1 | L19: =K19*C19 -> 4219.53 | N19: =M19*C19 -> 0 | P19: =O19*C19 -> 0 | Q19: =O19+M19+K19+I19+G19+E19 -> 1
A20: 7 | B20: =VLOOKUP(A20,'ORÇAMENTO GLOBAL'!A21:M443,4,0) -> ADEQUAÇÕES ENFERMAGEM | C20: =VLOOKUP(A20,'ORÇAMENTO GLOBAL'!A21:M443,13,FALSE()) -> 6249.77 | D20: =C20/'ORÇAMENTO GLOBAL'!$M$7 -> 0.0069862511 | F20: =E20*C20 -> 0 | H20: =G20*C20 -> 0 | J20: =I20*C20 -> 0 | K20: 1 | L20: =K20*C20 -> 6249.77 | N20: =M20*C20 -> 0 | P20: =O20*C20 -> 0 | Q20: =O20+M20+K20+I20+G20+E20 -> 1
A21: 8 | B21: =VLOOKUP(A21,'ORÇAMENTO GLOBAL'!A22:M444,4,0) -> ADEQUAÇÕES BIOLOGIA | C21: =VLOOKUP(A21,'ORÇAMENTO GLOBAL'!A22:M444,13,FALSE()) -> 1954.61 | D21: =C21/'ORÇAMENTO GLOBAL'!$M$7 -> 0.0021849438 | F21: =E21*C21 -> 0 | H21: =G21*C21 -> 0 | J21: =I21*C21 -> 0 | K21: 1 | L21: =K21*C21 -> 1954.61 | N21: =M21*C21 -> 0 | P21: =O21*C21 -> 0 | Q21: =O21+M21+K21+I21+G21+E21 -> 1
A22: 9 | B22: =VLOOKUP(A22,'ORÇAMENTO GLOBAL'!A37:M465,4,0) -> ADEQUAÇÕES NICOLETTI | C22: =VLOOKUP(A22,'ORÇAMENTO GLOBAL'!A37:M465,13,FALSE()) -> 3908.68 | D22: =C22/'ORÇAMENTO GLOBAL'!$M$7 -> 0.004369284 | F22: =E22*C22 -> 0 | H22: =G22*C22 -> 0 | J22: =I22*C22 -> 0 | K22: 1 | L22: =K22*C22 -> 3908.68 | N22: =M22*C22 -> 0 | P22: =O22*C22 -> 0 | Q22: =O22+M22+K22+I22+G22+E22 -> 1
A23: 10 | B23: =VLOOKUP(A23,'ORÇAMENTO GLOBAL'!A44:M466,4,0) -> ADEQUAÇÕES BIBLIOTECA | C23: =VLOOKUP(A23,'ORÇAMENTO GLOBAL'!A44:M466,13,FALSE()) -> 3977.42 | D23: =C23/'ORÇAMENTO GLOBAL'!$M$7 -> 0.0044461244 | F23: =E23*C23 -> 0 | H23: =G23*C23 -> 0 | J23: =I23*C23 -> 0 | K23: 1 | L23: =K23*C23 -> 3977.42 | N23: =M23*C23 -> 0 | P23: =O23*C23 -> 0 | Q23: =O23+M23+K23+I23+G23+E23 -> 1
A24: 11 | B24: =VLOOKUP(A24,'ORÇAMENTO GLOBAL'!A45:M467,4,0) -> ADEQUAÇÕES OFICINA | C24: =VLOOKUP(A24,'ORÇAMENTO GLOBAL'!A45:M467,13,FALSE()) -> 42848.78 | D24: =C24/'ORÇAMENTO GLOBAL'!$M$7 -> 0.047898136 | F24: =E24*C24 -> 0 | H24: =G24*C24 -> 0 | J24: =I24*C24 -> 0 | L24: =K24*C24 -> 0 | M24: 1 | N24: =M24*C24 -> 42848.78 | P24: =O24*C24 -> 0 | Q24: =O24+M24+K24+I24+G24+E24 -> 1
A25: 12 | B25: =VLOOKUP(A25,'ORÇAMENTO GLOBAL'!A46:M468,4,0) -> ADEQUAÇÕES SETOR VETERINÁRIA | C25: =VLOOKUP(A25,'ORÇAMENTO GLOBAL'!A46:M468,13,FALSE()) -> 5571.86 | D25: =C25/'ORÇAMENTO GLOBAL'!$M$7 -> 0.0062284553 | F25: =E25*C25 -> 0 | H25: =G25*C25 -> 0 | J25: =I25*C25 -> 0 | L25: =K25*C25 -> 0 | M25: 1 | N25: =M25*C25 -> 5571.86 | P25: =O25*C25 -> 0 | Q25: =O25+M25+K25+I25+G25+E25 -> 1
A26: 13 | B26: =VLOOKUP(A26,'ORÇAMENTO GLOBAL'!A47:M469,4,0) -> ADEQUAÇÕES SETOR PROD VEGETAL | C26: =VLOOKUP(A26,'ORÇAMENTO GLOBAL'!A47:M469,13,FALSE()) -> 1557.59 | D26: =C26/'ORÇAMENTO GLOBAL'!$M$7 -> 0.0017411384 | F26: =E26*C26 -> 0 | H26: =G26*C26 -> 0 | J26: =I26*C26 -> 0 | L26: =K26*C26 -> 0 | M26: 1 | N26: =M26*C26 -> 1557.59 | P26: =O26*C26 -> 0 | Q26: =O26+M26+K26+I26+G26+E26 -> 1
A27: 14 | B27: =VLOOKUP(A27,'ORÇAMENTO GLOBAL'!A48:M470,4,0) -> ADEQUAÇÕES SETOR ENGENHARIA | C27: =VLOOKUP(A27,'ORÇAMENTO GLOBAL'!A48:M470,13,FALSE()) -> 1954.61 | D27: =C27/'ORÇAMENTO GLOBAL'!$M$7 -> 0.0021849438 | F27: =E27*C27 -> 0 | H27: =G27*C27 -> 0 | J27: =I27*C27 -> 0 | L27: =K27*C27 -> 0 | M27: 1 | N27: =M27*C27 -> 1954.61 | P27: =O27*C27 -> 0 | Q27: =O27+M27+K27+I27+G27+E27 -> 1
A28: 15 | B28: =VLOOKUP(A28,'ORÇAMENTO GLOBAL'!A49:M471,4,0) -> ADEQUAÇÕES NEAT | C28: =VLOOKUP(A28,'ORÇAMENTO GLOBAL'!A49:M471,13,FALSE()) -> 65989.77 | D28: =C28/'ORÇAMENTO GLOBAL'!$M$7 -> 0.073766091 | F28: =E28*C28 -> 0 | H28: =G28*C28 -> 0 | J28: =I28*C28 -> 0 | L28: =K28*C28 -> 0 | M28: 0.5 | N28: =M28*C28 -> 32994.885 | O28: 0.5 | P28: =O28*C28 -> 32994.885 | Q28: =O28+M28+K28+I28+G28+E28 -> 1
A29: 16 | B29: =VLOOKUP(A29,'ORÇAMENTO GLOBAL'!A50:M472,4,0) -> LIMPEZA GERAL E RETIRADA DE ENTULHOS | C29: =VLOOKUP(A29,'ORÇAMENTO GLOBAL'!A50:M472,13,FALSE()) -> 1589.11 | D29: =C29/'ORÇAMENTO GLOBAL'!$M$7 -> 0.0017763728 | F29: =E29*C29 -> 0 | H29: =G29*C29 -> 0 | J29: =I29*C29 -> 0 | L29: =K29*C29 -> 0 | N29: =M29*C29 -> 0 | O29: 1 | P29: =O29*C29 -> 1589.11 | Q29: =O29+M29+K29+I29+G29+E29 -> 1
C30: =SUM(C14:C29) -> 894581.36 | D30: =SUM(D14:D29) -> 1
B31: R$ parcial (valor período) | E31: =SUM(F14:F29) -> 117918.47 | G31: =SUM(H14:H29) -> 185771.26 | I31: =SUM(J14:J29) -> 185366.94 | K31: =SUM(L14:L29) -> 63767.733 | M31: =SUM(N14:N29) -> 216373.03 | O31: =SUM(P14:P29) -> 125383.93
B32: %_parcial (período) | E32: =SUM(E31/$C$30) -> 0.13181414 | G32: =SUM(G31/$C$30) -> 0.20766278 | I32: =SUM(I31/$C$30) -> 0.20721083 | K32: =SUM(K31/$C$30) -> 0.071282207 | M32: =SUM(M31/$C$30) -> 0.24187071 | O32: =SUM(O31/$C$30) -> 0.14015933
B33: R$_ acumulado | E33: =E31 -> 117918.47 | G33: =G31+E33 -> 303689.73 | I33: =I31+G33 -> 489056.67 | K33: =K31+I33 -> 552824.4 | M33: =M31+K33 -> 769197.43 | O33: =O31+M33 -> 894581.36
B34: %_acumulado | E34: =E32 -> 0.13181414 | G34: =G32+E34 -> 0.33947692 | I34: =I32+G34 -> 0.54668775 | K34: =K32+I34 -> 0.61796996 | M34: =M32+K34 -> 0.85984067 | O34: =O32+M34 -> 1

Sheet BDI
E3: UNIVERSIDADE ESTADUAL DO NORTE DO PARANÁ
E4: CNPJ: 08.885.100/0001-54
E5: OBRA : INSTALAÇÕES DE PREVENÇÃO CONTRA INCÊNDIO E PÂNICO DO CLM
E6: Local: CAMPUS LUIZ MENEGHEL
E7: Data do orçamento: AGOSTO DE 2022
E8: REFERÊNCIA DE PREÇOS : SINAPI_ref_Insumos_Composicoes_PR_052022_Desonerado // ORSE ABRIL 2022 // SICRO 2022
E9: RESP PROJETO: ENG.CIVIL LINCOLN MAKOTO NOZAKI CREA PR 9555/D
A11: COMPOSIÇÃO DO BDI
A12: CUSTO TOTAL DO SERVIÇO (R$)
A13: ITEM | B13: DISCRIMINAÇÃO | E13: VALOR | F13: TAXA (%) | G13: OBSERVAÇÃO | H13: SITUAÇÃO DO INTERVALO ADMISSÍVEL | I13: PARCELAS DO BDI (%)
I14: 1 QUARTIL | J14: MÉDIO | K14: 3 QUARTIL
A15: 1 | B15: AC – ADMINISTRAÇÃO CENTRAL | F15: 0.03 | H15: =IF(AND(F15>=I15,F15<=K15),"OK","DIFERE") -> OK | I15: 0.03 | J15: 0.04 | K15: 0.055
A16: 2 | B16: SG – SEGUROS + GARANTIA | F16: 0.008 | H16: =IF(AND(F16>=I16,F16<=K16),"OK","DIFERE") -> OK | I16: 0.008 | J16: 0.008 | K16: 0.01
A17: 3 | B17: R – RISCOS | F17: 0.0097 | H17: =IF(AND(F17>=I17,F17<=K17),"OK","DIFERE") -> OK | I17: 0.0097 | J17: 0.0127 | K17: 0.0127
A18: 4 | B18: DF – DESPESAS FINANCEIRAS | F18: 0.0059 | H18: =IF(AND(F18>=I18,F18<=K18),"OK","DIFERE") -> OK | I18: 0.0059 | J18: 0.0123 | K18: 0.0139
A19: 5 | B19: L – LUCRO BRUTO | F19: 0.0743 | H19: =IF(AND(F19>=I19,F19<=K19),"OK","DIFERE") -> OK | I19: 0.0616 | J19: 0.074 | K19: 0.0896
A20: 6 | B20: I – IMPOSTOS | F20: =SUM(F21:F24) -> 0.1015 | G20: FÓRMULA DO BDI DE ACORDO COM ACÓRDÃO 2.369/2011-TCU- PLENÁRIO
A21: 43836 | B21: PIS | F21: 0.0065
A22: 43867 | B22: COFINS | F22: 0.03
A23: 43896 | B23: ISS (CONFORME LEGISLAÇÃO MUNICIPAL) | F23: 0.02
A24: 43927 | B24: CONTRIB. PREVIDÊNCIA SOBRE RECEITA BRUTA – CPRB | F24: 0.045
A26: TOTAL DO BDI (R$)
A27: PREÇO DE VENDA (R$) | G27: ONDE:
A28: BDI (%) | F28: =(((1+(F15+F16+F17))*(1+F18)*(1+F19))/(1-F20))-1 -> 0.26008327 | G28: AC : TAXA DE ADMINISTRAÇÃO CENTRAL
G29: S: TAXA DE SEGURO
A30: Parâmetros do Acórdão 2.622/2013 - Plenário | G30: G: TAXA DE GARANTIAS
A31: Sem CPRB | B31: 0.2034 | C31: 0.2212 | D31: 0.25 | G31: R: TAXA DE RISCOS
A32: Com CPRB | B32: 0.2601 | C32: 0.2787 | D32: 0.3089 | G32: DF: TAXA DE DESPESAS
G33: L: TAXA DE LUCRO
G34: I: TAXA DE INCIDÊNCIA DE IMPOSTOS (PIS, COFINS, ISS, CPRB)
A36: COMPOSIÇÃO DO BDI REDUZIDO
A37: CUSTO TOTAL DO SERVIÇO (R$)
A38: ITEM | B38: DISCRIMINAÇÃO | E38: VALOR | F38: TAXA (%) | G38: OBSERVAÇÃO | H38: SITUAÇÃO DO INTERVALO ADMISSÍVEL | I38: PARCELAS DO BDI (%)
I39: 1 QUARTIL | J39: MÉDIO | K39: 3 QUARTIL
A40: 1 | B40: AC – ADMINISTRAÇÃO CENTRAL | F40: 0.015 | H40: =IF(AND(F40>=I40,F40<=K40),"OK","DIFERE") -> OK | I40: 0.015 | J40: 0.0345 | K40: 0.0449
A41: 2 | B41: SG – SEGUROS + GARANTIA | F41: 0.003 | H41: =IF(AND(F41>=I41,F41<=K41),"OK","DIFERE") -> OK | I41: 0.003 | J41: 0.0048 | K41: 0.0082
A42: 3 | B42: R – RISCOS | F42: 0.0056 | H42: =IF(AND(F42>=I42,F42<=K42),"OK","DIFERE") -> OK | I42: 0.0056 | J42: 0.0085 | K42: 0.0089
A43: 4 | B43: DF – DESPESAS FINANCEIRAS | F43: 0.0085 | H43: =IF(AND(F43>=I43,F43<=K43),"OK","DIFERE") -> OK | I43: 0.0085 | J43: 0.0085 | K43: 0.0111
A44: 5 | B44: L – LUCRO BRUTO | F44: 0.0352 | H44: =IF(AND(F44>=I44,F44<=K44),"OK","DIFERE") -> OK | I44: 0.035 | J44: 0.0511 | K44: 0.0622
A45: 6 | B45: I – IMPOSTOS | F45: =SUM(F46:F49) -> 0.0815 | G45: FÓRMULA DO BDI DE ACORDO COM ACÓRDÃO 2.369/2011-TCU- PLENÁRIO
...
