Workbook

Sheet ORÇAMENTO 
D3: UNIVERSIDADE ESTADUAL DO NORTE DO PARANÁ
D4: CNPJ: 08.885.100/0001-54 | L4: BDI | M4: 0.2602
D5: OBRA : REFORMA ELÉTRICA BLOCOS A-F CCP - FASE I
D6: Local: Campus de Cornélio Procópio | L6: Total S/BDI | M6: =M7/(1+M4) -> 205619.37
D7: Data do orçamento: OUTUBRO DE 2022 | L7: Total c/BDI | M7: =N7 -> 259121.53 | N7: =SUM(N13:N47) -> 259121.53
D8: SINAPI_Custo_Ref_Composicoes_Analitico_PR_202209_Desonerado
D9: RESP. TÉCNICO: FELIPE SCALA FRANCICA ENGENHEIRO CIVIL CREA SP 5069900657
A11: ITEM | B11: RESUMO | C11: CÓDIGO | D11: DESCRIÇÃO DOS SERVIÇOS | E11: UN | F11: QTD | G11: UNITÁRIO (SEM BDI) | J11: TOTAL (Valores sem BDI) | M11: VALOR TOTAL C/ BDI
G12: MATERIAL + EQ | H12: MÃO DE OBRA | I12: TOTAL | J12: MATERIAL | K12: MÃO DE OBRA | L12: TOTAL
A13: 1 | B13: CABOS INFRAESTRUTURA REDE AR | J13: =SUM(J14:J20) -> 125560.46 | K13: =SUM(K14:K20) -> 11857.64 | L13: =SUM(L14:L20) -> 137418.1 | M13: =SUM(M14:M20) -> 173174.27 | N13: =M13 -> 173174.27
A14: 1.1 | B14: CABOS 750V - 6 MM² | C14: 91930 | D14: CABO DE COBRE FLEXÍVEL ISOLADO, 6 MM², ANTI-CHAMA 0,6/1,0 KV, PARA CIRCUITOS TERMINAIS - FORNECIMENTO E INSTALAÇÃO. AF_12/2015 | E14: M | F14: 140 | G14: 6.9 | H14: 1.94 | I14: =SUM(G14:H14) -> 8.84 | J14: =G14*F14 -> 966 | K14: =H14*F14 -> 271.6 | L14: =I14*F14 -> 1237.6 | M14: =ROUND(L14*(1+$M$4),2) -> 1559.62
A15: 1.2 | B15: CABOS 750V - 16 MM² | C15: 91935 | D15: CABO DE COBRE FLEXÍVEL ISOLADO, 16 MM², ANTI-CHAMA 0,6/1,0 KV, PARA CIRCUITOS TERMINAIS - FORNECIMENTO E INSTALAÇÃO. AF_12/2015 | E15: M | F15: 1064 | G15: 19.44 | H15: 4.31 | I15: =SUM(G15:H15) -> 23.75 | J15: =G15*F15 -> 20684.16 | K15: =H15*F15 -> 4585.84 | L15: =I15*F15 -> 25270 | M15: =ROUND(L15*(1+$M$4),2) -> 31845.25
A16: 1.3 | B16: CABOS 750V - 25 MM² | C16: 92984 | D16: CABO DE COBRE FLEXÍVEL ISOLADO, 25 MM², ANTI-CHAMA 0,6/1,0 KV, PARA REDE DE DISTRIBUIÇÃO DE ENERGIA ELÉTRICA - FORNECIMENTO E INSTALAÇÃO. AF_12/2021 | E16: M | F16: 1040 | G16: 24.49 | H16: 2.26 | I16: =SUM(G16:H16) -> 26.75 | J16: =G16*F16 -> 25469.6 | K16: =H16*F16 -> 2350.4 | L16: =I16*F16 -> 27820 | M16: =ROUND(L16*(1+$M$4),2) -> 35058.76
A17: 1.4 | B17: CABOS 1KV - 35 MM² | C17: 92986 | D17: CABO DE COBRE FLEXÍVEL ISOLADO, 35 MM², ANTI-CHAMA 0,6/1,0 KV, PARA REDE ENTERRADA DE DISTRIBUIÇÃO DE ENERGIA ELÉTRICA - FORNECIMENTO E INSTALAÇÃO. AF_12/2021 | E17: M | F17: =670+10 -> 680 | G17: 34.36 | H17: 2.61 | I17: =SUM(G17:H17) -> 36.97 | J17: =G17*F17 -> 23364.8 | K17: =H17*F17 -> 1774.8 | L17: =I17*F17 -> 25139.6 | M17: =ROUND(L17*(1+$M$4),2) -> 31680.92
A18: 1.5 | B18: CABOS 1KV - 35 MM² | C18: 92988 | D18: CABO DE COBRE FLEXÍVEL ISOLADO, 50 MM², ANTI-CHAMA 0,6/1,0 KV, PARA REDE ENTERRADA DE DISTRIBUIÇÃO DE ENERGIA ELÉTRICA - FORNECIMENTO E INSTALAÇÃO. AF_12/2021 | E18: M | F18: 10 | G18: 50.54 | H18: 3.1 | I18: =SUM(G18:H18) -> 53.64 | J18: =G18*F18 -> 505.4 | K18: =H18*F18 -> 31 | L18: =I18*F18 -> 536.4 | M18: =ROUND(L18*(1+$M$4),2) -> 675.97
A19: 1.6 | B19: CABO 1KV - 70 MM² | C19: 92990 | D19: CABO DE COBRE FLEXÍVEL ISOLADO, 70 MM², ANTI-CHAMA 0,6/1,0 KV, PARA REDE ENTERRADA DE DISTRIBUIÇÃO DE ENERGIA ELÉTRICA - FORNECIMENTO E INSTALAÇÃO. AF_12/2021 | E19: M | F19: =450 -> 450 | G19: 70.49 | H19: 3.77 | I19: =SUM(G19:H19) -> 74.26 | J19: =G19*F19 -> 31720.5 | K19: =H19*F19 -> 1696.5 | L19: =I19*F19 -> 33417 | M19: =ROUND(L19*(1+$M$4),2) -> 42112.1
A20: 1.7 | B20: CABO 1KV - 95 MM² | C20: 92992 | D20: CABO DE COBRE FLEXÍVEL ISOLADO, 95 MM², ANTI-CHAMA 0,6/1,0 KV, PARA REDE ENTERRADA DE DISTRIBUIÇÃO DE ENERGIA ELÉTRICA - FORNECIMENTO E INSTALAÇÃO. AF_12/2021 | E20: M | F20: =250 -> 250 | G20: 91.4 | H20: 4.59 | I20: =SUM(G20:H20) -> 95.99 | J20: =G20*F20 -> 22850 | K20: =H20*F20 -> 1147.5 | L20: =I20*F20 -> 23997.5 | M20: =ROUND(L20*(1+$M$4),2) -> 30241.65
A21: 2 | B21: PONTOS DE UTILIZAÇÃO (tomadas) | J21: =SUM(J22:J28) -> 8260.98 | K21: =SUM(K22:K28) -> 3835.965 | L21: =SUM(L22:L28) -> 12096.945 | M21: =SUM(M22:M28) -> 15244.56 | N21: =M21 -> 15244.56
A22: 2.1 | B22: CABOS 6 MM² - 1 metro por equipamento | C22: 91930 | D22: CABO DE COBRE FLEXÍVEL ISOLADO, 6 MM², ANTI-CHAMA 450/750 V, PARA CIRCUITOS TERMINAIS - FORNECIMENTO E INSTALAÇÃO. AF_12/2015 | E22: M | F22: =51*1*4 -> 204 | G22: 6.9 | H22: 1.94 | I22: =SUM(G22:H22) -> 8.84 | J22: =G22*F22 -> 1407.6 | K22: =H22*F22 -> 395.76 | L22: =I22*F22 -> 1803.36 | M22: =ROUND(L22*(1+$M$4),2) -> 2272.59
A23: 2.2 | B23: CAIXA DE ESPERA INTERNA | C23: 95805 | D23: CONDULETE DE PVC, TIPO B, PARA ELETRODUTO DE PVC SOLDÁVEL DN 25 MM (3/4''), APARENTE - FORNECIMENTO E INSTALAÇÃO. AF_11/2016 | E23: UN | F23: 51 | G23: 19.75 | H23: 10.86 | I23: =SUM(G23:H23) -> 30.61 | J23: =G23*F23 -> 1007.25 | K23: =H23*F23 -> 553.86 | L23: =I23*F23 -> 1561.11 | M23: =ROUND(L23*(1+$M$4),2) -> 1967.31
A24: 2.3 | B24: ELTRODUTO RÍGIDO + ACESSÓRIOS | C24: 91872 | D24: ELETRODUTO RÍGIDO ROSCÁVEL, PVC, DN 32 MM (1"), PARA CIRCUITOS TERMINAIS, INSTALADO EM PAREDE - FORNECIMENTO E INSTALAÇÃO. AF_12/2015 | E24: M | F24: 51 | G24: 12.51 | H24: 7.29 | I24: =SUM(G24:H24) -> 19.8 | J24: =G24*F24 -> 638.01 | K24: =H24*F24 -> 371.79 | L24: =I24*F24 -> 1009.8 | M24: =ROUND(L24*(1+$M$4),2) -> 1272.55
A25: 2.4 | B25: DISJUNTOR INDIVIDUAL | C25: 93672 | D25: DISJUNTOR TRIPOLAR TIPO DIN, CORRENTE NOMINAL DE 40A - FORNECIMENTO E INSTALAÇÃO. AF_10/2020 | E25: un | F25: 51 | G25: 86.98 | H25: 15.24 | I25: =SUM(G25:H25) -> 102.22 | J25: =G25*F25 -> 4435.98 | K25: =H25*F25 -> 777.24 | L25: =I25*F25 -> 5213.22 | M25: =ROUND(L25*(1+$M$4),2) -> 6569.7
A26: 2.5 | B26: FUROS | C26: 90437 | D26: FURO EM ALVENARIA PARA DIÂMETROS MAIORES QUE 40 MM E MENORES OU IGUAIS A 75 MM. AF_05/2015 | E26: UN | F26: 51 | G26: 8.38 | H26: 28.19 | I26: =SUM(G26:H26) -> 36.57 | J26: =G26*F26 -> 427.38 | K26: =H26*F26 -> 1437.69 | L26: =I26*F26 -> 1865.07 | M26: =ROUND(L26*(1+$M$4),2) -> 2350.36
A27: 2.6 | B27: RECOMPOSIÇÃO FURO | C27: 87529 | D27: MASSA ÚNICA, PARA RECEBIMENTO DE PINTURA, EM ARGAMASSA TRAÇO 1:2:8, PREPARO MECÂNICO COM BETONEIRA 400L, APLICADA MANUALMENTE EM FACES INTERNAS DE PAREDES, ESPESSURA DE 20MM, COM EXECUÇÃO DE TALISCAS. AF_06/2014 | E27: M² | F27: =F26*(0.5*0.5) -> 12.75 | G27: 18.51 | H27: 15.01 | I27: =SUM(G27:H27) -> 33.52 | J27: =G27*F27 -> 236.0025 | K27: =H27*F27 -> 191.3775 | L27: =I27*F27 -> 427.38 | M27: =ROUND(L27*(1+$M$4),2) -> 538.58
A28: 2.7 | B28: RECOMPOSIÇÃO FURO | C28: 95626 | D28: APLICAÇÃO MANUAL DE TINTA LÁTEX ACRÍLICA EM PAREDE, DUAS DEMÃOS. AF_11/2016 | E28: M² | F28: =F27 -> 12.75 | G28: 8.53 | H28: 8.49 | I28: =SUM(G28:H28) -> 17.02 | J28: =G28*F28 -> 108.7575 | K28: =H28*F28 -> 108.2475 | L28: =I28*F28 -> 217.005 | M28: =ROUND(L28*(1+$M$4),2) -> 273.47
A29: 3 | B29: ELETRODUTOS E ELETROCALHAS | J29: =SUM(J30:J38) -> 35072.722 | K29: =SUM(K30:K38) -> 6750.78 | L29: =SUM(L30:L38) -> 41823.502 | M29: =SUM(M30:M38) -> 52705.99 | N29: =M29 -> 52705.99
A30: 3.1 | B30: ELETROCALHA | C30: 12537/ORSE | D30: Fornecimento e instalação de eletrocalha, zincada, 75 x 50 x 3000 mm (ref. mopa ou similar) | E30: M | F30: 663 | G30: 28.92 | H30: 3.94 | I30: =SUM(G30:H30) -> 32.86 | J30: =G30*F30 -> 19173.96 | K30: =H30*F30 -> 2612.22 | L30: =I30*F30 -> 21786.18 | M30: =ROUND(L30*(1+$M$4),2) -> 27454.94
A31: 3.2 | B31: ELETROCALHA TAMPA | C31: 12579/ORSE | D31: Tampa de encaixe 75 x 3000 mm, zincada, para eletrocalha metálica (ref.: mopa ou similar) | E31: M | F31: =F30 -> 663 | G31: 12.91 | H31: 0.49 | I31: =SUM(G31:H31) -> 13.4 | J31: =G31*F31 -> 8559.33 | K31: =H31*F31 -> 324.87 | L31: =I31*F31 -> 8884.2 | M31: =ROUND(L31*(1+$M$4),2) -> 11195.87
A32: 3.3 | B32: SUPORTE MÃO FRANCESA (_) | C32: 08697/ORSE | D32: Suporte vertical 75 x 50 mm para fixação de eletrocalha metálica ( ref.: Mopa ou similar) | E32: UN | F32: =F30/2.5 -> 265.2 | G32: 4.86 | H32: 5.9 | I32: =SUM(G32:H32) -> 10.76 | J32: =G32*F32 -> 1288.872 | K32: =H32*F32 -> 1564.68 | L32: =I32*F32 -> 2853.552 | M32: =ROUND(L32*(1+$M$4),2) -> 3596.05
A33: 3.4 | B33: CURVAS E ACESSÓRIOS PARA ELETROCALHA | C33: 11522/ORSE | D33: [ADAPTADO PARA TODAS AS CONEXÕES] Curva de inversão 75 x 50 mm para eletrocalha metálica (ref.: mopa ou similar) | E33: UN | F33: 83 | G33: 31.91 | H33: 5.9 | I33: =SUM(G33:H33) -> 37.81 | J33: =G33*F33 -> 2648.53 | K33: =H33*F33 -> 489.7 | L33: =I33*F33 -> 3138.23 | M33: =ROUND(L33*(1+$M$4),2) -> 3954.8
A34: 3.5 | B34: EMENDAS ELETROCALHAS | C34: 08908/ORSE | D34: Fornecimento e instalação de emenda interna com base lisa 75 x 50 mm (valemam ou similar) | E34: UN | F34: =F30/3 -> 221 | G34: 2.99 | H34: 2.08 | I34: =SUM(G34:H34) -> 5.07 | J34: =G34*F34 -> 660.79 | K34: =H34*F34 -> 459.68 | L34: =I34*F34 -> 1120.47 | M34: =ROUND(L34*(1+$M$4),2) -> 1412.02
A35: 3.6 | B35: ELETRODUTO PVC 3" - QUADROS | C35: 93011 | D35: ELETRODUTO RÍGIDO ROSCÁVEL, PVC, DN 85 MM (3") - FORNECIMENTO E INSTALAÇÃO. AF_12/2021 | E35: M | F35: =3*3 -> 9 | G35: 49.29 | H35: 6.41 | I35: =SUM(G35:H35) -> 55.7 | J35: =G35*F35 -> 443.61 | K35: =H35*F35 -> 57.69 | L35: =I35*F35 -> 501.3 | M35: =ROUND(L35*(1+$M$4),2) -> 631.74
A36: 3.7 | B36: ELETRODUTO ENTERRADO | C36: 97669 | D36: ELETRODUTO FLEXÍVEL CORRUGADO, PEAD, DN 90 (3"), PARA REDE ENTERRADA DE DISTRIBUIÇÃO DE ENERGIA ELÉTRICA - FORNECIMENTO E INSTALAÇÃO. AF_12/2021 | E36: M | F36: =100+10+10 -> 120 | G36: 11.79 | H36: 5.69 | I36: =SUM(G36:H36) -> 17.48 | J36: =G36*F36 -> 1414.8 | K36: =H36*F36 -> 682.8 | L36: =I36*F36 -> 2097.6 | M36: =ROUND(L36*(1+$M$4),2) -> 2643.4
A37: 3.8 | B37: ESCAVAÇÕES E QUEBRAS | C37: 93358 | D37: ESCAVAÇÃO MANUAL DE VALA COM PROFUNDIDADE MENOR OU IGUAL A 1,30 M. AF_02/2021 | E37: M³ | F37: =50*0.6*0.3 -> 9 | G37: 25.77 | H37: 58.76 | I37: =SUM(G37:H37) -> 84.53 | J37: =G37*F37 -> 231.93 | K37: =H37*F37 -> 528.84 | L37: =I37*F37 -> 760.77 | M37: =ROUND(L37*(1+$M$4),2) -> 958.72
A38: 3.9 | B38: RECOMPOSIÇÕES DE PISOS/CALÇADAS | C38: 101747 | D38: PISO EM CONCRETO 20 MPA PREPARO MECÂNICO, ESPESSURA 7CM. AF_09/2020 | E38: M² | F38: =10 -> 10 | G38: 65.09 | H38: 3.03 | I38: =SUM(G38:H38) -> 68.12 | J38: =G38*F38 -> 650.9 | K38: =H38*F38 -> 30.3 | L38: =I38*F38 -> 681.2 | M38: =ROUND(L38*(1+$M$4),2) -> 858.45
A39: 4 | B39: CAIXAS DE PASSAGEM | J39: =SUM(J40) -> 2096.37 | K39: =SUM(K40) -> 442.89 | L39: =SUM(L40) -> 2539.26 | M39: =SUM(M40) -> 3199.98 | N39: =M39 -> 3199.98
A40: 4.1 | B40: CAIXA DE CONCRETO ENTERRADA | C40: 97883 | D40: CAIXA ENTERRADA ELÉTRICA RETANGULAR, EM CONCRETO PRÉ-MOLDADO, FUNDO COM BRITA, DIMENSÕES INTERNAS: 0,6X0,6X0,5 M. AF_12/2020 | E40: UN | F40: 9 | G40: 232.93 | H40: 49.21 | I40: =SUM(G40:H40) -> 282.14 | J40: =G40*F40 -> 2096.37 | K40: =H40*F40 -> 442.89 | L40: =I40*F40 -> 2539.26 | M40: =ROUND(L40*(1+$M$4),2) -> 3199.98
A41: 5 | B41: QUADROS E DISJUNTORES | J41: =SUM(J42:J45) -> 10652.31 | K41: =SUM(K42:K45) -> 620.06 | L41: =SUM(L42:L45) -> 11272.37 | M41: =SUM(M42:M45) -> 14205.44 | N41: =M41 -> 14205.44
A42: 5.1 | B42: QUADROS DE DISTRIBUIÇÃO | C42: 101882 ADAP | D42: QUADRO DE DISTRIBUIÇÃO DE ENERGIA EM CHAPA DE AÇO GALVANIZADO, DE SOBREPOR, COM BARRAMENTO TRIFÁSICO, PARA 30 DISJUNTORES DIN 300A - FORNECIMENTO E INSTALAÇÃO. AF_10/2020 | E42: UN | F42: 3 | G42: 1686.82 | H42: 27.04 | I42: =SUM(G42:H42) -> 1713.86 | J42: =G42*F42 -> 5060.46 | K42: =H42*F42 -> 81.12 | L42: =I42*F42 -> 5141.58 | M42: =ROUND(L42*(1+$M$4),2) -> 6479.42
A43: 5.2 | B43: DISJUNTORES | C43: 101893 | D43: DISJUNTOR TRIPOLAR , CORRENTE NOMINAL DE 10 ATÉ 50A - FORNECIMENTO E INSTALAÇÃO. AF_10/2020 | E43: UN | F43: 1 | G43: 101.59 | H43: 7.45 | I43: =SUM(G43:H43) -> 109.04 | J43: =G43*F43 -> 101.59 | K43: =H43*F43 -> 7.45 | L43: =I43*F43 -> 109.04 | M43: =ROUND(L43*(1+$M$4),2) -> 137.41
...

Sheet CRONOGRAMA
D3: UNIVERSIDADE ESTADUAL DO NORTE DO PARANÁ
D4: CNPJ: 08.885.100/0001-54
D5: OBRA : REFORMA ELÉTRICA BLOCOS A-F CCP - FASE I
D6: Local: Campus de Cornélio Procópio
D7: Data do orçamento: OUTUBRO DE 2022
D8: SINAPI_Custo_Ref_Composicoes_Analitico_PR_202209_Desonerado
D9: RESP. TÉCNICO: FELIPE SCALA FRANCICA ENGENHEIRO CIVIL CREA SP 5069900657
A11: CRONOGRAMA FÍSICO- FINANCEIRO
B12: SERVIÇO/LOCAL | E12: 30 DIAS | G12: 60 DIAS | I12: 90 DIAS
C13: Valores | D13: % | E13: % | F13: R$ | G13: % | H13: R$ | I13: % | J13: R$
A14: 1 | B14: =VLOOKUP(A14,'ORÇAMENTO '!A7:M37,2,0) -> CABOS INFRAESTRUTURA REDE AR | C14: =VLOOKUP(A14,'ORÇAMENTO '!$A$2:$M$864,13,FALSE()) -> 173174.27 | D14: =C14/$C$20 -> 0.66831293 | E14: 0.33 | F14: =E14*C14 -> 57147.509 | G14: 0.33 | H14: =G14*C14 -> 57147.509 | I14: 0.34 | J14: =I14*C$14 -> 58879.252 | K14: =E14+G14+I14 -> 1
A15: 2 | B15: =VLOOKUP(A15,'ORÇAMENTO '!$A$2:$M$850,2,FALSE()) -> PONTOS DE UTILIZAÇÃO (tomadas) | C15: =VLOOKUP(A15,'ORÇAMENTO '!$A$2:$M$864,13,FALSE()) -> 15244.56 | D15: =C15/$C$20 -> 0.0588317 | E15: 0.33 | F15: =E15*C15 -> 5030.7048 | G15: 0.33 | H15: =G15*C15 -> 5030.7048 | I15: 0.34 | J15: =I15*C15 -> 5183.1504 | K15: =E15+G15+I15 -> 1
A16: 3 | B16: =VLOOKUP(A16,'ORÇAMENTO '!$A$2:$M$850,2,FALSE()) -> ELETRODUTOS E ELETROCALHAS | C16: =VLOOKUP(A16,'ORÇAMENTO '!$A$2:$M$864,13,FALSE()) -> 52705.99 | D16: =C16/$C$20 -> 0.20340259 | E16: 0.33 | F16: =E16*C16 -> 17392.977 | G16: 0.33 | H16: =G16*C16 -> 17392.977 | I16: 0.34 | J16: =I16*C16 -> 17920.037 | K16: =E16+G16+I16 -> 1
A17: 4 | B17: =VLOOKUP(A17,'ORÇAMENTO '!$A$2:$M$850,2,FALSE()) -> CAIXAS DE PASSAGEM | C17: =VLOOKUP(A17,'ORÇAMENTO '!$A$2:$M$864,13,FALSE()) -> 3199.98 | D17: =C17/$C$20 -> 0.01234934 | E17: 0.33 | F17: =E17*C17 -> 1055.9934 | G17: 0.33 | H17: =G17*C17 -> 1055.9934 | I17: 0.34 | J17: =I17*C17 -> 1087.9932 | K17: =E17+G17+I17 -> 1
A18: 5 | B18: =VLOOKUP(A18,'ORÇAMENTO '!$A$2:$M$850,2,FALSE()) -> QUADROS E DISJUNTORES | C18: =VLOOKUP(A18,'ORÇAMENTO '!$A$2:$M$864,13,FALSE()) -> 14205.44 | D18: =C18/$C$20 -> 0.054821535 | E18: 0.33 | F18: =E18*C18 -> 4687.7952 | G18: 0.33 | H18: =G18*C18 -> 4687.7952 | I18: 0.34 | J18: =I18*C18 -> 4829.8496 | K18: =E18+G18+I18 -> 1
A19: 6 | B19: =VLOOKUP(A19,'ORÇAMENTO '!$A$2:$M$850,2,FALSE()) -> ATERRAMENTO | C19: =VLOOKUP(A19,'ORÇAMENTO '!$A$2:$M$864,13,FALSE()) -> 591.29 | D19: =C19/$C$20 -> 0.0022819022 | E19: 0.33 | F19: =E19*C19 -> 195.1257 | G19: 0.33 | H19: =G19*C19 -> 195.1257 | I19: 0.34 | J19: =I19*C19 -> 201.0386 | K19: =E19+G19+I19 -> 1
B20: TOTAL | C20: =SUM(C14:C19) -> 259121.53 | D20: =C20/$C$20 -> 1
D22: R$ parcial (valor período) | E22: =SUM(F14:F19) -> 85510.105 | G22: =SUM(H14:H19) -> 85510.105 | I22: =SUM(J14:J19) -> 88101.32
D23: %_parcial (período) | E23: =SUM(E22/$C$20) -> 0.33 | G23: =SUM(G22/$C$20) -> 0.33 | I23: =SUM(I22/$C$20) -> 0.34
D24: R$_ acumulado | E24: =E22 -> 85510.105 | G24: =E24+G22 -> 171020.21 | I24: =G24+I22 -> 259121.53
D25: %_acumulado | E25: =E23 -> 0.33 | G25: =E25+G23 -> 0.66 | I25: =G25+I23 -> 1

Sheet BDI
E3: UNIVERSIDADE ESTADUAL DO NORTE DO PARANÁ
E4: CNPJ: 08.885.100/0001-54
E5: OBRA : REFORMA ELÉTRICA BLOCOS A-F CCP - FASE I
E6: Local: Campus de Cornélio Procópio
E7: Data do orçamento: OUTUBRO DE 2022
E8: SINAPI_Custo_Ref_Composicoes_Analitico_PR_202208_Desonerado
E9: RESP. TÉCNICO: FELIPE SCALA FRANCICA ENGENHEIRO CIVIL CREA SP 5069900657
A11: COMPOSIÇÃO DO BDI
A12: CUSTO TOTAL DO SERVIÇO (R$)
A13: ITEM | B13: DISCRIMINAÇÃO | E13: VALOR | F13: TAXA (%) | G13: OBSERVAÇÃO | H13: SITUAÇÃO DO INTERVALO ADMISSÍVEL | I13: PARCELAS DO BDI (%)
I14: 1 QUARTIL | J14: MÉDIO | K14: 3 QUARTIL
A15: 1 | B15: AC – ADMINISTRAÇÃO CENTRAL | F15: 0.03 | H15: OK | I15: 0.03 | J15: 0.04 | K15: 0.055
A16: 2 | B16: SG – SEGUROS + GARANTIA | F16: 0.008 | H16: OK | I16: 0.008 | J16: 0.008 | K16: 0.01
A17: 3 | B17: R – RISCOS | F17: 0.0097 | H17: OK | I17: 0.0097 | J17: 0.0127 | K17: 0.0127
A18: 4 | B18: DF – DESPESAS FINANCEIRAS | F18: 0.0059 | H18: OK | I18: 0.0059 | J18: 0.0123 | K18: 0.0139
A19: 5 | B19: L – LUCRO BRUTO | F19: 0.06245 | H19: OK | I19: 0.0616 | J19: 0.074 | K19: 0.0896
A20: 6 | B20: I – IMPOSTOS | F20: =SUM(F21:F24) -> 0.1115 | G20: FÓRMULA DO BDI DE ACORDO COM ACÓRDÃO 2.369/2011-TCU- PLENÁRIO
A21: 43836 | B21: PIS | F21: 0.0065
A22: 43867 | B22: COFINS | F22: 0.03
A23: 43896 | B23: ISS (CONFORME LEGISLAÇÃO MUNICIPAL) | F23: 0.03
A24: 43927 | B24: CONTRIB. PREVIDÊNCIA SOBRE RECEITA BRUTA – CPRB | F24: 0.045
A26: TOTAL DO BDI (R$)
A27: PREÇO DE VENDA (R$) | G27: ONDE:
A28: BDI (%) | F28: =(((1+(F15+F16+F17))*(1+F18)*(1+F19))/(1-F20))-1 -> 0.26020971 | G28: AC : TAXA DE ADMINISTRAÇÃO CENTRAL
G29: S: TAXA DE SEGURO
G30: G: TAXA DE GARANTIAS
G31: R: TAXA DE RISCOS
G32: DF: TAXA DE DESPESAS
G33: L: TAXA DE LUCRO
G34: I: TAXA DE INCIDÊNCIA DE IMPOSTOS (PIS, COFINS, ISS, CPRB)
A38: COMPOSIÇÃO DO BDI REDUZIDO
A39: CUSTO TOTAL DO SERVIÇO (R$)
A40: ITEM | B40: DISCRIMINAÇÃO | E40: VALOR | F40: TAXA (%) | G40: OBSERVAÇÃO | H40: SITUAÇÃO DO INTERVALO ADMISSÍVEL | I40: PARCELAS DO BDI (%)
I41: 1 QUARTIL | J41: MÉDIO | K41: 3 QUARTIL
A42: 1 | B42: AC – ADMINISTRAÇÃO CENTRAL | F42: 0.015 | H42: =IF(AND(F42>=I42,F42<=K42),"OK","DIFERE") -> OK | I42: 0.015 | J42: 0.0345 | K42: 0.0449
A43: 2 | B43: SG – SEGUROS + GARANTIA | F43: 0.003 | H43: =IF(AND(F43>=I43,F43<=K43),"OK","DIFERE") -> OK | I43: 0.003 | J43: 0.0048 | K43: 0.0082
A44: 3 | B44: R – RISCOS | F44: 0.0056 | H44: =IF(AND(F44>=I44,F44<=K44),"OK","DIFERE") -> OK | I44: 0.0056 | J44: 0.0085 | K44: 0.0089
A45: 4 | B45: DF – DESPESAS FINANCEIRAS | F45: 0.0085 | H45: =IF(AND(F45>=I45,F45<=K45),"OK","DIFERE") -> OK | I45: 0.0085 | J45: 0.0085 | K45: 0.0111
A46: 5 | B46: L – LUCRO BRUTO | F46: 0.0352 | H46: =IF(AND(F46>=I46,F46<=K46),"OK","DIFERE") -> OK | I46: 0.035 | J46: 0.0511 | K46: 0.0622
A47: 6 | B47: I – IMPOSTOS | F47: =SUM(F48:F51) -> 0.0815 | G47: FÓRMULA DO BDI DE ACORDO COM ACÓRDÃO 2.369/2011-TCU- PLENÁRIO
...
