Workbook

Sheet Plan1
C2: PLANILHA DE SERVIÇOS
B4: Proponente: | C4: UNIVERSIDADE ESTADUAL DO NORTE DO PARANÁ-CAMPUS LUIZ MENEGUEL - BANDEIRANTES | F4: área da construção: | H4: 160 | I4: m²
B5: Objeto: | C5: CONSTRUÇÃO DE GALPÃO PARA FÁBRICA DE RAÇÃO - CURSO DE VETERINÁRIA | F5: Tipo: | H5: Barracão fechado
B6: Local: | C6: CAMPUS UENP/BANDEIRANTES - BR 369 KM 54
B7: Empresa: | F7: data: | H7: 41420
B8: Resp. Técnico: | F8: BDI: | H8: 20 | I8: %
B10: ítem | C10: serviços | D10: unid. | E10: qde. | F10: R$/unit | G10: R$-unit c/BDI | H10: R$- TOTAL C/ BDI | I10: %
B11: 1 | C11: Instalação da Obra: Barracão, placa, energia, água, tapumes. | D11: gb | E11: 1 | F11: 500 | G11: =(($H$8/100)+1)*F11 -> 600 | H11: =G11*E11 -> 600 | I11: =100*H11/$J$11 -> 0.52173913 | J11: =H40 -> 115000
B12: 2 | C12: Instalação de Energia Elétrica Provisória em Baixa Tensão de Obra. | D12: un | E12: 1 | F12: 200 | G12: =(($H$8/100)+1)*F12 -> 240 | H12: =G12*E12 -> 240 | I12: =100*H12/$J$11 -> 0.20869565
B13: 3 | C13: Instalação de Água com registro 3/4" Provisória de Obra. | D13: un | E13: 1 | F13: 100 | G13: =(($H$8/100)+1)*F13 -> 120 | H13: =G13*E13 -> 120 | I13: =100*H13/$J$11 -> 0.10434783
G14: =(($H$8/100)+1)*F14 -> 0 | H14: =G14*E14 -> 0 | I14: =100*H14/$J$11 -> 0
B15: 4 | C15: Escavação em Terra. | D15: m³ | E15: =25*12*0.5 -> 150 | F15: 25 | G15: =(($H$8/100)+1)*F15 -> 30 | H15: =G15*E15 -> 4500 | I15: =100*H15/$J$11 -> 3.9130435
B16: 5 | C16: Locação de Obra | D16: m² | E16: 160 | F16: 7 | G16: =(($H$8/100)+1)*F16 -> 8.4 | H16: =G16*E16 -> 1344 | I16: =100*H16/$J$11 -> 1.1686957
C17: Estrutura pré moldada | G17: =(($H$8/100)+1)*F17 -> 0 | H17: =G17*E17 -> 0 | I17: =100*H17/$J$11 -> 0
B18: 6 | C18: Escavação para pilares | D18: m³ | E18: 14 | F18: 40 | G18: =(($H$8/100)+1)*F18 -> 48 | H18: =G18*E18 -> 672 | I18: =100*H18/$J$11 -> 0.58434783
B19: 7 | C19: Base para pilares - concreto simples 20 cm | D19: m³ | E19: =14*0.2 -> 2.8 | F19: 400 | G19: =(($H$8/100)+1)*F19 -> 480 | H19: =G19*E19 -> 1344 | I19: =100*H19/$J$11 -> 1.1686957
B20: 8 | C20: Estrutura de concreto pré moldado | D20: m² | E20: 160 | F20: 60 | G20: =(($H$8/100)+1)*F20 -> 72 | H20: =G20*E20 -> 11520 | I20: =100*H20/$J$11 -> 10.017391
G21: =(($H$8/100)+1)*F21 -> 0 | H21: =G21*E21 -> 0 | I21: =100*H21/$J$11 -> 0
B22: 9 | C22: Telhado com telha metálica 0,5mm | D22: m² | E22: 190 | F22: 60 | G22: =(($H$8/100)+1)*F22 -> 72 | H22: =G22*E22 -> 13680 | I22: =100*H22/$J$11 -> 11.895652
B23: 10 | C23: Fechamento lateral superior com telha metálica | D23: m² | E23: 150 | F23: 60 | G23: =(($H$8/100)+1)*F23 -> 72 | H23: =G23*E23 -> 10800 | I23: =100*H23/$J$11 -> 9.3913043
G24: =(($H$8/100)+1)*F24 -> 0 | H24: =G24*E24 -> 0 | I24: =100*H24/$J$11 -> 0
B25: 12 | C25: Alvenaria 1/1 tijolo 6 furos | D25: m² | E25: 155 | F25: 110 | G25: =(($H$8/100)+1)*F25 -> 132 | H25: =G25*E25 -> 20460 | I25: =100*H25/$J$11 -> 17.791304
B26: 13 | C26: Chapisco / Emboço em paredes | D26: m² | E26: =E25*2 -> 310 | F26: 30 | G26: =(($H$8/100)+1)*F26 -> 36 | H26: =G26*E26 -> 11160 | I26: =100*H26/$J$11 -> 9.7043478
G27: =(($H$8/100)+1)*F27 -> 0 | H27: =G27*E27 -> 0 | I27: =100*H27/$J$11 -> 0
B28: 14 | C28: Piso interno em concreto armado | D28: m² | E28: 160 | F28: 100 | G28: =(($H$8/100)+1)*F28 -> 120 | H28: =G28*E28 -> 19200 | I28: =100*H28/$J$11 -> 16.695652
B29: 15 | C29: Piso externo em concreto simples | D29: m² | E29: 56 | F29: 30 | G29: =(($H$8/100)+1)*F29 -> 36 | H29: =G29*E29 -> 2016 | I29: =100*H29/$J$11 -> 1.7530435
G30: =(($H$8/100)+1)*F30 -> 0 | H30: =G30*E30 -> 0 | I30: =100*H30/$J$11 -> 0
B31: 16 | C31: Portas metálicas | D31: jg | E31: 2 | F31: 3500 | G31: =(($H$8/100)+1)*F31 -> 4200 | H31: =G31*E31 -> 8400 | I31: =100*H31/$J$11 -> 7.3043478
G32: =(($H$8/100)+1)*F32 -> 0 | H32: =G32*E32 -> 0 | I32: =100*H32/$J$11 -> 0
B33: 17 | C33: Elétrica | D33: gb | E33: 1 | F33: 2000 | G33: =(($H$8/100)+1)*F33 -> 2400 | H33: =G33*E33 -> 2400 | I33: =100*H33/$J$11 -> 2.0869565
B34: 18 | C34: Água fria -1 ponto água 3/4" c/ registro de gaveta | D34: gb | E34: 1 | F34: 200 | G34: =(($H$8/100)+1)*F34 -> 240 | H34: =G34*E34 -> 240 | I34: =100*H34/$J$11 -> 0.20869565
G35: =(($H$8/100)+1)*F35 -> 0 | H35: =G35*E35 -> 0 | I35: =100*H35/$J$11 -> 0
B36: 19 | C36: Pinturas | D36: gb | E36: 1 | F36: 1000 | G36: =(($H$8/100)+1)*F36 -> 1200 | H36: =G36*E36 -> 1200 | I36: =100*H36/$J$11 -> 1.0434783
G37: =(($H$8/100)+1)*F37 -> 0 | H37: =G37*E37 -> 0 | I37: =100*H37/$J$11 -> 0
B38: 20 | C38: Limpeza geral, Aprovações, Taxas, Impostos e Leis sociais | D38: gb | E38: 1 | F38: 5104 | H38: =F38 -> 5104 | I38: =100*H38/$J$11 -> 4.4382609
G39: =(($H$8/100)+1)*F39 -> 0
F40: total | H40: =SUM(H11:H38) -> 115000 | I40: =SUM(I11:I38) -> 100
E42: Custo por m² = | H42: =H40/H4 -> 718.75
E43: data: 15-03-2015

Sheet Plan2
A1: Universidade Estadual do Norte do Paraná - UENP
A2: Decreto Estadual n.º3909, Publicado no Diario Oficial do Estado do Paraná Eem 01/12/08
A3: CAMPUS CLM - BANDEIRANTES/PR
A4: Divisão de Obras e Manutenção
A5: CRONOGRAMA FÍSICO-FINANCEIRO
A6: OBRA | B6: BARRACÃO - FÁBRICA DE RAÇÃO | D6: AREA (m²) : | E6: =Plan1!E28 -> 160 | G6: data | H6: 41419
A7: LOCAL | B7: CLM - BANDEIRANTES | D7: VALOR DA OBRA: | E7: =Plan1!H40 -> 115000
A9: ITEM | B9: DESCRIÇÃO DOS SERVIÇOS | C9: VALOR DOS SERVIÇOS (R$) | D9: SERVIÇOS A EXECUTAR-EM %
D10: 1.º MÊS | E10: 2.º MÊS | F10: 3.º MÊS
A11: 1 | B11: =Plan1!C11 -> Instalação da Obra: Barracão, placa, energia, água, tapumes. | C11: =Plan1!H11 -> 600 | D11: 1
A12: 2 | B12: =Plan1!C12 -> Instalação de Energia Elétrica Provisória em Baixa Tensão de Obra. | C12: =Plan1!H12 -> 240 | D12: 1
A13: 3 | B13: =Plan1!C13 -> Instalação de Água com registro 3/4" Provisória de Obra. | C13: =Plan1!H13 -> 120 | D13: 1
A14: 4 | B14: =Plan1!C15 -> Escavação em Terra. | C14: =Plan1!H15 -> 4500 | D14: 1
A15: 5 | B15: =Plan1!C16 -> Locação de Obra | C15: =Plan1!H16 -> 1344 | D15: 1
A16: 6 | B16: =Plan1!C17 -> Estrutura pré moldada
A17: 7 | B17: =Plan1!C18 -> Escavação para pilares | C17: =Plan1!H18 -> 672 | D17: 1
A18: 8 | B18: =Plan1!C19 -> Base para pilares - concreto simples 20 cm | C18: =Plan1!H19 -> 1344 | D18: 1
A19: 9 | B19: =Plan1!C20 -> Estrutura de concreto pré moldado | C19: =Plan1!H20 -> 11520 | D19: 1
A20: 10 | B20: =Plan1!C22 -> Telhado com telha metálica 0,5mm | C20: =Plan1!H22 -> 13680 | D20: 1
A21: 11 | B21: =Plan1!C23 -> Fechamento lateral superior com telha metálica | C21: =Plan1!H23 -> 10800 | D21: 1
A22: 12 | B22: =Plan1!C25 -> Alvenaria 1/1 tijolo 6 furos | C22: =Plan1!H25 -> 20460 | D22: 1
A23: 13 | B23: =Plan1!C26 -> Chapisco / Emboço em paredes | C23: =Plan1!H26 -> 11160 | D23: 1
A24: 14 | B24: =Plan1!C28 -> Piso interno em concreto armado | C24: =Plan1!H28 -> 19200 | E24: 1
A25: 15 | B25: =Plan1!C29 -> Piso externo em concreto simples | C25: =Plan1!H29 -> 2016 | E25: 1
A26: 16 | B26: =Plan1!C31 -> Portas metálicas | C26: =Plan1!H31 -> 8400 | E26: 1
A27: 17 | B27: =Plan1!C33 -> Elétrica | C27: =Plan1!H33 -> 2400 | E27: 1
A28: 18 | B28: =Plan1!C34 -> Água fria -1 ponto água 3/4" c/ registro de gaveta | C28: =Plan1!H34 -> 240 | E28: 1
A29: 19 | B29: =Plan1!C36 -> Pinturas | C29: =Plan1!H36 -> 1200 | E29: 1
A30: 20 | B30: =Plan1!C38 -> Limpeza geral, Aprovações, Taxas, Impostos e Leis sociais | C30: =Plan1!H38 -> 5104 | E30: 1
B33: TOTAL SIMPLES EM R$ | C33: =SUM(C11:C30) -> 115000 | D33: =$C11*D11+$C12*D12+$C13*D13+$C14*D14+$C15*D15+$C16*D16+$C17*D17+$C18*D18+$C19*D19+$C20*D20+$C21*D21+$C22*D22+$C23*D23+$C24*D24+$C25*D25+$C26*D26+$C27*D27+$C28*D28+$C29*D29+$C30*D30 -> 76440 | E33: =$C11*E11+$C12*E12+$C13*E13+$C14*E14+$C15*E15+$C16*E16+$C17*E17+$C18*E18+$C19*E19+$C20*E20+$C21*E21+$C22*E22+$C23*E23+$C24*E24+$C25*E25+$C26*E26+$C27*E27+$C28*E28+$C29*E29+$C30*E30 -> 38560
B34: TOTAL SIMPLES EM % | D34: =D33/C33 -> 0.66469565 | E34: =E33/C33 -> 0.33530435
B35: TOTAL ACUMULADO EM R$ | D35: =D33 -> 76440 | E35: =E33+D33 -> 115000 | F35: =SUM(D33:E33) -> 115000
B36: TOTAL ACUMULADO EM % | D36: =D34 -> 0.66469565 | E36: =E34+D36 -> 1
B40: LOCAL, DATA | D40: ENG./CREA-ASSINATURA
D41: Empresa:
B43: Data: 15/03/2015
B44: Lincoln Makoto Nozaki - Eng. Civil
B45: CREA PR 9.555/D

Sheet Plan3
