Workbook

Sheet ORÇAMENTO
D3: UNIVERSIDADE ESTADUAL DO NORTE DO PARANÁ
D4: CNPJ: 08.885.100/0001-54 | L4: BDI | M4: 0.2602
D5: OBRA : ADEQUAÇÕES DOS LABORATÓRIOS DO BLOCO G - MEDICINA
D6: Local: Campus Cornélio Procópio - CCP | L6: Total S/BDI | M6: =M7/(1+M4) -> 0
D7: Data do orçamento: MARÇO/2026 | L7: Total c/BDI | M7: =P7 -> 0 | P7: =SUM(P11:P225) -> 0
D8: SINAPI_Custo_Ref_Composicoes_Analitico_PR_202602_Desonerado
D9: INSERIR NOME DA EMPRESA
A11: ITEM | B11: RESUMO | C11: CÓDIGO | D11: DESCRIÇÃO DOS SERVIÇOS | E11: UN | F11: QTD | G11: UNITÁRIO (SEM BDI) | J11: TOTAL (Valores sem BDI) | M11: VALOR TOTAL C/ BDI
G12: MATERIAL + EQ | H12: MÃO DE OBRA | I12: TOTAL | J12: MATERIAL | K12: MÃO DE OBRA | L12: TOTAL
A13: 1 | B13: SALA G-04 | J13: =SUM(J14:J27) -> 0 | K13: =SUM(K14:K27) -> 0 | L13: =SUM(L14:L27) -> 0 | M13: =SUM(M14:M27) -> 0 | P13: =M13 -> 0
A14: 1.1 | B14: REMOÇÕES E DEMOLIÇÕES | N14: =O14/P$13 -> #DIV/0! | O14: =SUM(M15) -> 0 | P14: =M14 -> 0
A15: 1.1.1 | B15: FURO EM PAREDE PARA PASSAGEM DE TUBULAÇÃO DE GÁS | C15: 97622 | D15: DEMOLIÇÃO DE ALVENARIA DE BLOCO FURADO, DE FORMA MANUAL, SEM REAPROVEITAMENTO. AF_09/2023 | E15: M3 | F15: 0.05 | I15: =G15+H15 -> 0 | J15: =G15*F15 -> 0 | K15: =H15*F15 -> 0 | L15: =J15+K15 -> 0 | M15: =ROUND(L15*(1+$M$4),2) -> 0
A16: 1.2 | B16: TUBULAÇÃO DE GÁS | N16: =O16/P$13 -> #DIV/0! | O16: =SUM(M17:M22) -> 0 | P16: =M16 -> 0
A17: 1.2.1 | B17: INSTALAÇÃO DE TUBO DE GÁS GLP INTERNO DA SALA | C17: 97335 | D17: TUBO EM COBRE RÍGIDO, DN 22 MM, CLASSE A, SEM ISOLAMENTO, INSTALADO EM PRUMADA DE GÁS COMBUSTÍVEL - FORNECIMENTO E INSTALAÇÃO. AF_04/2022 | E17: M | F17: =3.6+3.6+6.5+7.6+6.17+0.4+2.5*4-0.87+0.3*8+0.6 -> 40 | I17: =G17+H17 -> 0 | J17: =G17*F17 -> 0 | K17: =H17*F17 -> 0 | L17: =J17+K17 -> 0 | M17: =ROUND(L17*(1+$M$4),2) -> 0
A18: 1.2.2 | B18: TÊ PARA RAMAL DA TUBULAÇÃO | C18: 103832 | D18: [ADAPTADO PARA DN 22 MM] TÊ EM COBRE, DN 15 MM, SEM ANEL DE SOLDA, INSTALADO EM RAMAL E SUB-RAMAL DE GÁS COMBUSTÍVEL - FORNECIMENTO E INSTALAÇÃO. AF_04/2022 | E18: UN | F18: 10 | I18: =G18+H18 -> 0 | J18: =G18*F18 -> 0 | K18: =H18*F18 -> 0 | L18: =J18+K18 -> 0 | M18: =ROUND(L18*(1+$M$4),2) -> 0
A19: 1.2.3 | B19: JOELHO PARA TUBULAÇÃO DE GÁS | C19: 92701 | D19: JOELHO 90 GRAUS, EM FERRO GALVANIZADO, CONEXÃO ROSQUEADA, DN 20 (3/4"), INSTALADO EM RAMAIS E SUB-RAMAIS DE GÁS - FORNECIMENTO E INSTALAÇÃO. AF_01/2026 | E19: UN | F19: 11 | I19: =G19+H19 -> 0 | J19: =G19*F19 -> 0 | K19: =H19*F19 -> 0 | L19: =J19+K19 -> 0 | M19: =ROUND(L19*(1+$M$4),2) -> 0
A20: 1.2.4 | B20: FIXAÇÃO DE TUBULAÇÃO DE GÁS (a cada 1,5m) | C20: 11298/ORSE | D20: Fornecimento e instalação de mão francesa simples 100 mm | E20: UN | F20: 21 | I20: =G20+H20 -> 0 | J20: =G20*F20 -> 0 | K20: =H20*F20 -> 0 | L20: =J20+K20 -> 0 | M20: =ROUND(L20*(1+$M$4),2) -> 0
A21: 1.2.5 | B21: FIXAÇÃO DA TUBULAÇÃO VERTICAL | C21: 91166 | D21: FIXAÇÃO DE TUBOS HORIZONTAIS DE PEX OU MULTICAMADAS, DIÂMETROS IGUAIS OU INFERIORES A 40 MM, COM ABRAÇADEIRA PLÁSTICA FIXADA EM LAJE. AF_09/2023_PE | E21: M | F21: =2.5*4 -> 10 | I21: =G21+H21 -> 0 | J21: =G21*F21 -> 0 | K21: =H21*F21 -> 0 | L21: =J21+K21 -> 0 | M21: =ROUND(L21*(1+$M$4),2) -> 0
A22: 1.2.6 | B22: VÁLVULA PARA CONTROLE DE SAÍDA DE GÁS C/ BICO ADAPTADOR | C22: 13582/ORSE | D22: Registro esfera borboleta 90°, 1/2" NPT (macho) x 3/8", entrada e saída bico da mangueira, para instalação de gás | E22: UN | F22: 21 | I22: =G22+H22 -> 0 | J22: =G22*F22 -> 0 | K22: =H22*F22 -> 0 | L22: =J22+K22 -> 0 | M22: =ROUND(L22*(1+$M$4),2) -> 0
A23: 1.3 | B23: RECOMPOSIÇÃO DE FURO PARA PASSAGEM DE TUBULAÇÃO | N23: =O23/P$13 -> #DIV/0! | O23: =SUM(M24:M27) -> 0 | P23: =M23 -> 0
A24: 1.3.1 | B24: RECOMPOSIÇÃO DE FURO PARA PASSAGEM DE TUBULAÇÃO | C24: 87547 | D24: MASSA ÚNICA, EM ARGAMASSA TRAÇO 1:2:8, PREPARO MECÂNICO, APLICADA MANUALMENTE EM PAREDES INTERNAS DE AMBIENTES COM ÁREA ENTRE 5M² E 10M², E = 10MM, COM TALISCAS. AF_03/2024 | E24: M2 | F24: 0.1 | I24: =G24+H24 -> 0 | J24: =G24*F24 -> 0 | K24: =H24*F24 -> 0 | L24: =J24+K24 -> 0 | M24: =ROUND(L24*(1+$M$4),2) -> 0
A25: 1.3.2 | B25: ACABAMENTO DE RECOMPOSIÇÃO | C25: 88497 | D25: EMASSAMENTO COM MASSA LÁTEX, APLICAÇÃO EM PAREDE, DUAS DEMÃOS, LIXAMENTO MANUAL. AF_04/2023 | E25: M2 | F25: =0.1*2 -> 0.2 | I25: =G25+H25 -> 0 | J25: =G25*F25 -> 0 | K25: =H25*F25 -> 0 | L25: =J25+K25 -> 0 | M25: =ROUND(L25*(1+$M$4),2) -> 0
A26: 1.3.3 | B26: PINTURA - FUNDO SELADOR | C26: 88485 | D26: FUNDO SELADOR ACRÍLICO, APLICAÇÃO MANUAL EM PAREDE, UMA DEMÃO. AF_04/2023 | E26: M2 | F26: =0.1*2 -> 0.2 | I26: =G26+H26 -> 0 | J26: =G26*F26 -> 0 | K26: =H26*F26 -> 0 | L26: =J26+K26 -> 0 | M26: =ROUND(L26*(1+$M$4),2) -> 0
A27: 1.3.4 | B27: PINTURA - PAREDES | C27: 88489 | D27: PINTURA LÁTEX ACRÍLICA PREMIUM, APLICAÇÃO MANUAL EM PAREDES, DUAS DEMÃOS. AF_04/2023 | E27: M2 | F27: =0.1*2 -> 0.2 | I27: =G27+H27 -> 0 | J27: =G27*F27 -> 0 | K27: =H27*F27 -> 0 | L27: =J27+K27 -> 0 | M27: =ROUND(L27*(1+$M$4),2) -> 0
A29: 2 | B29: SALA G-05 | J29: =SUM(J30:J43) -> 0 | K29: =SUM(K30:K43) -> 0 | L29: =SUM(L30:L43) -> 0 | M29: =SUM(M30:M43) -> 0 | P29: =M29 -> 0
A30: 2.1 | B30: REMOÇÕES E DEMOLIÇÕES | N30: =O30/P$29 -> #DIV/0! | O30: =SUM(M31) -> 0 | P30: =M30 -> 0
A31: 2.1.1 | B31: FURO EM PAREDE PARA PASSAGEM DE TUBULAÇÃO DE GÁS | C31: 97622 | D31: DEMOLIÇÃO DE ALVENARIA DE BLOCO FURADO, DE FORMA MANUAL, SEM REAPROVEITAMENTO. AF_09/2023 | E31: M3 | F31: 0.05 | I31: =G31+H31 -> 0 | J31: =G31*F31 -> 0 | K31: =H31*F31 -> 0 | L31: =J31+K31 -> 0 | M31: =ROUND(L31*(1+$M$4),2) -> 0
A32: 2.2 | B32: TUBULAÇÃO DE GÁS | N32: =O32/P$29 -> #DIV/0! | O32: =SUM(M33:M38) -> 0 | P32: =M32 -> 0
A33: 2.2.1 | B33: INSTALAÇÃO DE TUBO DE GÁS GLP INTERNO DA SALA | C33: 97335 | D33: TUBO EM COBRE RÍGIDO, DN 22 MM, CLASSE A, SEM ISOLAMENTO, INSTALADO EM PRUMADA DE GÁS COMBUSTÍVEL - FORNECIMENTO E INSTALAÇÃO. AF_04/2022 | E33: M | F33: =12+2.5+2.5 -> 17 | I33: =G33+H33 -> 0 | J33: =G33*F33 -> 0 | K33: =H33*F33 -> 0 | L33: =J33+K33 -> 0 | M33: =ROUND(L33*(1+$M$4),2) -> 0
A34: 2.2.2 | B34: TÊ PARA RAMAL DA TUBULAÇÃO | C34: 103832 | D34: [ADAPTADO PARA DN 22 MM] TÊ EM COBRE, DN 15 MM, SEM ANEL DE SOLDA, INSTALADO EM RAMAL E SUB-RAMAL DE GÁS COMBUSTÍVEL - FORNECIMENTO E INSTALAÇÃO. AF_04/2022 | E34: UN | F34: 1 | I34: =G34+H34 -> 0 | J34: =G34*F34 -> 0 | K34: =H34*F34 -> 0 | L34: =J34+K34 -> 0 | M34: =ROUND(L34*(1+$M$4),2) -> 0
A35: 2.2.3 | B35: JOELHO PARA TUBULAÇÃO DE GÁS | C35: 92701 | D35: JOELHO 90 GRAUS, EM FERRO GALVANIZADO, CONEXÃO ROSQUEADA, DN 20 (3/4"), INSTALADO EM RAMAIS E SUB-RAMAIS DE GÁS - FORNECIMENTO E INSTALAÇÃO. AF_01/2026 | E35: UN | F35: 5 | I35: =G35+H35 -> 0 | J35: =G35*F35 -> 0 | K35: =H35*F35 -> 0 | L35: =J35+K35 -> 0 | M35: =ROUND(L35*(1+$M$4),2) -> 0
A36: 2.2.4 | B36: FIXAÇÃO DE TUBULAÇÃO DE GÁS (a cada 1,5m) | C36: 11298/ORSE | D36: Fornecimento e instalação de mão francesa simples 100 mm | E36: UN | F36: =12/1.5 -> 8 | I36: =G36+H36 -> 0 | J36: =G36*F36 -> 0 | K36: =H36*F36 -> 0 | L36: =J36+K36 -> 0 | M36: =ROUND(L36*(1+$M$4),2) -> 0
A37: 2.2.5 | B37: FIXAÇÃO DA TUBULAÇÃO VERTICAL | C37: 91166 | D37: FIXAÇÃO DE TUBOS HORIZONTAIS DE PEX OU MULTICAMADAS, DIÂMETROS IGUAIS OU INFERIORES A 40 MM, COM ABRAÇADEIRA PLÁSTICA FIXADA EM LAJE. AF_09/2023_PE | E37: M | F37: 5 | I37: =G37+H37 -> 0 | J37: =G37*F37 -> 0 | K37: =H37*F37 -> 0 | L37: =J37+K37 -> 0 | M37: =ROUND(L37*(1+$M$4),2) -> 0
A38: 2.2.6 | B38: VÁLVULA PARA CONTROLE DE SAÍDA DE GÁS C/ BICO ADAPTADOR | C38: 13582/ORSE | D38: Registro esfera borboleta 90°, 1/2" NPT (macho) x 3/8", entrada e saída bico da mangueira, para instalação de gás | E38: UN | F38: 2 | I38: =G38+H38 -> 0 | J38: =G38*F38 -> 0 | K38: =H38*F38 -> 0 | L38: =J38+K38 -> 0 | M38: =ROUND(L38*(1+$M$4),2) -> 0
A39: 2.3 | B39: RECOMPOSIÇÃO DE FURO PARA PASSAGEM DE TUBULAÇÃO | N39: =O39/P$29 -> #DIV/0! | O39: =SUM(M40:M43) -> 0 | P39: =M39 -> 0
A40: 2.3.1 | B40: RECOMPOSIÇÃO DE FURO PARA PASSAGEM DE TUBULAÇÃO | C40: 87547 | D40: MASSA ÚNICA, EM ARGAMASSA TRAÇO 1:2:8, PREPARO MECÂNICO, APLICADA MANUALMENTE EM PAREDES INTERNAS DE AMBIENTES COM ÁREA ENTRE 5M² E 10M², E = 10MM, COM TALISCAS. AF_03/2024 | E40: M2 | F40: 0.1 | I40: =G40+H40 -> 0 | J40: =G40*F40 -> 0 | K40: =H40*F40 -> 0 | L40: =J40+K40 -> 0 | M40: =ROUND(L40*(1+$M$4),2) -> 0
A41: 2.3.2 | B41: ACABAMENTO DE RECOMPOSIÇÃO | C41: 88497 | D41: EMASSAMENTO COM MASSA LÁTEX, APLICAÇÃO EM PAREDE, DUAS DEMÃOS, LIXAMENTO MANUAL. AF_04/2023 | E41: M2 | F41: =0.1*2 -> 0.2 | I41: =G41+H41 -> 0 | J41: =G41*F41 -> 0 | K41: =H41*F41 -> 0 | L41: =J41+K41 -> 0 | M41: =ROUND(L41*(1+$M$4),2) -> 0
A42: 2.3.3 | B42: PINTURA - FUNDO SELADOR | C42: 88485 | D42: FUNDO SELADOR ACRÍLICO, APLICAÇÃO MANUAL EM PAREDE, UMA DEMÃO. AF_04/2023 | E42: M2 | F42: =0.1*2 -> 0.2 | I42: =G42+H42 -> 0 | J42: =G42*F42 -> 0 | K42: =H42*F42 -> 0 | L42: =J42+K42 -> 0 | M42: =ROUND(L42*(1+$M$4),2) -> 0
A43: 2.3.4 | B43: PINTURA - PAREDES | C43: 88489 | D43: PINTURA LÁTEX ACRÍLICA PREMIUM, APLICAÇÃO MANUAL EM PAREDES, DUAS DEMÃOS. AF_04/2023 | E43: M2 | F43: =0.1*2 -> 0.2 | I43: =G43+H43 -> 0 | J43: =G43*F43 -> 0 | K43: =H43*F43 -> 0 | L43: =J43+K43 -> 0 | M43: =ROUND(L43*(1+$M$4),2) -> 0
A45: 3 | B45: SALA G-07 | J45: =SUM(J46:J66) -> 0 | K45: =SUM(K46:K66) -> 0 | L45: =SUM(L46:L66) -> 0 | M45: =SUM(M46:M66) -> 0 | P45: =M45 -> 0
...

Sheet CRONOGRAMA - OBRA
D3: UNIVERSIDADE ESTADUAL DO NORTE DO PARANÁ
D4: CNPJ: 08.885.100/0001-54
D5: OBRA : ADEQUAÇÕES DOS LABORATÓRIOS DO BLOCO G - MEDICINA
D6: Local: Campus Cornélio Procópio - CCP
D7: Data do orçamento: MARÇO/2026
D8: SINAPI_Custo_Ref_Composicoes_Analitico_PR_202602_Desonerado
D9: INSERIR NOME DA EMPRESA
A11: CRONOGRAMA FÍSICO- FINANCEIRO
B12: SERVIÇO/LOCAL | E12: MÊS 1 | G12: MÊS 2 | I12: MÊS 3 | K12: MÊS 4 | M12: MÊS 5 | O12: MÊS 6 | Q12: MÊS 7
C13: Valores | D13: % | E13: % | F13: R$ | G13: % | H13: R$ | I13: % | J13: R$ | K13: % | L13: R$ | M13: % | N13: R$ | O13: % | P13: R$ | Q13: % | R13: R$
A14: 1 | B14: =IFERROR(VLOOKUP(A14,ORÇAMENTO!$A$13:$M$211,2,0),"") -> SALA G-04 | C14: =IFERROR(VLOOKUP(A14,ORÇAMENTO!$A$13:$M$211,13,0),"") -> 0 | D14: =C14/$C$25 -> #DIV/0! | E14: 1 | F14: =E14*$C14 -> 0 | H14: =G14*$C14 -> 0 | J14: =I14*$C14 -> 0 | L14: =K14*$C14 -> 0 | N14: =M14*$C14 -> 0 | P14: =O14*$C14 -> 0 | R14: =Q14*$C14 -> 0 | S14: =E14+G14+I14+K14+M14+O14+Q14 -> 1
A15: 2 | B15: =IFERROR(VLOOKUP(A15,ORÇAMENTO!$A$13:$M$211,2,0),"") -> SALA G-05 | C15: =IFERROR(VLOOKUP(A15,ORÇAMENTO!$A$13:$M$211,13,0),"") -> 0 | D15: =C15/$C$25 -> #DIV/0! | E15: 1 | F15: =E15*C15 -> 0 | H15: =G15*$C15 -> 0 | J15: =I15*$C15 -> 0 | L15: =K15*$C15 -> 0 | N15: =M15*$C15 -> 0 | P15: =O15*$C15 -> 0 | R15: =Q15*$C15 -> 0 | S15: =E15+G15+I15+K15+M15+O15+Q15 -> 1
A16: 3 | B16: =IFERROR(VLOOKUP(A16,ORÇAMENTO!$A$13:$M$211,2,0),"") -> SALA G-07 | C16: =IFERROR(VLOOKUP(A16,ORÇAMENTO!$A$13:$M$211,13,0),"") -> 0 | D16: =C16/$C$25 -> #DIV/0! | F16: =E16*C16 -> 0 | G16: 0.45 | H16: =G16*$C16 -> 0 | I16: 0.55 | J16: =I16*$C16 -> 0 | L16: =K16*$C16 -> 0 | N16: =M16*$C16 -> 0 | P16: =O16*$C16 -> 0 | R16: =Q16*$C16 -> 0 | S16: =E16+G16+I16+K16+M16+O16+Q16 -> 1
A17: 4 | B17: =IFERROR(VLOOKUP(A17,ORÇAMENTO!$A$13:$M$211,2,0),"") -> SALA G-08 | C17: =IFERROR(VLOOKUP(A17,ORÇAMENTO!$A$13:$M$211,13,0),"") -> 0 | D17: =C17/$C$25 -> #DIV/0! | E17: 1 | F17: =E17*C17 -> 0 | H17: =G17*$C17 -> 0 | J17: =I17*$C17 -> 0 | L17: =K17*$C17 -> 0 | N17: =M17*$C17 -> 0 | P17: =O17*$C17 -> 0 | R17: =Q17*$C17 -> 0 | S17: =E17+G17+I17+K17+M17+O17+Q17 -> 1
A18: 5 | B18: =IFERROR(VLOOKUP(A18,ORÇAMENTO!$A$13:$M$211,2,0),"") -> SALA G-14 | C18: =IFERROR(VLOOKUP(A18,ORÇAMENTO!$A$13:$M$211,13,0),"") -> 0 | D18: =C18/$C$25 -> #DIV/0! | F18: =E18*C18 -> 0 | G18: 1 | H18: =G18*$C18 -> 0 | J18: =I18*$C18 -> 0 | L18: =K18*$C18 -> 0 | N18: =M18*$C18 -> 0 | P18: =O18*$C18 -> 0 | R18: =Q18*$C18 -> 0 | S18: =E18+G18+I18+K18+M18+O18+Q18 -> 1
A19: 6 | B19: =IFERROR(VLOOKUP(A19,ORÇAMENTO!$A$13:$M$211,2,0),"") -> SALA G-15 | C19: =IFERROR(VLOOKUP(A19,ORÇAMENTO!$A$13:$M$211,13,0),"") -> 0 | D19: =C19/$C$25 -> #DIV/0! | F19: =E19*C19 -> 0 | G19: 1 | H19: =G19*$C19 -> 0 | J19: =I19*$C19 -> 0 | L19: =K19*$C19 -> 0 | N19: =M19*$C19 -> 0 | P19: =O19*$C19 -> 0 | R19: =Q19*$C19 -> 0 | S19: =E19+G19+I19+K19+M19+O19+Q19 -> 1
A20: 7 | B20: =IFERROR(VLOOKUP(A20,ORÇAMENTO!$A$13:$M$211,2,0),"") -> SALA G-24 | C20: =IFERROR(VLOOKUP(A20,ORÇAMENTO!$A$13:$M$211,13,0),"") -> 0 | D20: =C20/$C$25 -> #DIV/0! | F20: =E20*C20 -> 0 | H20: =G20*$C20 -> 0 | J20: =I20*$C20 -> 0 | K20: 0.15 | L20: =K20*$C20 -> 0 | M20: 0.4 | N20: =M20*$C20 -> 0 | O20: 0.25 | P20: =O20*$C20 -> 0 | Q20: 0.2 | R20: =Q20*$C20 -> 0 | S20: =E20+G20+I20+K20+M20+O20+Q20 -> 1
A21: 8 | B21: =IFERROR(VLOOKUP(A21,ORÇAMENTO!$A$13:$M$211,2,0),"") -> SALA G-25 | C21: =IFERROR(VLOOKUP(A21,ORÇAMENTO!$A$13:$M$211,13,0),"") -> 0 | D21: =C21/$C$25 -> #DIV/0! | F21: =E21*C21 -> 0 | H21: =G21*$C21 -> 0 | J21: =I21*$C21 -> 0 | K21: 0.34 | L21: =K21*$C21 -> 0 | M21: 0.66 | N21: =M21*$C21 -> 0 | P21: =O21*$C21 -> 0 | R21: =Q21*$C21 -> 0 | S21: =E21+G21+I21+K21+M21+O21+Q21 -> 1
A22: 9 | B22: =IFERROR(VLOOKUP(A22,ORÇAMENTO!$A$13:$M$211,2,0),"") -> SALA DOS PROFESSORES E COORDENAÇÃO | C22: =IFERROR(VLOOKUP(A22,ORÇAMENTO!$A$13:$M$211,13,0),"") -> 0 | D22: =C22/$C$25 -> #DIV/0! | F22: =E22*C22 -> 0 | H22: =G22*$C22 -> 0 | J22: =I22*$C22 -> 0 | K22: 0.5 | L22: =K22*$C22 -> 0 | M22: 0.25 | N22: =M22*$C22 -> 0 | O22: 0.15 | P22: =O22*$C22 -> 0 | Q22: 0.1 | R22: =Q22*$C22 -> 0 | S22: =E22+G22+I22+K22+M22+O22+Q22 -> 1
A23: 10 | B23: =IFERROR(VLOOKUP(A23,ORÇAMENTO!$A$13:$M$211,2,0),"") -> ADEQUAÇÕES EXTERNAS | C23: =IFERROR(VLOOKUP(A23,ORÇAMENTO!$A$13:$M$211,13,0),"") -> 0 | D23: =C23/$C$25 -> #DIV/0! | F23: =E23*C23 -> 0 | G23: 0.25 | H23: =G23*$C23 -> 0 | I23: 0.75 | J23: =I23*$C23 -> 0 | L23: =K23*$C23 -> 0 | N23: =M23*$C23 -> 0 | P23: =O23*$C23 -> 0 | R23: =Q23*$C23 -> 0 | S23: =E23+G23+I23+K23+M23+O23+Q23 -> 1
A24: 11 | B24: =IFERROR(VLOOKUP(A24,ORÇAMENTO!$A$13:$M$211,2,0),"") -> LIMPEZA E FINALIZAÇÃO | C24: =IFERROR(VLOOKUP(A24,ORÇAMENTO!$A$13:$M$211,13,0),"") -> 0 | D24: =C24/$C$25 -> #DIV/0! | E24: 0.05 | F24: =E24*C24 -> 0 | G24: 0.05 | H24: =G24*$C24 -> 0 | I24: 0.05 | J24: =I24*$C24 -> 0 | K24: 0.05 | L24: =K24*$C24 -> 0 | M24: 0.05 | N24: =M24*$C24 -> 0 | O24: 0.05 | P24: =O24*$C24 -> 0 | Q24: 0.7 | R24: =Q24*$C24 -> 0 | S24: =E24+G24+I24+K24+M24+O24+Q24 -> 1
B25: TOTAL | C25: =SUM(C14:C24) -> 0 | D25: =C25/$C$25 -> #DIV/0!
D27: R$ parcial (valor período) | E27: =SUM(F14:F25) -> 0 | G27: =SUM(H14:H25) -> 0 | I27: =SUM(J14:J25) -> 0 | K27: =SUM(L14:L25) -> 0 | M27: =SUM(N14:N25) -> 0 | O27: =SUM(P14:P25) -> 0 | Q27: =SUM(R14:R25) -> 0
D28: %_parcial (período) | E28: =SUM(E27/$C$25) -> #DIV/0! | G28: =SUM(G27/$C$25) -> #DIV/0! | I28: =SUM(I27/$C$25) -> #DIV/0! | K28: =SUM(K27/$C$25) -> #DIV/0! | M28: =SUM(M27/$C$25) -> #DIV/0! | O28: =SUM(O27/$C$25) -> #DIV/0! | Q28: =SUM(Q27/$C$25) -> #DIV/0!
D29: R$_ acumulado | E29: =E27 -> 0 | G29: =E29+G27 -> 0 | I29: =G29+I27 -> 0 | K29: =I29+K27 -> 0 | M29: =K29+M27 -> 0 | O29: =M29+O27 -> 0 | Q29: =O29+Q27 -> 0
D30: %_acumulado | E30: =E28 -> #DIV/0! | G30: =E30+G28 -> #DIV/0! | I30: =G30+I28 -> #DIV/0! | K30: =I30+K28 -> #DIV/0! | M30: =K30+M28 -> #DIV/0! | O30: =M30+O28 -> #DIV/0! | Q30: =O30+Q28 -> #DIV/0!
B35: ASSINATURA DA EMPRESA

Sheet COMPOSIÇÕES
D2: UNIVERSIDADE ESTADUAL DO NORTE DO PARANÁ
D3: CNPJ: 08.885.100/0001-54
D4: OBRA : ADEQUAÇÕES DOS LABORATÓRIOS DO BLOCO G - MEDICINA
D5: Data do orçamento: MARÇO/2026
D6: SINAPI_Custo_Ref_Composicoes_Analitico_PR_202602_Desonerado
D7: INSERIR NOME DA EMPRESA
A11: COMPOSIÇÕES UENP
A13: COMP.01 | B13: REMOÇÃO DE GRANITO DAS BANCADAS, COM REAPROVEITAMENTO | C13: M2
A14: CÓDIGO | B14: ITEM | C14: UN | D14: QNT. | E14: MAT. + EQUIP. | F14: MÃO DE OBRA | G14: VALOR UNITÁRIO | J14: VALOR TOTAL
A15: 88316 | B15: SERVENTE COM ENCARGOS COMPLEMENTARES | C15: H | D15: 0.15 | H15: =E15*D15 -> 0 | I15: =F15*D15 -> 0 | J15: =G15*D15 -> 0
A16: 88309 | B16: PEDREIRO COM ENCARGOS COMPLEMENTARES | C16: H | D16: 0.1 | H16: =E16*D16 -> 0 | I16: =F16*D16 -> 0 | J16: =G16*D16 -> 0
G17: Total | H17: =SUM(H15:H16) -> 0 | I17: =SUM(I15:I16) -> 0 | J17: =SUM(J15:J16) -> 0
A19: COMP.02 | B19: LIXAMENTO MANUAL DE PAREDE PARA REMOÇÃO DE PINTURA EXISTENTE | C19: M2
A20: CÓDIGO | B20: ITEM | C20: UN | D20: QNT. | E20: MAT. + EQUIP. | F20: MÃO DE OBRA | G20: VALOR UNITÁRIO | J20: VALOR TOTAL
A21: 88316 | B21: SERVENTE COM ENCARGOS COMPLEMENTARES | C21: H | D21: 0.12 | H21: =E21*D21 -> 0 | I21: =F21*D21 -> 0 | J21: =G21*D21 -> 0
A22: 88310 | B22: PINTOR COM ENCARGOS COMPLEMENTARES | C22: H | D22: 0.03 | H22: =E22*D22 -> 0 | I22: =F22*D22 -> 0 | J22: =G22*D22 -> 0
A23: 3767 | B23: LIXA EM FOLHA PARA PAREDE OU MADEIRA, NUMERO 120, COR VERMELHA | C23: UN | D23: 0.0802 | H23: =E23*D23 -> 0 | I23: =F23*D23 -> 0 | J23: =G23*D23 -> 0
G24: Total | H24: =SUM(H21:H23) -> 0 | I24: =SUM(I21:I23) -> 0 | J24: =SUM(J21:J23) -> 0
A26: COMP.03 | B26: SUPORTE DE TOMADA PARA BANCADAS, INCLUSIVE TOMADAS, TOMADAS RJ45, FIXAÇÃO E INSTALAÇÃO | C26: M
A27: CÓDIGO | B27: ITEM | C27: UN | D27: QNT. | E27: MAT. + EQUIP. | F27: MÃO DE OBRA | G27: VALOR UNITÁRIO | J27: VALOR TOTAL
A28: 14310/ORSE | B28: Tubo Metalon Galvanizado de 50x30 ch 20 | C28: M | D28: =(1.5+0.3*2)/1.5 -> 1.4 | H28: =E28*D28 -> 0 | I28: =F28*D28 -> 0 | J28: =G28*D28 -> 0
A29: 91871 | B29: ELETRODUTO RÍGIDO ROSCÁVEL, PVC, DN 25 MM (3/4"), PARA CIRCUITOS TERMINAIS, INSTALADO EM PAREDE - FORNECIMENTO E INSTALAÇÃO. AF_03/2023 | C29: M | D29: 3 | H29: =E29*D29 -> 0 | I29: =F29*D29 -> 0 | J29: =G29*D29 -> 0
A30: 91928 | B30: CABO DE COBRE FLEXÍVEL ISOLADO, 4 MM², ANTI-CHAMA 450/750 V, PARA CIRCUITOS TERMINAIS - FORNECIMENTO E INSTALAÇÃO. AF_03/2023 | C30: M | D30: 4 | H30: =E30*D30 -> 0 | I30: =F30*D30 -> 0 | J30: =G30*D30 -> 0
A31: 91884 | B31: LUVA PARA ELETRODUTO, PVC, ROSCÁVEL, DN 25 MM (3/4"), PARA CIRCUITOS TERMINAIS, INSTALADA EM PAREDE - FORNECIMENTO E INSTALAÇÃO. AF_03/2023 | C31: UN | D31: 1 | H31: =E31*D31 -> 0 | I31: =F31*D31 -> 0 | J31: =G31*D31 -> 0
A32: 00794/ORSE | B32: Tomada para lógica, rj45, com caixa sobrepor, aparente | C32: UN | D32: 2 | H32: =E32*D32 -> 0 | I32: =F32*D32 -> 0 | J32: =G32*D32 -> 0
A33: 10274/ORSE | B33: Caixa metálica com duas tomadas 2P+T para instalação aparente | C33: UN | D33: 1 | H33: =E33*D33 -> 0 | I33: =F33*D33 -> 0 | J33: =G33*D33 -> 0
A34: 7568 | B34: BUCHA DE NYLON SEM ABA S10, COM PARAFUSO DE 6,10 X 65 MM EM ACO ZINCADO COM ROSCA SOBERBA, CABECA CHATA E FENDA PHILLIPS | C34: UN | D34: =4/1.5 -> 2.6666667 | H34: =E34*D34 -> 0 | I34: =F34*D34 -> 0 | J34: =G34*D34 -> 0
A35: 88316 | B35: SERRALHEIRO COM ENCARGOS COMPLEMENTARES | C35: H | D35: 0.3 | H35: =E35*D35 -> 0 | I35: =F35*D35 -> 0 | J35: =G35*D35 -> 0
A36: 88264 | B36: ELETRICISTA COM ENCARGOS COMPLEMENTARES | C36: H | D36: 0.1 | H36: =E36*D36 -> 0 | I36: =F36*D36 -> 0 | J36: =G36*D36 -> 0
A37: 88316 | B37: SERVENTE COM ENCARGOS COMPLEMENTARES | C37: H | D37: 0.3 | H37: =E37*D37 -> 0 | I37: =F37*D37 -> 0 | J37: =G37*D37 -> 0
G38: Total | H38: =SUM(H28:H37) -> 0 | I38: =SUM(I28:I37) -> 0 | J38: =SUM(J28:J37) -> 0
A40: COMP.04 | B40: REMOÇÃO E REINSTALAÇÃO DE SUPORTE DE TOMADAS DAS BANCADAS EXISTENTES | C40: UN
A41: CÓDIGO | B41: ITEM | C41: UN | D41: QNT. | E41: MAT. + EQUIP. | F41: MÃO DE OBRA | G41: VALOR UNITÁRIO | J41: VALOR TOTAL
A42: 88316 | B42: SERVENTE COM ENCARGOS COMPLEMENTARES | C42: H | D42: 0.5 | H42: =E42*D42 -> 0 | I42: =F42*D42 -> 0 | J42: =G42*D42 -> 0
A43: 88264 | B43: ELETRICISTA COM ENCARGOS COMPLEMENTARES | C43: H | D43: 0.65 | H43: =E43*D43 -> 0 | I43: =F43*D43 -> 0 | J43: =G43*D43 -> 0
G44: Total | H44: =SUM(H42:H43) -> 0 | I44: =SUM(I42:I43) -> 0 | J44: =SUM(J42:J43) -> 0
A46: COMP.05 | B46: REMOÇÃO E REINTALAÇÃO DE CUBA DE EMBUTIR RETANGULAR DE AÇO INOXIDÁVEL, 40 X 34 X 14 CM - INCLUSIVE REINSTALAÇÃO HIDRÁULICA E TROCA DE SIFÃO | C46: UN
A47: CÓDIGO | B47: ITEM | C47: UN | D47: QNT. | E47: MAT. + EQUIP. | F47: MÃO DE OBRA | G47: VALOR UNITÁRIO | J47: VALOR TOTAL
A48: 88316 | B48: SERVENTE COM ENCARGOS COMPLEMENTARES | C48: H | D48: =0.15*2 -> 0.3 | H48: =E48*D48 -> 0 | I48: =F48*D48 -> 0 | J48: =G48*D48 -> 0
A49: 88274 | B49: MARMORISTA/GRANITEIRO COM ENCARGOS COMPLEMENTARES | C49: H | D49: =0.38*2 -> 0.76 | H49: =E49*D49 -> 0 | I49: =F49*D49 -> 0 | J49: =G49*D49 -> 0
...

Sheet BDI
E3: UNIVERSIDADE ESTADUAL DO NORTE DO PARANÁ
E4: CNPJ: 08.885.100/0001-54
E5: OBRA : ADEQUAÇÕES DOS LABORATÓRIOS DO BLOCO G - MEDICINA
E6: Local: Campus Cornélio Procópio - CCP
G7: Data do orçamento: MARÇO/2026
F8: SINAPI_Custo_Ref_Composicoes_Analitico_PR_202602_Desonerado
F10: INSERIR NOME DA EMPRESA
A13: COMPOSIÇÃO DO BDI
A14: CUSTO TOTAL DO SERVIÇO (R$)
A15: ITEM | B15: DISCRIMINAÇÃO | E15: VALOR | F15: TAXA (%) | G15: OBSERVAÇÃO | H15: SITUAÇÃO DO INTERVALO ADMISSÍVEL | I15: PARCELAS DO BDI (%)
I16: 1 QUARTIL | J16: MÉDIO | K16: 3 QUARTIL
A17: 1 | B17: AC – ADMINISTRAÇÃO CENTRAL | F17: 0.03 | H17: OK | I17: 0.03 | J17: 0.04 | K17: 0.055
A18: 2 | B18: SG – SEGUROS + GARANTIA | F18: 0.008 | H18: OK | I18: 0.008 | J18: 0.008 | K18: 0.01
A19: 3 | B19: R – RISCOS | F19: 0.0097 | H19: OK | I19: 0.0097 | J19: 0.0127 | K19: 0.0127
A20: 4 | B20: DF – DESPESAS FINANCEIRAS | F20: 0.0059 | H20: OK | I20: 0.0059 | J20: 0.0123 | K20: 0.0139
A21: 5 | B21: L – LUCRO BRUTO | F21: 0.06245 | H21: OK | I21: 0.0616 | J21: 0.074 | K21: 0.0896
A22: 6 | B22: I – IMPOSTOS | F22: =SUM(F23:F26) -> 0.1115 | G22: FÓRMULA DO BDI DE ACORDO COM ACÓRDÃO 2.369/2011-TCU- PLENÁRIO
A23: 43836 | B23: PIS | F23: 0.0065
A24: 43867 | B24: COFINS | F24: 0.03
A25: 43896 | B25: ISS (CONFORME LEGISLAÇÃO MUNICIPAL) | F25: 0.03
A26: 43927 | B26: CONTRIB. PREVIDÊNCIA SOBRE RECEITA BRUTA – CPRB | F26: 0.045
A28: TOTAL DO BDI (R$)
A29: PREÇO DE VENDA (R$) | G29: ONDE:
A30: BDI (%) | F30: =(((1+(F17+F18+F19))*(1+F20)*(1+F21))/(1-F22))-1 -> 0.26020971 | G30: AC : TAXA DE ADMINISTRAÇÃO CENTRAL
G31: S: TAXA DE SEGURO
G32: G: TAXA DE GARANTIAS
G33: R: TAXA DE RISCOS
G34: DF: TAXA DE DESPESAS
G35: L: TAXA DE LUCRO
G36: I: TAXA DE INCIDÊNCIA DE IMPOSTOS (PIS, COFINS, ISS, CPRB)
A39: COMPOSIÇÃO DO BDI REDUZIDO
A40: CUSTO TOTAL DO SERVIÇO (R$)
A41: ITEM | B41: DISCRIMINAÇÃO | E41: VALOR | F41: TAXA (%) | G41: OBSERVAÇÃO | H41: SITUAÇÃO DO INTERVALO ADMISSÍVEL | I41: PARCELAS DO BDI (%)
I42: 1 QUARTIL | J42: MÉDIO | K42: 3 QUARTIL
A43: 1 | B43: AC – ADMINISTRAÇÃO CENTRAL | F43: 0.015 | H43: =IF(AND(F43>=I43,F43<=K43),"OK","DIFERE") -> OK | I43: 0.015 | J43: 0.0345 | K43: 0.0449
A44: 2 | B44: SG – SEGUROS + GARANTIA | F44: 0.003 | H44: =IF(AND(F44>=I44,F44<=K44),"OK","DIFERE") -> OK | I44: 0.003 | J44: 0.0048 | K44: 0.0082
A45: 3 | B45: R – RISCOS | F45: 0.0056 | H45: =IF(AND(F45>=I45,F45<=K45),"OK","DIFERE") -> OK | I45: 0.0056 | J45: 0.0085 | K45: 0.0089
A46: 4 | B46: DF – DESPESAS FINANCEIRAS | F46: 0.0085 | H46: =IF(AND(F46>=I46,F46<=K46),"OK","DIFERE") -> OK | I46: 0.0085 | J46: 0.0085 | K46: 0.0111
A47: 5 | B47: L – LUCRO BRUTO | F47: 0.0352 | H47: =IF(AND(F47>=I47,F47<=K47),"OK","DIFERE") -> OK | I47: 0.035 | J47: 0.0511 | K47: 0.0622
A48: 6 | B48: I – IMPOSTOS | F48: =SUM(F49:F52) -> 0.0815 | G48: FÓRMULA DO BDI DE ACORDO COM ACÓRDÃO 2.369/2011-TCU- PLENÁRIO
...
