Workbook

Sheet RESUMO
A1: L
A2: UNIVERSIDADE ESTADUAL DO NORTE DO PARANÁ PRÓ-REITORIA DE PLANEJAMENTO E AVALIAÇÃO INSTITUCIONAL SECRETARIA DE OBRAS
B11: IDENTIFICAÇÃO DA OBRA: | C11: BLOCO ADMINISTRATIVO DO CCSEN
B13: LOCAL:
B15: ENDEREÇO:
B17: DATA DO ORÇAMENTO:
B19: REFERENCIAL DE PREÇO:
B21: RESPONSÁVEL TÉCNICO:
B22: CREA
B24: ART DO PROJETO / ORÇAMENTO:
B26: RESPONSÁVEL TÉCNICO:
B27: CAU
B29: ART DO PROJETO / ORÇAMENTO:
B31: CUSTO DIRETO: | C31: =ORÇAMENTO!M6 -> 0
B33: MATERIAL | C33: =ORÇAMENTO!N5 -> #REF! | D33: =C33/C31 -> #REF!
B34: MÃO DE OBRA | C34: =ORÇAMENTO!O5 -> #REF! | D34: =C34/C31 -> #REF!
B36: BDI: | C36: =ORÇAMENTO!M4 -> 0.2354
B37: BDI DIF: | C37: =ORÇAMENTO!M5 -> 0.1635
B39: VALOR DO PROJETO: | C39: =ORÇAMENTO!M7 -> 0
B41: REFERÊNCIA DE PREÇOS: | C41: =ORÇAMENTO!C8 -> 0

Sheet ORÇAMENTO
N2: RECURSO
C3: UNIVERSIDADE ESTADUAL DO NORTE DO PARANÁ | N3: 1934513 | O3: =N3-M7 -> 1934513
C4: CNPJ: 08.885.100/0001-54 | L4: BDI | M4: =BDI!F28 -> 0.2354 | N4: MATERIAL | O4: MÃO DE OBRA
C5: OBRA : BLOCO ADMINISTRATIVO DO CCSEN | L5: BDI DIF | M5: 0.1635 | N5: =#REF! -> #REF! | O5: =#REF! -> #REF!
C6: Local: Campus de Cornélio Procópio - CCP | L6: Total s/BDI | M6: =V12 -> 0
C7: Data do orçamento:SETEMBRO/2026 | L7: Total c/BDI | M7: =SUM(N14:N445) -> 0
D9: INSERIR DADOS DA EMPRESA
A11: ITEM | B11: RESUMO | C11: CÓDIGO | D11: DESCRIÇÃO DOS SERVIÇOS | E11: UN | F11: QTD | G11: UNITÁRIO (SEM BDI) | J11: TOTAL (Valores sem BDI) | M11: VALOR TOTAL C/ BDI | U11: VALOR TOTAL C/ BDI | V11: TOTAL S/BDI
G12: MATERIAL + EQ | H12: MÃO DE OBRA | I12: TOTAL | J12: MATERIAL | K12: MÃO DE OBRA | L12: TOTAL | U12: =SUM(U13:U448) -> 0 | V12: =SUM(V13:V448) -> 0 | X12: CONFERENCIA DE FÓRMULA
T13: =IF(A13="", "", IF(LEN(A13)-LEN(SUBSTITUTE(A13, ".", "")) = 0, "ETAPA_PRINCIPAL", IF(LEN(A13)-LEN(SUBSTITUTE(A13, ".", "")) = 1, "SUBETAPA", "ITEM_OBRA")))
A14: 1 | B14: ADMINISTRAÇÃO DA OBRA | J14: =SUM(J15) -> 0 | K14: =SUM(K15) -> 0 | L14: =SUM(L15) -> 0 | M14: =SUM(M15:M16) -> 0 | N14: =M14 -> 0 | T14: =IF(A14="", "", IF(LEN(A14)-LEN(SUBSTITUTE(A14, ".", "")) = 0, "ETAPA_PRINCIPAL", IF(LEN(A14)-LEN(SUBSTITUTE(A14, ".", "")) = 1, "SUBETAPA", "ITEM_OBRA"))) -> ETAPA_PRINCIPAL | U14: =IF(T14="ETAPA_PRINCIPAL",M14,0) -> 0 | V14: =IF($T14="ETAPA_PRINCIPAL",$L14,0) -> 0
A15: 1.1 | B15: ACOMPANHAMENTO TÉCNICO | C15: 90778 | D15: ENGENHEIRO CIVIL DE OBRA PLENO COM ENCARGOS COMPLEMENTARES | E15: H | F15: 360 | I15: =G15+H15 -> 0 | J15: =G15*F15 -> 0 | K15: =H15*F15 -> 0 | L15: =J15+K15 -> 0 | M15: =L15*(1+$M$4) -> 0 | T15: =IF(A15="", "", IF(LEN(A15)-LEN(SUBSTITUTE(A15, ".", "")) = 0, "ETAPA_PRINCIPAL", IF(LEN(A15)-LEN(SUBSTITUTE(A15, ".", "")) = 1, "SUBETAPA", "ITEM_OBRA"))) -> SUBETAPA | U15: =IF(T15="ETAPA_PRINCIPAL",M15,0) -> 0 | V15: =IF($T15="ETAPA_PRINCIPAL",$L15,0) -> 0
A16: 1.2 | B16: ACOMPANHAMENTO TÉCNICO | C16: 93572 | D16: ENCARREGADO GERAL DE OBRAS COM ENCARGOS COMPLEMENTARES | E16: MÊS | F16: 9 | I16: =G16+H16 -> 0 | J16: =G16*F16 -> 0 | K16: =H16*F16 -> 0 | L16: =J16+K16 -> 0 | M16: =L16*(1+$M$4) -> 0
T17: =IF(A17="", "", IF(LEN(A17)-LEN(SUBSTITUTE(A17, ".", "")) = 0, "ETAPA_PRINCIPAL", IF(LEN(A17)-LEN(SUBSTITUTE(A17, ".", "")) = 1, "SUBETAPA", "ITEM_OBRA"))) | U17: =IF(T17="ETAPA_PRINCIPAL",M17,0) -> 0 | V17: =IF($T17="ETAPA_PRINCIPAL",$L17,0) -> 0
A18: 2 | B18: CANTEIRO DE OBRAS | J18: =SUM(J19:J28) -> 0 | K18: =SUM(K19:K28) -> 0 | L18: =SUM(L19:L28) -> 0 | M18: =SUM(M19:M28) -> 0 | N18: =M18 -> 0 | T18: =IF(A18="", "", IF(LEN(A18)-LEN(SUBSTITUTE(A18, ".", "")) = 0, "ETAPA_PRINCIPAL", IF(LEN(A18)-LEN(SUBSTITUTE(A18, ".", "")) = 1, "SUBETAPA", "ITEM_OBRA"))) -> ETAPA_PRINCIPAL | U18: =IF(T18="ETAPA_PRINCIPAL",M18,0) -> 0 | V18: =IF($T18="ETAPA_PRINCIPAL",$L18,0) -> 0
A19: 2.1 | B19: PLACA DE OBRA - 3,5Mx1,5M | C19: 103689 | D19: FORNECIMENTO E INSTALAÇÃO DE PLACA DE OBRA COM CHAPA GALVANIZADA E ESTRUTURA DE MADEIRA. AF_03/2022_PS | E19: M2 | F19: 5.25 | I19: =G19+H19 -> 0 | J19: =G19*F19 -> 0 | K19: =H19*F19 -> 0 | L19: =J19+K19 -> 0 | M19: =L19*(1+$M$4) -> 0 | T19: =IF(A19="", "", IF(LEN(A19)-LEN(SUBSTITUTE(A19, ".", "")) = 0, "ETAPA_PRINCIPAL", IF(LEN(A19)-LEN(SUBSTITUTE(A19, ".", "")) = 1, "SUBETAPA", "ITEM_OBRA"))) -> SUBETAPA | U19: =IF(T19="ETAPA_PRINCIPAL",M19,0) -> 0 | V19: =IF($T19="ETAPA_PRINCIPAL",$L19,0) -> 0
A20: 2.2 | B20: ENTRADA PROVISÓRIA | C20: 101510 | D20: ENTRADA DE ENERGIA ELÉTRICA, AÉREA, TRIFÁSICA, COM CAIXA DE EMBUTIR, CABO DE 16 MM2 E DISJUNTOR DIN 50A (NÃO INCLUSO O POSTE DE CONCRETO). AF_12/2025 | E20: UN | F20: 1 | I20: =G20+H20 -> 0 | J20: =G20*F20 -> 0 | K20: =H20*F20 -> 0 | L20: =J20+K20 -> 0 | M20: =L20*(1+$M$4) -> 0 | T20: =IF(A20="", "", IF(LEN(A20)-LEN(SUBSTITUTE(A20, ".", "")) = 0, "ETAPA_PRINCIPAL", IF(LEN(A20)-LEN(SUBSTITUTE(A20, ".", "")) = 1, "SUBETAPA", "ITEM_OBRA"))) -> SUBETAPA | U20: =IF(T20="ETAPA_PRINCIPAL",M20,0) -> 0 | V20: =IF($T20="ETAPA_PRINCIPAL",$L20,0) -> 0
A21: 2.3 | B21: POSTE PROVISÓRIO | C21: 41196 / SP | D21: POSTE DE CONCRETO ARMADO DE SECAO DUPLO T, EXTENSAO DE 9,00 M, RESISTENCIA DE 150 DAN, TIPO D | E21: UN | F21: 1 | I21: =G21+H21 -> 0 | J21: =G21*F21 -> 0 | K21: =H21*F21 -> 0 | L21: =J21+K21 -> 0 | M21: =L21*(1+$M$4) -> 0 | T21: =IF(A21="", "", IF(LEN(A21)-LEN(SUBSTITUTE(A21, ".", "")) = 0, "ETAPA_PRINCIPAL", IF(LEN(A21)-LEN(SUBSTITUTE(A21, ".", "")) = 1, "SUBETAPA", "ITEM_OBRA"))) -> SUBETAPA | U21: =IF(T21="ETAPA_PRINCIPAL",M21,0) -> 0 | V21: =IF($T21="ETAPA_PRINCIPAL",$L21,0) -> 0
A22: 2.4 | B22: CABO PROVISÓRIO | C22: 04621 ORSE | D22: CABO DE ALUMINIO 0,6/1KV MULTIPLEXADOS 2X1X16 + 16MM² | E22: M | F22: 45 | I22: =G22+H22 -> 0 | J22: =G22*F22 -> 0 | K22: =H22*F22 -> 0 | L22: =J22+K22 -> 0 | M22: =L22*(1+$M$4) -> 0 | T22: =IF(A22="", "", IF(LEN(A22)-LEN(SUBSTITUTE(A22, ".", "")) = 0, "ETAPA_PRINCIPAL", IF(LEN(A22)-LEN(SUBSTITUTE(A22, ".", "")) = 1, "SUBETAPA", "ITEM_OBRA"))) -> SUBETAPA | U22: =IF(T22="ETAPA_PRINCIPAL",M22,0) -> 0 | V22: =IF($T22="ETAPA_PRINCIPAL",$L22,0) -> 0
A23: 2.5 | B23: POSTE PROVISÓRIO | C23: 100578 | D23: ASSENTAMENTO DE POSTE DE CONCRETO COM COMPRIMENTO NOMINAL DE 9 M, CARGA NOMINAL MENOR OU IGUAL A 1000 DAN, ENGASTAMENTO SIMPLES COM 1,5 M DE SOLO (NÃO INCLUI FORNECIMENTO). AF_04/2025 | E23: UN | F23: 1 | I23: =G23+H23 -> 0 | J23: =G23*F23 -> 0 | K23: =H23*F23 -> 0 | L23: =J23+K23 -> 0 | M23: =L23*(1+$M$4) -> 0 | T23: =IF(A23="", "", IF(LEN(A23)-LEN(SUBSTITUTE(A23, ".", "")) = 0, "ETAPA_PRINCIPAL", IF(LEN(A23)-LEN(SUBSTITUTE(A23, ".", "")) = 1, "SUBETAPA", "ITEM_OBRA"))) -> SUBETAPA | U23: =IF(T23="ETAPA_PRINCIPAL",M23,0) -> 0 | V23: =IF($T23="ETAPA_PRINCIPAL",$L23,0) -> 0
A24: 2.6 | B24: CONTÊINER | C24: 105115 | D24: INSTALAÇÃO E DESINSTALAÇÃO MECANIZADA DE CONTÊINER OU MÓDULO HABITÁVEL DE USOS DIVERSOS. AF_03/2024 | E24: UN | F24: 1 | I24: =G24+H24 -> 0 | J24: =G24*F24 -> 0 | K24: =H24*F24 -> 0 | L24: =J24+K24 -> 0 | M24: =L24*(1+$M$4) -> 0 | T24: =IF(A24="", "", IF(LEN(A24)-LEN(SUBSTITUTE(A24, ".", "")) = 0, "ETAPA_PRINCIPAL", IF(LEN(A24)-LEN(SUBSTITUTE(A24, ".", "")) = 1, "SUBETAPA", "ITEM_OBRA"))) -> SUBETAPA | U24: =IF(T24="ETAPA_PRINCIPAL",M24,0) -> 0 | V24: =IF($T24="ETAPA_PRINCIPAL",$L24,0) -> 0
A25: 2.7 | B25: CONTÊINER | C25: 10776 | D25: LOCACAO DE CONTAINER 2,30 X 6,00 M, ALT. 2,50 M, PARA ESCRITORIO, SEM DIVISORIAS INTERNAS E SEM SANITARIO (NAO INCLUI MOBILIZACAO/DESMOBILIZACAO) | E25: MÊS | F25: 8 | I25: =G25+H25 -> 0 | J25: =G25*F25 -> 0 | K25: =H25*F25 -> 0 | L25: =J25+K25 -> 0 | M25: =L25*(1+$M$5) -> 0 | T25: =IF(A25="", "", IF(LEN(A25)-LEN(SUBSTITUTE(A25, ".", "")) = 0, "ETAPA_PRINCIPAL", IF(LEN(A25)-LEN(SUBSTITUTE(A25, ".", "")) = 1, "SUBETAPA", "ITEM_OBRA"))) -> SUBETAPA | U25: =IF(T25="ETAPA_PRINCIPAL",M25,0) -> 0 | V25: =IF($T25="ETAPA_PRINCIPAL",$L25,0) -> 0
A26: 2.8 | B26: ENTRADA DE ÁGUA | C26: 89402 | D26: TUBO, PVC, SOLDÁVEL, DE 25MM, INSTALADO EM RAMAL DE DISTRIBUIÇÃO DE ÁGUA - FORNECIMENTO E INSTALAÇÃO. AF_06/2022 | E26: M | F26: 45 | I26: =G26+H26 -> 0 | J26: =G26*F26 -> 0 | K26: =H26*F26 -> 0 | L26: =J26+K26 -> 0 | M26: =L26*(1+$M$4) -> 0 | T26: =IF(A26="", "", IF(LEN(A26)-LEN(SUBSTITUTE(A26, ".", "")) = 0, "ETAPA_PRINCIPAL", IF(LEN(A26)-LEN(SUBSTITUTE(A26, ".", "")) = 1, "SUBETAPA", "ITEM_OBRA"))) -> SUBETAPA | U26: =IF(T26="ETAPA_PRINCIPAL",M26,0) -> 0 | V26: =IF($T26="ETAPA_PRINCIPAL",$L26,0) -> 0
A27: 2.9 | B27: ENTRADA DE ÁGUA | C27: 01199/ORSE | D27: PONTO DE ÁGUA FRIA APARENTE, C/MATERIAL PVC RÍGIDO SOLDÁVEL Ø 25MM | E27: UN | F27: 1 | I27: =G27+H27 -> 0 | J27: =G27*F27 -> 0 | K27: =H27*F27 -> 0 | L27: =J27+K27 -> 0 | M27: =L27*(1+$M$4) -> 0 | T27: =IF(A27="", "", IF(LEN(A27)-LEN(SUBSTITUTE(A27, ".", "")) = 0, "ETAPA_PRINCIPAL", IF(LEN(A27)-LEN(SUBSTITUTE(A27, ".", "")) = 1, "SUBETAPA", "ITEM_OBRA"))) -> SUBETAPA | U27: =IF(T27="ETAPA_PRINCIPAL",M27,0) -> 0 | V27: =IF($T27="ETAPA_PRINCIPAL",$L27,0) -> 0
A28: 2.10 | B28: TAPUME | C28: 98459 | D28: TAPUME COM TELHA METÁLICA. AF_03/2024 | E28: M2 | F28: 130 | I28: =G28+H28 -> 0 | J28: =G28*F28 -> 0 | K28: =H28*F28 -> 0 | L28: =J28+K28 -> 0 | M28: =L28*(1+$M$4) -> 0 | T28: =IF(A28="", "", IF(LEN(A28)-LEN(SUBSTITUTE(A28, ".", "")) = 0, "ETAPA_PRINCIPAL", IF(LEN(A28)-LEN(SUBSTITUTE(A28, ".", "")) = 1, "SUBETAPA", "ITEM_OBRA"))) -> SUBETAPA | U28: =IF(T28="ETAPA_PRINCIPAL",M28,0) -> 0 | V28: =IF($T28="ETAPA_PRINCIPAL",$L28,0) -> 0
T29: =IF(A29="", "", IF(LEN(A29)-LEN(SUBSTITUTE(A29, ".", "")) = 0, "ETAPA_PRINCIPAL", IF(LEN(A29)-LEN(SUBSTITUTE(A29, ".", "")) = 1, "SUBETAPA", "ITEM_OBRA"))) | U29: =IF(T29="ETAPA_PRINCIPAL",M29,0) -> 0 | V29: =IF($T29="ETAPA_PRINCIPAL",$L29,0) -> 0
A30: 3 | B30: SERVIÇOS PRELIMINARES E TERRAPLENAGEM | J30: =SUM(J31:J39) -> 0 | K30: =SUM(K31:K39) -> 0 | L30: =SUM(L31:L39) -> 0 | M30: =SUM(M31:M39) -> 0 | N30: =M30 -> 0 | T30: =IF(A30="", "", IF(LEN(A30)-LEN(SUBSTITUTE(A30, ".", "")) = 0, "ETAPA_PRINCIPAL", IF(LEN(A30)-LEN(SUBSTITUTE(A30, ".", "")) = 1, "SUBETAPA", "ITEM_OBRA"))) -> ETAPA_PRINCIPAL | U30: =IF(T30="ETAPA_PRINCIPAL",M30,0) -> 0 | V30: =IF($T30="ETAPA_PRINCIPAL",$L30,0) -> 0
A31: 3.1 | B31: LIMPEZA VEGETAL - IMPLANTAÇÃO + 6M ARREDORES | C31: 98525 | D31: LIMPEZA MECANIZADA DE CAMADA VEGETAL, VEGETAÇÃO E PEQUENAS ÁRVORES (DIÂMETRO DE TRONCO MENOR QUE 0,20 M), COM TRATOR DE ESTEIRAS. AF_03/2024 | E31: M2 | F31: 842 | I31: =G31+H31 -> 0 | J31: =G31*F31 -> 0 | K31: =H31*F31 -> 0 | L31: =J31+K31 -> 0 | M31: =L31*(1+$M$4) -> 0 | T31: =IF(A31="", "", IF(LEN(A31)-LEN(SUBSTITUTE(A31, ".", "")) = 0, "ETAPA_PRINCIPAL", IF(LEN(A31)-LEN(SUBSTITUTE(A31, ".", "")) = 1, "SUBETAPA", "ITEM_OBRA"))) -> SUBETAPA | U31: =IF(T31="ETAPA_PRINCIPAL",M31,0) -> 0 | V31: =IF($T31="ETAPA_PRINCIPAL",$L31,0) -> 0
A32: 3.2 | B32: VOLUME DE REATERRO - PLATÔ DA OBRA + TALUDE LATERAL | C32: 93369 | D32: REATERRO MECANIZADO DE VALA COM ESCAVADEIRA HIDRÁULICA (CAPACIDADE DA CAÇAMBA: 0,8 M³/POTÊNCIA: 111 HP), LARGURA 1,5 A 2,5 M, PROFUNDIDADE 1,5 A 3,0 M, COM SOLO (SEM SUBSTITUIÇÃO) DE 1ª CATEGORIA, COM COMPACTADOR DE SOLOS DE PERCUSSÃO. AF_08/2023 | E32: M3 | F32: =393.73*1/2+(88.4*1*1/2) -> 241.065 | I32: =G32+H32 -> 0 | J32: =G32*F32 -> 0 | K32: =H32*F32 -> 0 | L32: =J32+K32 -> 0 | M32: =L32*(1+$M$4) -> 0 | T32: =IF(A32="", "", IF(LEN(A32)-LEN(SUBSTITUTE(A32, ".", "")) = 0, "ETAPA_PRINCIPAL", IF(LEN(A32)-LEN(SUBSTITUTE(A32, ".", "")) = 1, "SUBETAPA", "ITEM_OBRA"))) -> SUBETAPA | U32: =IF(T32="ETAPA_PRINCIPAL",M32,0) -> 0 | V32: =IF($T32="ETAPA_PRINCIPAL",$L32,0) -> 0
A33: 3.3 | B33: COMPACTAÇÃO DA ÁREA + ARREDORES | C33: 97084 | D33: COMPACTAÇÃO MECÂNICA DE SOLO PARA EXECUÇÃO DE RADIER, PISO DE CONCRETO OU LAJE SOBRE SOLO, COM COMPACTADOR DE SOLOS TIPO PLACA VIBRATÓRIA. AF_09/2021 | E33: M2 | F33: 470 | I33: =G33+H33 -> 0 | J33: =G33*F33 -> 0 | K33: =H33*F33 -> 0 | L33: =J33+K33 -> 0 | M33: =L33*(1+$M$4) -> 0 | T33: =IF(A33="", "", IF(LEN(A33)-LEN(SUBSTITUTE(A33, ".", "")) = 0, "ETAPA_PRINCIPAL", IF(LEN(A33)-LEN(SUBSTITUTE(A33, ".", "")) = 1, "SUBETAPA", "ITEM_OBRA"))) -> SUBETAPA | U33: =IF(T33="ETAPA_PRINCIPAL",M33,0) -> 0 | V33: =IF($T33="ETAPA_PRINCIPAL",$L33,0) -> 0
A34: 3.4 | B34: GABARITO OBRA | C34: 99059 | D34: LOCAÇÃO CONVENCIONAL DE OBRA, UTILIZANDO GABARITO DE TÁBUAS CORRIDAS PONTALETADAS A CADA 2,00M - 2 UTILIZAÇÕES. AF_03/2024 | E34: M | F34: 100.8 | I34: =G34+H34 -> 0 | J34: =G34*F34 -> 0 | K34: =H34*F34 -> 0 | L34: =J34+K34 -> 0 | M34: =L34*(1+$M$4) -> 0 | T34: =IF(A34="", "", IF(LEN(A34)-LEN(SUBSTITUTE(A34, ".", "")) = 0, "ETAPA_PRINCIPAL", IF(LEN(A34)-LEN(SUBSTITUTE(A34, ".", "")) = 1, "SUBETAPA", "ITEM_OBRA"))) -> SUBETAPA | U34: =IF(T34="ETAPA_PRINCIPAL",M34,0) -> 0 | V34: =IF($T34="ETAPA_PRINCIPAL",$L34,0) -> 0
A35: 3.5 | B35: DEMOLIÇÃO CAIXA DE ESGOTO E PLUVIAL EXISTENTE | C35: 97628 | D35: DEMOLIÇÃO DE LAJES, EM CONCRETO ARMADO, DE FORMA MANUAL, SEM REAPROVEITAMENTO. AF_09/2022 | E35: M2 | F35: 8.7 | I35: =G35+H35 -> 0 | J35: =G35*F35 -> 0 | K35: =H35*F35 -> 0 | L35: =J35+K35 -> 0 | M35: =L35*(1+$M$4) -> 0 | T35: =IF(A35="", "", IF(LEN(A35)-LEN(SUBSTITUTE(A35, ".", "")) = 0, "ETAPA_PRINCIPAL", IF(LEN(A35)-LEN(SUBSTITUTE(A35, ".", "")) = 1, "SUBETAPA", "ITEM_OBRA"))) -> SUBETAPA | U35: =IF(T35="ETAPA_PRINCIPAL",M35,0) -> 0 | V35: =IF($T35="ETAPA_PRINCIPAL",$L35,0) -> 0
A36: 3.6 | B36: DEMOLIÇÃO ESCADA (BLOCO G) | C36: 97628 | D36: DEMOLIÇÃO DE LAJES, EM CONCRETO ARMADO, DE FORMA MANUAL, SEM REAPROVEITAMENTO. AF_09/2022 | E36: M2 | F36: 15 | I36: =G36+H36 -> 0 | J36: =G36*F36 -> 0 | K36: =H36*F36 -> 0 | L36: =J36+K36 -> 0 | M36: =L36*(1+$M$4) -> 0 | T36: =IF(A36="", "", IF(LEN(A36)-LEN(SUBSTITUTE(A36, ".", "")) = 0, "ETAPA_PRINCIPAL", IF(LEN(A36)-LEN(SUBSTITUTE(A36, ".", "")) = 1, "SUBETAPA", "ITEM_OBRA"))) -> SUBETAPA | U36: =IF(T36="ETAPA_PRINCIPAL",M36,0) -> 0 | V36: =IF($T36="ETAPA_PRINCIPAL",$L36,0) -> 0
A37: 3.7 | B37: DEMOLIÇÃO CALÇADA (ACESSO DE MÁQUINAS AO CANTEIRO DE OBRAS) | C37: 97628 | D37: DEMOLIÇÃO DE LAJES, EM CONCRETO ARMADO, DE FORMA MANUAL, SEM REAPROVEITAMENTO. AF_09/2023 | E37: M3 | F37: 1.25 | I37: =G37+H37 -> 0 | J37: =G37*F37 -> 0 | K37: =H37*F37 -> 0 | L37: =J37+K37 -> 0 | M37: =L37*(1+$M$4) -> 0 | T37: =IF(A37="", "", IF(LEN(A37)-LEN(SUBSTITUTE(A37, ".", "")) = 0, "ETAPA_PRINCIPAL", IF(LEN(A37)-LEN(SUBSTITUTE(A37, ".", "")) = 1, "SUBETAPA", "ITEM_OBRA"))) -> SUBETAPA | U37: =IF(T37="ETAPA_PRINCIPAL",M37,0) -> 0 | V37: =IF($T37="ETAPA_PRINCIPAL",$L37,0) -> 0
A38: 3.8 | B38: EXECUÇÃO CALÇADA H=5CM (ACESSO MÁQ.) | C38: 94991 | D38: EXECUÇÃO DE PASSEIO (CALÇADA) OU PISO DE CONCRETO COM CONCRETO MOLDADO IN LOCO, USINADO C20, ACABAMENTO CONVENCIONAL, NÃO ARMADO. AF_08/2022 | E38: M3 | F38: 1.25 | I38: =G38+H38 -> 0 | J38: =G38*F38 -> 0 | K38: =H38*F38 -> 0 | L38: =J38+K38 -> 0 | M38: =L38*(1+$M$4) -> 0 | T38: =IF(A38="", "", IF(LEN(A38)-LEN(SUBSTITUTE(A38, ".", "")) = 0, "ETAPA_PRINCIPAL", IF(LEN(A38)-LEN(SUBSTITUTE(A38, ".", "")) = 1, "SUBETAPA", "ITEM_OBRA"))) -> SUBETAPA | U38: =IF(T38="ETAPA_PRINCIPAL",M38,0) -> 0 | V38: =IF($T38="ETAPA_PRINCIPAL",$L38,0) -> 0
A39: 3.9 | B39: PASSARELA/DESMONTAR(ACESSO MÁQ.) 8,30X3,00M | C39: 97655/ADAPT | D39: [ADAPTADO PARA REAPROVEITAMENTO] REMOÇÃO DE TRAMA METÁLICA PARA COBERTURA, DE FORMA MANUAL, SEM REAPROVEITAMENTO. AF_09/2023 | E39: M2 | F39: 38 | I39: =G39+H39 -> 0 | J39: =G39*F39 -> 0 | K39: =H39*F39 -> 0 | L39: =J39+K39 -> 0 | M39: =L39*(1+$M$4) -> 0 | T39: =IF(A39="", "", IF(LEN(A39)-LEN(SUBSTITUTE(A39, ".", "")) = 0, "ETAPA_PRINCIPAL", IF(LEN(A39)-LEN(SUBSTITUTE(A39, ".", "")) = 1, "SUBETAPA", "ITEM_OBRA"))) -> SUBETAPA | U39: =IF(T39="ETAPA_PRINCIPAL",M39,0) -> 0 | V39: =IF($T39="ETAPA_PRINCIPAL",$L39,0) -> 0
T40: =IF(A40="", "", IF(LEN(A40)-LEN(SUBSTITUTE(A40, ".", "")) = 0, "ETAPA_PRINCIPAL", IF(LEN(A40)-LEN(SUBSTITUTE(A40, ".", "")) = 1, "SUBETAPA", "ITEM_OBRA"))) | U40: =IF(T40="ETAPA_PRINCIPAL",M40,0) -> 0 | V40: =IF($T40="ETAPA_PRINCIPAL",$L40,0) -> 0
A41: 4 | B41: FUNDAÇÃO E INFRAESTRUTURA | J41: =SUM(J42:J71) -> 0 | K41: =SUM(K42:K71) -> 0 | L41: =SUM(L42:L71) -> 0 | M41: =SUM(M42:M71) -> 0 | N41: =M41 -> 0 | T41: =IF(A41="", "", IF(LEN(A41)-LEN(SUBSTITUTE(A41, ".", "")) = 0, "ETAPA_PRINCIPAL", IF(LEN(A41)-LEN(SUBSTITUTE(A41, ".", "")) = 1, "SUBETAPA", "ITEM_OBRA"))) -> ETAPA_PRINCIPAL | U41: =IF(T41="ETAPA_PRINCIPAL",M41,0) -> 0 | V41: =IF($T41="ETAPA_PRINCIPAL",$L41,0) -> 0
A42: 4.1 | B42: SAPATA ISOLADA | T42: =IF(A42="", "", IF(LEN(A42)-LEN(SUBSTITUTE(A42, ".", "")) = 0, "ETAPA_PRINCIPAL", IF(LEN(A42)-LEN(SUBSTITUTE(A42, ".", "")) = 1, "SUBETAPA", "ITEM_OBRA"))) -> SUBETAPA | U42: =IF(T42="ETAPA_PRINCIPAL",M42,0) -> 0 | V42: =IF($T42="ETAPA_PRINCIPAL",$L42,0) -> 0
A43: 4.1.1 | B43: ESCAVAÇÃO DA SAPATA | C43: 93358 | D43: ESCAVAÇÃO MANUAL DE VALA. AF_09/2024 | E43: M3 | F43: =12.7*1.4 -> 17.78 | I43: =G43+H43 -> 0 | J43: =G43*F43 -> 0 | K43: =H43*F43 -> 0 | L43: =J43+K43 -> 0 | M43: =L43*(1+$M$4) -> 0 | T43: =IF(A43="", "", IF(LEN(A43)-LEN(SUBSTITUTE(A43, ".", "")) = 0, "ETAPA_PRINCIPAL", IF(LEN(A43)-LEN(SUBSTITUTE(A43, ".", "")) = 1, "SUBETAPA", "ITEM_OBRA"))) -> ITEM_OBRA | U43: =IF(T43="ETAPA_PRINCIPAL",M43,0) -> 0 | V43: =IF($T43="ETAPA_PRINCIPAL",$L43,0) -> 0
...

Sheet COMPOSIÇÕES
C3: UNIVERSIDADE ESTADUAL DO NORTE DO PARANÁ
C4: CNPJ: 08.885.100/0001-54
C5: OBRA : BLOCO ADMINISTRATIVO DO CCSEN
C6: Local: Campus de Cornélio Procópio - CCP
C7: Data do orçamento:SETEMBRO/2026
C8: SINAPI_Referência_2026_07_não desonerado
F9: RESPONSÁVEL TÉCNICO Amanda Alves da Silva Arquiteta e Urbanista CAU A145138-3 | H9: RESPONSÁVEL TÉCNICO Maicon Junior Hochscheidt Engenheiro Civil CREA/PR-189719/D | J9: RESPONSÁVEL TÉCNICO Henrique F. Ximenes de Andrade Bilbao Engenheiro Civil CREA PR 160.587/D
A10: COMPOSIÇÕES UENP - BASE SINAPI
A13: 01. KIT DE PORTA-PRONTA DE MADEIRA EM ACABAMENTO MELAMÍNICO BRANCO, FOLHA LEVE OU MÉDIA, E BATENTE METÁLICO, 90X210CM, COM REVESTIMENTO RESISTENTE A IMPACTOS (90X40CM), FIXAÇÃO COM ARGAMASSA - FORNECIMENTO E INSTALAÇÃO. AF_12/2019
A14: DESC. | H14: UNIDADE | I14: UN
B15: COD | C15: SERVIÇO | D15: UN | E15: QTD | F15: VALOR MAT+EQ | G15: VALOR M.O | H15: VALOR UN | I15: VT MAT+EQ | J15: VT M.O | K15: VT
A16: INSUMO | B16: 39485 | C16: KIT PORTA PRONTA DE MADEIRA, FOLHA LEVE (NBR 15930) DE 900 X 2100 MM, DE 35 MM A 40 MM DE ESPESSURA, COM MARCO EM ACO, NUCLEO COLMEIA, CAPA LISA EM HDF, ACABAMENTO MELAMINICO BRANCO (INCLUI MARCO, ALIZARES, DOBRADICAS E FECHADURA) | D16: UN | E16: 1 | F16: 724.94 | G16: 0 | H16: =F16+G16 -> 724.94 | I16: =F16*E16 -> 724.94 | J16: =G16*E16 -> 0 | K16: =I16+J16 -> 724.94
A17: COMPOSICAO | B17: 88261 | C17: CARPINTEIRO DE ESQUADRIA COM ENCARGOS COMPLEMENTARES | D17: H | E17: 0.327 | F17: 0 | G17: 37.87 | H17: =F17+G17 -> 37.87 | I17: =F17*E17 -> 0 | J17: =G17*E17 -> 12.38349 | K17: =I17+J17 -> 12.38349
A18: COMPOSICAO | B18: 88309 | C18: PEDREIRO COM ENCARGOS COMPLEMENTARES | D18: H | E18: 2.024 | F18: 0 | G18: 40.19 | H18: =F18+G18 -> 40.19 | I18: =F18*E18 -> 0 | J18: =G18*E18 -> 81.34456 | K18: =I18+J18 -> 81.34456
A19: COMPOSICAO | B19: 88316 | C19: SERVENTE COM ENCARGOS COMPLEMENTARES | D19: H | E19: 1.5 | F19: 0 | G19: 31.41 | H19: =F19+G19 -> 31.41 | I19: =F19*E19 -> 0 | J19: =G19*E19 -> 47.115 | K19: =I19+J19 -> 47.115
A20: COMPOSICAO | B20: 88629 | C20: ARGAMASSA TRAÇO 1:3 (EM VOLUME DE CIMENTO E AREIA MÉDIA ÚMIDA), PREPARO MANUAL. AF_07/2026 | D20: M3 | E20: 0.0229 | F20: 507.28 | G20: 386.77 | H20: =F20+G20 -> 894.05 | I20: =F20*E20 -> 11.616712 | J20: =G20*E20 -> 8.857033 | K20: =I20+J20 -> 20.473745
A21: INSUMO | B21: 12759 | C21: CHAPA ACO INOX AISI 304 NUMERO 9 (E = 4 MM), ACABAMENTO NUMERO 1 (LAMINADO A QUENTE, FOSCO) | D21: M2 | E21: =0.4*0.9 -> 0.36 | F21: 1027.3 | G21: 0 | H21: =F21+G21 -> 1027.3 | I21: =F21*E21 -> 369.828 | J21: =G21*E21 -> 0 | K21: =I21+J21 -> 369.828
A22: INSUMO | B22: 4791 | C22: ADESIVO ACRILICO DE BASE AQUOSA / COLA DE CONTATO | D22: KG | E22: 0.01 | F22: 39.72 | G22: 0 | H22: =F22+G22 -> 39.72 | I22: =F22*E22 -> 0.3972 | J22: =G22*E22 -> 0 | K22: =I22+J22 -> 0.3972
A23: INSUMO | B23: 20017 | C23: GUARNICAO / ALIZAR / VISTA LISA EM MADEIRA MACICA, PARA PORTA, E = *1* CM, L = *5* CM, CEDRINHO / ANGELIM COMERCIAL / TAURI/ CURUPIXA / PEROBA / CUMARU OU EQUIVALENTE DA REGIAO | D23: M | E23: 10.4 | F23: 10.9 | G23: 0 | H23: =F23+G23 -> 10.9 | I23: =F23*E23 -> 113.36 | J23: =G23*E23 -> 0 | K23: =I23+J23 -> 113.36
I24: =SUM(I16:I23) -> 1220.1419 | J24: =SUM(J16:J23) -> 149.70008 | K24: =SUM(K16:K23) -> 1369.842
A26: 02. ESTRUTURA METÁLICA EM PERFIL LAMINADO OU SOLDADO EM AÇO ESTRUTURAL, INCLUSO TRANSPORTE E IÇAMENTO
A27: DESC. | H27: UNIDADE | I27: UN
B28: COD | C28: SERVIÇO | D28: UN | E28: QTD | F28: VALOR MAT+EQ | G28: VALOR M.O | H28: VALOR UN | I28: VT MAT+EQ | J28: VT M.O | K28: VT
A29: COMPOSICAO | B29: 88240 | C29: AJUDANTE DE ESTRUTURA METÁLICA COM ENCARGOS COMPLEMENTARES | D29: H | E29: 0.0047 | F29: 0 | G29: 31.85 | H29: =F29+G29 -> 31.85 | I29: =F29*E29 -> 0 | J29: =G29*E29 -> 0.149695 | K29: =I29+J29 -> 0.149695
A30: COMPOSICAO | B30: 88278 | C30: MONTADOR DE ESTRUTURAS METÁLICAS COM ENCARGOS COMPLEMENTARES | D30: H | E30: 0.029 | F30: 0 | G30: 35.27 | H30: =F30+G30 -> 35.27 | I30: =F30*E30 -> 0 | J30: =G30*E30 -> 1.02283 | K30: =I30+J30 -> 1.02283
A31: COMPOSICAO | B31: 93287 | C31: GUINDASTE HIDRÁULICO AUTOPROPELIDO, COM LANÇA TELESCÓPICA 40 M, CAPACIDADE MÁXIMA 60 T, POTÊNCIA 260 KW - CHP DIURNO. AF_03/2016 | D31: CHP | E31: 0.0041 | F31: 320.16 | G31: 48.52 | H31: =F31+G31 -> 368.68 | I31: =F31*E31 -> 1.312656 | J31: =G31*E31 -> 0.198932 | K31: =I31+J31 -> 1.511588
A32: COMPOSICAO | B32: 93288 | C32: GUINDASTE HIDRÁULICO AUTOPROPELIDO, COM LANÇA TELESCÓPICA 40 M, CAPACIDADE MÁXIMA 60 T, POTÊNCIA 260 KW - CHI DIURNO. AF_03/2016 | D32: CHI | E32: 0.0038 | F32: 148.94 | G32: 48.52 | H32: =F32+G32 -> 197.46 | I32: =F32*E32 -> 0.565972 | J32: =G32*E32 -> 0.184376 | K32: =I32+J32 -> 0.750348
A33: COMPOSICAO | B33: 100716 | C33: JATEAMENTO ABRASIVO COM GRANALHA DE AÇO EM PERFIL METÁLICO EM FÁBRICA. AF_01/2020 | D33: M² | E33: 0.0358 | F33: 20.52 | G33: 5.48 | H33: =F33+G33 -> 26 | I33: =F33*E33 -> 0.734616 | J33: =G33*E33 -> 0.196184 | K33: =I33+J33 -> 0.9308
A34: COMPOSICAO | B34: 100719 | C34: PINTURA COM TINTA ALQUÍDICA DE FUNDO (TIPO ZARCÃO) PULVERIZADA SOBRE PERFIL METÁLICO EXECUTADO EM FÁBRICA (POR DEMÃO). AF_01/2020_PE | D34: M² | E34: 0.0358 | F34: 10.61 | G34: 2.64 | H34: =F34+G34 -> 13.25 | I34: =F34*E34 -> 0.379838 | J34: =G34*E34 -> 0.094512 | K34: =I34+J34 -> 0.47435
A35: INSUMO / SP | B35: 442 | C35: PARAFUSO FRANCES M16 EM ACO GALVANIZADO, COMPRIMENTO = 45 MM, DIAMETRO = 16 MM, CABECA ABAULADA | D35: UN | E35: 0.051 | F35: 6.12 | G35: 0 | H35: =F35+G35 -> 6.12 | I35: =F35*E35 -> 0.31212 | J35: =G35*E35 -> 0 | K35: =I35+J35 -> 0.31212
A36: INSUMO / SP | B36: 4777 | C36: CANTONEIRA ACO ABAS IGUAIS (QUALQUER BITOLA), ESPESSURA ENTRE 1/8" E 1/4" | D36: KG | E36: 0.030548 | F36: 8.02 | G36: 0 | H36: =F36+G36 -> 8.02 | I36: =F36*E36 -> 0.24499496 | J36: =G36*E36 -> 0 | K36: =I36+J36 -> 0.24499496
A37: INSUMO / SP | B37: 43082 | C37: PERFIL "I" OU "W" EM ACO LAMINADO, QUAISQUER DIMENSOES | D37: KG | E37: 1.091 | F37: 10 | G37: 0 | H37: =F37+G37 -> 10 | I37: =F37*E37 -> 10.91 | J37: =G37*E37 -> 0 | K37: =I37+J37 -> 10.91
I38: =SUM(I29:I37) -> 14.460197 | J38: =SUM(J29:J37) -> 1.846529 | K38: =SUM(K29:K37) -> 16.306726
A40: 03. PORTA DE ALUMÍNIO DE ABRIR PARA VIDRO SEM GUARNIÇÃO, FIXAÇÃO COM PARAFUSOS, INCLUSIVE VIDROS - FORNECIMENTO E INSTALAÇÃO. AF_12/2019
A41: DESC. | H41: UNIDADE | I41: M2
B42: COD | C42: SERVIÇO | D42: UN | E42: QTD | F42: VALOR MAT+EQ | G42: VALOR M.O | H42: VALOR UN | I42: VT MAT+EQ | J42: VT M.O | K42: VT
A43: INSUMO | B43: 142 | C43: SELANTE ELASTICO MONOCOMPONENTE A BASE DE POLIURETANO (PU) PARA JUNTAS DIVERSAS | D43: 310ML | E43: 0.89 | F43: 38.65 | G43: 0 | H43: =F43+G43 -> 38.65 | I43: =F43*E43 -> 34.3985 | J43: =G43*E43 -> 0 | K43: =I43+J43 -> 34.3985
A44: INSUMO | B44: 7568 | C44: BUCHA DE NYLON SEM ABA S10, COM PARAFUSO DE 6,10 X 65 MM EM ACO ZINCADO COM ROSCA SOBERBA, CABECA CHATA E FENDA PHILLIPS | D44: UN | E44: 4.84 | F44: 0.98 | G44: 0 | H44: =F44+G44 -> 0.98 | I44: =F44*E44 -> 4.7432 | J44: =G44*E44 -> 0 | K44: =I44+J44 -> 4.7432
A45: INSUMO | B45: 39024 | C45: (ADAPTADO PARA 150 X 280 CM) PORTA DE ABRIR EM ALUMINIO COM DIVISAO HORIZONTAL PARA VIDROS, ACABAMENTO ANODIZADO NATURAL, VIDROS INCLUSOS, SEM GUARNICAO/ALIZAR/VISTA , 87 X 210 CM | D45: UN | E45: 0.55 | F45: 1308.02 | G45: 0 | H45: =F45+G45 -> 1308.02 | I45: =F45*E45 -> 719.411 | J45: =G45*E45 -> 0 | K45: =I45+J45 -> 719.411
A46: COMPOSICAO | B46: 88309 | C46: PEDREIRO COM ENCARGOS COMPLEMENTARES | D46: H | E46: 0.36 | F46: 0 | G46: 40.19 | H46: =F46+G46 -> 40.19 | I46: =F46*E46 -> 0 | J46: =G46*E46 -> 14.4684 | K46: =I46+J46 -> 14.4684
...

Sheet COTAÇÕES
B3: UNIVERSIDADE ESTADUAL DO NORTE DO PARANÁ
B4: CNPJ: 08.885.100/0001-54
B5: OBRA : BLOCO ADMINISTRATIVO DO CCSEN
B6: Local: Campus de Cornélio Procópio - CCP
B7: Data do orçamento:SETEMBRO/2026
B8: SINAPI_Referência_2026_07_não desonerado
A10: RESPONSÁVEL TÉCNICO Henrique F. Ximenes de Andrade Bilbao Engenheiro Civil CREA PR 160.587/D | C10: RESPONSÁVEL TÉCNICO Amanda Alves da Silva Arquiteta e Urbanista CAU A145138-3 | D10: RESPONSÁVEL TÉCNICO Maicon Junior Hochscheidt Engenheiro Civil CREA/PR-189719/D
A12: COTAÇÕES EXTERNAS
A14: COTAÇÃO 01
A15: DESC. | B15: CENTRAL DE ILUMINAÇÃO DE EMERGÊNCIA - 600W 12 V - MODELO REF. SIEK 1206 | E15: UN: UNITÁRIO
B16: EMPRESA 01 | C16: EMPRESA 02 | D16: EMPRESA 03 | E16: VALOR MÉDIO
A17: NOME | B17: KHRONOS INDÚSTRIA COMÉRCIO E SERVIÇOS EM ELETRÔNICA LTDA | C17: CASA FERNANDES COMÉRCIO E SERVIÇOS DE ENGENHARIA | D17: GESIMA MATERIAL ELÉTRICO | E17: =AVERAGE(B21:D21) -> 453.28
A18: CPF/CNPJ | B18: 78.323.094/0004-70 | C18: 22.355.551/0001-00 | D18: 88.230.545/0001-35
A19: CONTATO | B19: https://loja.grupokhronos.com.br/central-de-iluminacao-de-emergencia-siek-1206/p?srsltid=AfmBOoo0RTDDh4owSJHVIFppxEBV49RuuZRWwLXd9EKMMo1T9jZ7ZN7i | C19: https://mapeengenharia.com.br/loja/produto/central-coletiva-siek-1206/ | D19: https://gasima.com.br/produtos/cs-central-ilum-emerg-600w-12v-siek1206/
A20: DATA PROP. | B20: 46199 | C20: 46199 | D20: 46199
A21: VALOR | B21: 415.64 | C21: 423.3 | D21: 520.9
A23: COTAÇÃO 02
A24: DESC. | B24: MINI GIBIC TRANSCEIVER SM DUPLEX MONOMODO TX/RX 1310NM | E24: UN:PÇ 1MT
B25: EMPRESA 01 | C25: EMPRESA 02 | D25: EMPRESA 03 | E25: VALOR MÉDIO
A26: NOME | B26: REI DO SFP | C26: CELETI EXPRESS | D26: RAICROM | E26: =AVERAGE(B30:D30) -> 130.39
A27: CPF/CNPJ | B27: 31.206.788/0001-10 | C27: 39.893.680/0002-36 | D27: 08.326.073.0001-80
A28: CONTATO | B28: https://www.reidosfp.com.br/sfp-sm-duplex-10g-1310nm-2-km-lc-ddm | C28: https://loja.celeti.com.br/products/sfp-10g-1310nm-2km-dom-duplex-lc-upc-smf?srsltid=AfmBOoq-PzmJCX2Ro81lKVITNSV7b8v5Xqys7u9C3Ftu_qX4TA5pw6aS | D28: https://www.raicrom.com.br/conectividade/fibra-sfp-10g-02km-lc-duplex-ddm-1310nm-sfp-10g-lr02d?srsltid=AfmBOop6FDtqO3lOZjRF_KKJ8RzWLrCatWocH9jZuu3uAG4ZTwXwyTZJ
A29: DATA PROP. | B29: 46255 | C29: 46255 | D29: 46255
A30: VALOR | B30: 140 | C30: 109 | D30: 142.17
A32: COTAÇÃO 03
A33: DESC. | B33: CORDÃO ÓPTICO DUPLEX LC/LC UCP SM MONOMODO 9/125 2,5MT | E33: UN:PÇ 1MT
B34: EMPRESA 01 | C34: EMPRESA 02 | D34: EMPRESA 03 | E34: VALOR MÉDIO
A35: NOME | B35: UNICASERV | C35: SOLUÇÃO CABOS | D35: CENTRAL CABOS | E35: =AVERAGE(B39:D39) -> 45.15
A36: CPF/CNPJ | B36: 07.709.614/0001-96 | C36: 00.559.915/0001-31 | D36: 08.626.431/0001-70
A37: CONTATO | B37: https://www.unicaserv.com.br/fibras-opticas/cordoes-opticos/cds-cordao-optico-duplex-sm-sc-upclc-upc-9125-2-5m | C37: https://www.solucaocabos.com.br/extensao-optica-duplex-lc-spc-sm-furukawa-250-metros/p?srsltid=AfmBOopjIZZM63WD8rcXjAEFngQRl7h4n13xsP7pZZG6B8M0nCkRC4e9 | D37: https://www.centralcabos.com.br/cordao-optico-duplex-sm-9-125-sc-sc-upc-2-50-metros/p
A38: DATA PROP. | B38: 46255 | C38: 46255 | D38: 46255
A39: VALOR | B39: 40.45 | C39: 60 | D39: 35
A41: COTAÇÃO 04
A42: DESC. | B42: MINI DIO 12 PORTAS 12FO | E42: UN:PÇ 1MT
B43: EMPRESA 01 | C43: EMPRESA 02 | D43: EMPRESA 03 | E43: VALOR MÉDIO
A44: NOME | B44: Solução Cabos | C44: Policabos | D44: UNICASERV | E44: =AVERAGE(B48:D48) -> 347.47
A45: CPF/CNPJ | B45: 00.559.915/0001-31 | C45: 07.034.260/0001-27 | D45: 07.709.614/0001-96
A46: CONTATO | B46: https://www.solucaocabos.com.br/dio-12fo-sc-upc-completo-padrao-rack-/p?idsku=16818&gad_source=1&gad_campaignid=22012104624&gbraid=0AAAAAolx81FBQf4T4A7cIMWupqhNtLpym&gclid=CjwKCAjw7p_UBhBlEiwAhpIs7yCN2oADcxX0wKEB76bP821rWg59SIS14pgSaqZk2dptRbezJQG3FBoCPogQAvD_BwE | C46: https://www.policabos.com.br/fibra-otica/dio-optico/dio-24-fibras?parceiro=8810&utm_campaign=Policabos_Shopping&utm_source=google&utm_medium=cpc&utm_term=&gad_source=1&gad_campaignid=23969155409&gbraid=0AAAAAoLD11EjKUbX0i0-CH5fF25V-dTg6&gclid=CjwKCAjw7p_UBhBlEiwAhpIs7xgQl0oU3vdsqhxAkEjKVktzIY6ToX5MverWwSfYM_VyGBne0HNK_xoCEksQAvD_BwE&variant_id=1923 | D46: https://www.unicaserv.com.br/fibras-opticas/dios-e-caixas-de-emenda/mini-dio-completo-scpc-para-12-fibras-sm-sc-upc-bandeja-pigtail-e-acopladores-azuis-?parceiro=3738
A47: DATA PROP. | B47: 46255 | C47: 46255 | D47: 46255
A48: VALOR | B48: 378.96 | C48: 472 | D48: 191.45
...

Sheet CRONOGRAMA
D3: UNIVERSIDADE ESTADUAL DO NORTE DO PARANÁ
D4: CNPJ: 08.885.100/0001-54
D5: OBRA : BLOCO ADMINISTRATIVO DO CCSEN
D6: Local: Campus de Cornélio Procópio - CCP
D7: Data do orçamento:SETEMBRO/2026
D8: SINAPI_Referência_2026_07_não desonerado
I9: RESPONSÁVEL TÉCNICO Amanda Alves da Silva Arquiteta e Urbanista CAU A145138-3 | L9: RESPONSÁVEL TÉCNICO Maicon Junior Hochscheidt Engenheiro Civil CREA/PR-189719/D | O9: RESPONSÁVEL TÉCNICO Henrique F. Ximenes de Andrade Bilbao Engenheiro Civil CREA PR 160.587/D
E10: CRONOGRAMA FÍSICO- FINANCEIRO
B11: SERVIÇO/LOCAL | C11: Valores | D11: % | E11: MÊS 1 | G11: MÊS 2 | I11: MÊS 3 | K11: MÊS 4 | M11: MÊS 5 | O11: MÊS 6 | Q11: MÊS 7 | S11: MÊS 8 | U11: MÊS 9
E12: % | F12: R$ | G12: % | H12: R$ | I12: % | J12: R$ | K12: % | L12: R$ | M12: % | N12: R$ | O12: % | P12: R$ | Q12: % | R12: R$ | S12: % | T12: R$ | U12: % | V12: R$
A13: 1 | B13: =VLOOKUP(A13,ORÇAMENTO!$A$2:$M$448,2,FALSE()) -> ADMINISTRAÇÃO DA OBRA | C13: =VLOOKUP(A13,ORÇAMENTO!$A$2:$M$448,13,FALSE()) -> 0 | D13: =C13/$C$37 -> #DIV/0! | E13: 0.05 | F13: =IF(E13>0,E13*$C13," ") -> 0 | G13: 0.1 | H13: =IF(G13>0,G13*$C13," ") -> 0 | I13: 0.1 | J13: =IF(I13>0,I13*$C13," ") -> 0 | K13: 0.1 | L13: =IF(K13>0,K13*$C13," ") -> 0 | M13: 0.1 | N13: =IF(M13>0,M13*$C13," ") -> 0 | O13: 0.1 | P13: =IF(O13>0,O13*$C13," ") -> 0 | Q13: 0.1 | R13: =IF(Q13>0,Q13*$C13," ") -> 0 | S13: 0.15 | T13: =IF(S13>0,S13*$C13," ") -> 0 | U13: 0.2 | V13: =IF(U13>0,U13*$C13," ") -> 0 | W13: =E13+G13+I13+K13+M13+O13+Q13+S13+U13 -> 1
A14: 2 | B14: =VLOOKUP(A14,ORÇAMENTO!$A$2:$M$448,2,FALSE()) -> CANTEIRO DE OBRAS | C14: =VLOOKUP(A14,ORÇAMENTO!$A$2:$M$448,13,FALSE()) -> 0 | D14: =C14/$C$37 -> #DIV/0! | E14: 0.7 | F14: =IF(E14>0,E14*$C14," ") -> 0 | G14: 0.1 | H14: =IF(G14>0,G14*$C14," ") -> 0 | I14: 0.1 | J14: =IF(I14>0,I14*$C14," ") -> 0 | K14: 0.1 | L14: =IF(K14>0,K14*$C14," ") -> 0 | M14: 0 | N14: =IF(M14>0,M14*$C14," ") | O14: 0 | P14: =IF(O14>0,O14*$C14," ") | Q14: 0 | R14: =IF(Q14>0,Q14*$C14," ") | S14: 0 | T14: =IF(S14>0,S14*$C14," ") | U14: 0 | V14: =IF(U14>0,U14*$C14," ") | W14: =E14+G14+I14+K14+M14+O14+Q14+S14+U14 -> 1
A15: 3 | B15: =VLOOKUP(A15,ORÇAMENTO!$A$2:$M$448,2,FALSE()) -> SERVIÇOS PRELIMINARES E TERRAPLENAGEM | C15: =VLOOKUP(A15,ORÇAMENTO!$A$2:$M$448,13,FALSE()) -> 0 | D15: =C15/$C$37 -> #DIV/0! | E15: 0.1 | F15: =IF(E15>0,E15*$C15," ") -> 0 | G15: 0.5 | H15: =IF(G15>0,G15*$C15," ") -> 0 | I15: 0.4 | J15: =IF(I15>0,I15*$C15," ") -> 0 | K15: 0 | L15: =IF(K15>0,K15*$C15," ") | M15: 0 | N15: =IF(M15>0,M15*$C15," ") | O15: 0 | P15: =IF(O15>0,O15*$C15," ") | Q15: 0 | R15: =IF(Q15>0,Q15*$C15," ") | S15: 0 | T15: =IF(S15>0,S15*$C15," ") | U15: 0 | V15: =IF(U15>0,U15*$C15," ") | W15: =E15+G15+I15+K15+M15+O15+Q15+S15+U15 -> 1
A16: 4 | B16: =VLOOKUP(A16,ORÇAMENTO!$A$2:$M$448,2,FALSE()) -> FUNDAÇÃO E INFRAESTRUTURA | C16: =VLOOKUP(A16,ORÇAMENTO!$A$2:$M$448,13,FALSE()) -> 0 | D16: =C16/$C$37 -> #DIV/0! | E16: 0.25 | F16: =IF(E16>0,E16*$C16," ") -> 0 | G16: 0.25 | H16: =IF(G16>0,G16*$C16," ") -> 0 | I16: 0.5 | J16: =IF(I16>0,I16*$C16," ") -> 0 | K16: 0 | L16: =IF(K16>0,K16*$C16," ") | M16: 0 | N16: =IF(M16>0,M16*$C16," ") | O16: 0 | P16: =IF(O16>0,O16*$C16," ") | Q16: 0 | R16: =IF(Q16>0,Q16*$C16," ") | S16: 0 | T16: =IF(S16>0,S16*$C16," ") | U16: 0 | V16: =IF(U16>0,U16*$C16," ") | W16: =E16+G16+I16+K16+M16+O16+Q16+S16+U16 -> 1
A17: 5 | B17: =VLOOKUP(A17,ORÇAMENTO!$A$2:$M$448,2,FALSE()) -> SUPERESTRUTURA | C17: =VLOOKUP(A17,ORÇAMENTO!$A$2:$M$448,13,FALSE()) -> 0 | D17: =C17/$C$37 -> #DIV/0! | E17: 0 | F17: =IF(E17>0,E17*$C17," ") | G17: 0.2 | H17: =IF(G17>0,G17*$C17," ") -> 0 | I17: 0.15 | J17: =IF(I17>0,I17*$C17," ") -> 0 | K17: 0.15 | L17: =IF(K17>0,K17*$C17," ") -> 0 | M17: 0.2 | N17: =IF(M17>0,M17*$C17," ") -> 0 | O17: 0.2 | P17: =IF(O17>0,O17*$C17," ") -> 0 | Q17: 0.1 | R17: =IF(Q17>0,Q17*$C17," ") -> 0 | S17: 0 | T17: =IF(S17>0,S17*$C17," ") | U17: 0 | V17: =IF(U17>0,U17*$C17," ") | W17: =E17+G17+I17+K17+M17+O17+Q17+S17+U17 -> 1
A18: 6 | B18: =VLOOKUP(A18,ORÇAMENTO!$A$2:$M$448,2,FALSE()) -> COBERTURA E ÁGUAS PLUVIAIS | C18: =VLOOKUP(A18,ORÇAMENTO!$A$2:$M$448,13,FALSE()) -> 0 | D18: =C18/$C$37 -> #DIV/0! | E18: 0 | F18: =IF(E18>0,E18*$C18," ") | G18: 0 | H18: =IF(G18>0,G18*$C18," ") | I18: 0.1 | J18: =IF(I18>0,I18*$C18," ") -> 0 | K18: 0.2 | L18: =IF(K18>0,K18*$C18," ") -> 0 | M18: 0.5 | N18: =IF(M18>0,M18*$C18," ") -> 0 | O18: 0.2 | P18: =IF(O18>0,O18*$C18," ") -> 0 | Q18: 0 | R18: =IF(Q18>0,Q18*$C18," ") | S18: 0 | T18: =IF(S18>0,S18*$C18," ") | U18: 0 | V18: =IF(U18>0,U18*$C18," ") | W18: =E18+G18+I18+K18+M18+O18+Q18+S18+U18 -> 1
A19: 7 | B19: =VLOOKUP(A19,ORÇAMENTO!$A$2:$M$448,2,FALSE()) -> ALVENARIA E OUTRAS VEDAÇÕES | C19: =VLOOKUP(A19,ORÇAMENTO!$A$2:$M$448,13,FALSE()) -> 0 | D19: =C19/$C$37 -> #DIV/0! | E19: 0 | F19: =IF(E19>0,E19*$C19," ") | G19: 0.35 | H19: =IF(G19>0,G19*$C19," ") -> 0 | I19: 0.1 | J19: =IF(I19>0,I19*$C19," ") -> 0 | K19: 0.2 | L19: =IF(K19>0,K19*$C19," ") -> 0 | M19: 0.35 | N19: =IF(M19>0,M19*$C19," ") -> 0 | P19: =IF(O19>0,O19*$C19," ") | Q19: 0 | R19: =IF(Q19>0,Q19*$C19," ") | S19: 0 | T19: =IF(S19>0,S19*$C19," ") | U19: 0 | V19: =IF(U19>0,U19*$C19," ") | W19: =E19+G19+I19+K19+M19+O19+Q19+S19+U19 -> 1
A20: 8 | B20: =VLOOKUP(A20,ORÇAMENTO!$A$2:$M$448,2,FALSE()) -> INSTALAÇÕES HIDROSSANITÁRIAS | C20: =VLOOKUP(A20,ORÇAMENTO!$A$2:$M$448,13,FALSE()) -> 0 | D20: =C20/$C$37 -> #DIV/0! | E20: 0 | F20: =IF(E20>0,E20*$C20," ") | G20: 0.15 | H20: =IF(G20>0,G20*$C20," ") -> 0 | I20: 0.15 | J20: =IF(I20>0,I20*$C20," ") -> 0 | K20: 0.3 | L20: =IF(K20>0,K20*$C20," ") -> 0 | M20: 0.4 | N20: =IF(M20>0,M20*$C20," ") -> 0 | O20: 0 | P20: =IF(O20>0,O20*$C20," ") | Q20: 0 | R20: =IF(Q20>0,Q20*$C20," ") | S20: 0 | T20: =IF(S20>0,S20*$C20," ") | U20: 0 | V20: =IF(U20>0,U20*$C20," ") | W20: =E20+G20+I20+K20+M20+O20+Q20+S20+U20 -> 1
A21: 9 | B21: =VLOOKUP(A21,ORÇAMENTO!$A$2:$M$448,2,FALSE()) -> SISTEMA PLUVIAL | C21: =VLOOKUP(A21,ORÇAMENTO!$A$2:$M$448,13,FALSE()) -> 0 | D21: =C21/$C$37 -> #DIV/0! | E21: 0 | F21: =IF(E21>0,E21*$C21," ") | G21: 0 | H21: =IF(G21>0,G21*$C21," ") | I21: 0 | J21: =IF(I21>0,I21*$C21," ") | K21: 0 | L21: =IF(K21>0,K21*$C21," ") | M21: 0 | N21: =IF(M21>0,M21*$C21," ") | O21: 0 | P21: =IF(O21>0,O21*$C21," ") | Q21: 0 | R21: =IF(Q21>0,Q21*$C21," ") | S21: 0.4 | T21: =IF(S21>0,S21*$C21," ") -> 0 | U21: 0.6 | V21: =IF(U21>0,U21*$C21," ") -> 0 | W21: =E21+G21+I21+K21+M21+O21+Q21+S21+U21 -> 1
A22: 10 | B22: =VLOOKUP(A22,ORÇAMENTO!$A$2:$M$448,2,FALSE()) -> INSTALAÇÕES ELÉTRICAS - BAIXA TENSÃO | C22: =VLOOKUP(A22,ORÇAMENTO!$A$2:$M$448,13,FALSE()) -> 0 | D22: =C22/$C$37 -> #DIV/0! | E22: 0 | F22: =IF(E22>0,E22*$C22," ") | G22: 0 | H22: =IF(G22>0,G22*$C22," ") | I22: 0.1 | J22: =IF(I22>0,I22*$C22," ") -> 0 | K22: 0.3 | L22: =IF(K22>0,K22*$C22," ") -> 0 | M22: 0.2 | N22: =IF(M22>0,M22*$C22," ") -> 0 | O22: 0.2 | P22: =IF(O22>0,O22*$C22," ") -> 0 | Q22: 0.1 | R22: =IF(Q22>0,Q22*$C22," ") -> 0 | S22: 0.1 | T22: =IF(S22>0,S22*$C22," ") -> 0 | U22: 0 | V22: =IF(U22>0,U22*$C22," ") | W22: =E22+G22+I22+K22+M22+O22+Q22+S22+U22 -> 1
A23: 11 | B23: =VLOOKUP(A23,ORÇAMENTO!$A$2:$M$448,2,FALSE()) -> INSTALAÇÕES REDE LÓGICA | C23: =VLOOKUP(A23,ORÇAMENTO!$A$2:$M$448,13,FALSE()) -> 0 | D23: =C23/$C$37 -> #DIV/0! | E23: 0 | F23: =IF(E23>0,E23*$C23," ") | G23: 0 | H23: =IF(G23>0,G23*$C23," ") | I23: 0 | J23: =IF(I23>0,I23*$C23," ") | K23: 0.3 | L23: =IF(K23>0,K23*$C23," ") -> 0 | M23: 0.2 | N23: =IF(M23>0,M23*$C23," ") -> 0 | O23: 0 | P23: =IF(O23>0,O23*$C23," ") | Q23: 0.3 | R23: =IF(Q23>0,Q23*$C23," ") -> 0 | S23: 0.2 | T23: =IF(S23>0,S23*$C23," ") -> 0 | U23: 0 | V23: =IF(U23>0,U23*$C23," ") | W23: =E23+G23+I23+K23+M23+O23+Q23+S23+U23 -> 1
A24: 12 | B24: =VLOOKUP(A24,ORÇAMENTO!$A$2:$M$448,2,FALSE()) -> SPDA - PÁRA-RAIO | C24: =VLOOKUP(A24,ORÇAMENTO!$A$2:$M$448,13,FALSE()) -> 0 | D24: =C24/$C$37 -> #DIV/0! | E24: 0 | F24: =IF(E24>0,E24*$C24," ") | G24: 0 | H24: =IF(G24>0,G24*$C24," ") | I24: 0 | J24: =IF(I24>0,I24*$C24," ") | K24: 0 | L24: =IF(K24>0,K24*$C24," ") | M24: 0 | N24: =IF(M24>0,M24*$C24," ") | O24: 0 | P24: =IF(O24>0,O24*$C24," ") | Q24: 0 | R24: =IF(Q24>0,Q24*$C24," ") | S24: 0.5 | T24: =IF(S24>0,S24*$C24," ") -> 0 | U24: 0.5 | V24: =IF(U24>0,U24*$C24," ") -> 0 | W24: =E24+G24+I24+K24+M24+O24+Q24+S24+U24 -> 1
A25: 13 | B25: =VLOOKUP(A25,ORÇAMENTO!$A$2:$M$448,2,FALSE()) -> PREVENÇÃO DE INCÊNDIO | C25: =VLOOKUP(A25,ORÇAMENTO!$A$2:$M$448,13,FALSE()) -> 0 | D25: =C25/$C$37 -> #DIV/0! | E25: 0 | F25: =IF(E25>0,E25*$C25," ") | G25: 0 | H25: =IF(G25>0,G25*$C25," ") | I25: 0 | J25: =IF(I25>0,I25*$C25," ") | K25: 0 | L25: =IF(K25>0,K25*$C25," ") | M25: 0 | N25: =IF(M25>0,M25*$C25," ") | O25: 0 | P25: =IF(O25>0,O25*$C25," ") | Q25: 0.3 | R25: =IF(Q25>0,Q25*$C25," ") -> 0 | S25: 0.7 | T25: =IF(S25>0,S25*$C25," ") -> 0 | U25: 0 | V25: =IF(U25>0,U25*$C25," ") | W25: =E25+G25+I25+K25+M25+O25+Q25+S25+U25 -> 1
A26: 14 | B26: =VLOOKUP(A26,ORÇAMENTO!$A$2:$M$448,2,FALSE()) -> ESQUADRIAS | C26: =VLOOKUP(A26,ORÇAMENTO!$A$2:$M$448,13,FALSE()) -> 0 | D26: =C26/$C$37 -> #DIV/0! | E26: 0 | F26: =IF(E26>0,E26*$C26," ") | G26: 0 | H26: =IF(G26>0,G26*$C26," ") | I26: 0 | J26: =IF(I26>0,I26*$C26," ") | K26: 0.05 | L26: =IF(K26>0,K26*$C26," ") -> 0 | M26: 0.15 | N26: =IF(M26>0,M26*$C26," ") -> 0 | O26: 0.3 | P26: =IF(O26>0,O26*$C26," ") -> 0 | Q26: 0.3 | R26: =IF(Q26>0,Q26*$C26," ") -> 0 | S26: 0.1 | T26: =IF(S26>0,S26*$C26," ") -> 0 | U26: 0.1 | V26: =IF(U26>0,U26*$C26," ") -> 0 | W26: =E26+G26+I26+K26+M26+O26+Q26+S26+U26 -> 1
A27: 15 | B27: =VLOOKUP(A27,ORÇAMENTO!$A$2:$M$448,2,FALSE()) -> REVESTIMENTOS | C27: =VLOOKUP(A27,ORÇAMENTO!$A$2:$M$448,13,FALSE()) -> 0 | D27: =C27/$C$37 -> #DIV/0! | E27: 0 | F27: =IF(E27>0,E27*$C27," ") | G27: 0 | H27: =IF(G27>0,G27*$C27," ") | I27: 0 | J27: =IF(I27>0,I27*$C27," ") | K27: 0.25 | L27: =IF(K27>0,K27*$C27," ") -> 0 | M27: 0.35 | N27: =IF(M27>0,M27*$C27," ") -> 0 | O27: 0.4 | P27: =IF(O27>0,O27*$C27," ") -> 0 | Q27: 0 | R27: =IF(Q27>0,Q27*$C27," ") | S27: 0 | T27: =IF(S27>0,S27*$C27," ") | U27: 0 | V27: =IF(U27>0,U27*$C27," ") | W27: =E27+G27+I27+K27+M27+O27+Q27+S27+U27 -> 1
A28: 16 | B28: =VLOOKUP(A28,ORÇAMENTO!$A$2:$M$448,2,FALSE()) -> PISOS | C28: =VLOOKUP(A28,ORÇAMENTO!$A$2:$M$448,13,FALSE()) -> 0 | D28: =C28/$C$37 -> #DIV/0! | E28: 0 | F28: =IF(E28>0,E28*$C28," ") | G28: 0 | H28: =IF(G28>0,G28*$C28," ") | I28: 0 | J28: =IF(I28>0,I28*$C28," ") | K28: 0.25 | L28: =IF(K28>0,K28*$C28," ") -> 0 | M28: 0.35 | N28: =IF(M28>0,M28*$C28," ") -> 0 | O28: 0.4 | P28: =IF(O28>0,O28*$C28," ") -> 0 | Q28: 0 | R28: =IF(Q28>0,Q28*$C28," ") | S28: 0 | T28: =IF(S28>0,S28*$C28," ") | U28: 0 | V28: =IF(U28>0,U28*$C28," ") | W28: =E28+G28+I28+K28+M28+O28+Q28+S28+U28 -> 1
A29: 17 | B29: =VLOOKUP(A29,ORÇAMENTO!$A$2:$M$448,2,FALSE()) -> FORRO E ACABAMENTOS | C29: =VLOOKUP(A29,ORÇAMENTO!$A$2:$M$448,13,FALSE()) -> 0 | D29: =C29/$C$37 -> #DIV/0! | E29: 0 | F29: =IF(E29>0,E29*$C29," ") | G29: 0 | H29: =IF(G29>0,G29*$C29," ") | I29: 0 | J29: =IF(I29>0,I29*$C29," ") | K29: 0 | L29: =IF(K29>0,K29*$C29," ") | M29: 0 | N29: =IF(M29>0,M29*$C29," ") | O29: 0 | P29: =IF(O29>0,O29*$C29," ") | Q29: 0.2 | R29: =IF(Q29>0,Q29*$C29," ") -> 0 | S29: 0.4 | T29: =IF(S29>0,S29*$C29," ") -> 0 | U29: 0.4 | V29: =IF(U29>0,U29*$C29," ") -> 0 | W29: =E29+G29+I29+K29+M29+O29+Q29+S29+U29 -> 1
A30: 18 | B30: =VLOOKUP(A30,ORÇAMENTO!$A$2:$M$448,2,FALSE()) -> ENTORNO E PAISAGISMO | C30: =VLOOKUP(A30,ORÇAMENTO!$A$2:$M$448,13,FALSE()) -> 0 | D30: =C30/$C$37 -> #DIV/0! | E30: 0 | F30: =IF(E30>0,E30*$C30," ") | G30: 0 | H30: =IF(G30>0,G30*$C30," ") | I30: 0 | J30: =IF(I30>0,I30*$C30," ") | K30: 0 | L30: =IF(K30>0,K30*$C30," ") | M30: 0 | N30: =IF(M30>0,M30*$C30," ") | O30: 0 | P30: =IF(O30>0,O30*$C30," ") | Q30: 0 | R30: =IF(Q30>0,Q30*$C30," ") | S30: 0.4 | T30: =IF(S30>0,S30*$C30," ") -> 0 | U30: 0.6 | V30: =IF(U30>0,U30*$C30," ") -> 0 | W30: =E30+G30+I30+K30+M30+O30+Q30+S30+U30 -> 1
A31: 19 | B31: =VLOOKUP(A31,ORÇAMENTO!$A$2:$M$448,2,FALSE()) -> PINTURAS | C31: =VLOOKUP(A31,ORÇAMENTO!$A$2:$M$448,13,FALSE()) -> 0 | D31: =C31/$C$37 -> #DIV/0! | E31: 0 | F31: =IF(E31>0,E31*$C31," ") | G31: 0 | H31: =IF(G31>0,G31*$C31," ") | I31: 0 | J31: =IF(I31>0,I31*$C31," ") | K31: 0 | L31: =IF(K31>0,K31*$C31," ") | M31: 0 | N31: =IF(M31>0,M31*$C31," ") | O31: 0 | P31: =IF(O31>0,O31*$C31," ") | Q31: 0.6 | R31: =IF(Q31>0,Q31*$C31," ") -> 0 | S31: 0.1 | T31: =IF(S31>0,S31*$C31," ") -> 0 | U31: 0.3 | V31: =IF(U31>0,U31*$C31," ") -> 0 | W31: =E31+G31+I31+K31+M31+O31+Q31+S31+U31 -> 1
A32: 20 | B32: =VLOOKUP(A32,ORÇAMENTO!$A$2:$M$448,2,FALSE()) -> LOUÇAS E ACESSÓRIOS | C32: =VLOOKUP(A32,ORÇAMENTO!$A$2:$M$448,13,FALSE()) -> 0 | D32: =C32/$C$37 -> #DIV/0! | E32: 0 | F32: =IF(E32>0,E32*$C32," ") | G32: 0 | H32: =IF(G32>0,G32*$C32," ") | I32: 0 | J32: =IF(I32>0,I32*$C32," ") | K32: 0 | L32: =IF(K32>0,K32*$C32," ") | M32: 0 | N32: =IF(M32>0,M32*$C32," ") | O32: 0 | P32: =IF(O32>0,O32*$C32," ") | Q32: 0 | R32: =IF(Q32>0,Q32*$C32," ") | S32: 0.4 | T32: =IF(S32>0,S32*$C32," ") -> 0 | U32: 0.6 | V32: =IF(U32>0,U32*$C32," ") -> 0 | W32: =E32+G32+I32+K32+M32+O32+Q32+S32+U32 -> 1
A33: 21 | B33: =VLOOKUP(A33,ORÇAMENTO!$A$2:$M$448,2,FALSE()) -> ESCADA DE ACESSO AO BLOCO G | C33: =VLOOKUP(A33,ORÇAMENTO!$A$2:$M$448,13,FALSE()) -> 0 | D33: =C33/$C$37 -> #DIV/0! | E33: 0 | F33: =IF(E33>0,E33*$C33," ") | G33: 0 | H33: =IF(G33>0,G33*$C33," ") | I33: 0 | J33: =IF(I33>0,I33*$C33," ") | K33: 0 | L33: =IF(K33>0,K33*$C33," ") | M33: 0 | N33: =IF(M33>0,M33*$C33," ") | O33: 0 | P33: =IF(O33>0,O33*$C33," ") | R33: =IF(Q33>0,Q33*$C33," ") | S33: 0.5 | T33: =IF(S33>0,S33*$C33," ") -> 0 | U33: 0.5 | V33: =IF(U33>0,U33*$C33," ") -> 0 | W33: =E33+G33+I33+K33+M33+O33+Q33+S33+U33 -> 1
A34: 22 | B34: =VLOOKUP(A34,ORÇAMENTO!$A$2:$M$448,2,FALSE()) -> ACESSIBILIDADE | C34: =VLOOKUP(A34,ORÇAMENTO!$A$2:$M$448,13,FALSE()) -> 0 | D34: =C34/$C$37 -> #DIV/0! | E34: 0 | F34: =IF(E34>0,E34*$C34," ") | G34: 0 | H34: =IF(G34>0,G34*$C34," ") | I34: 0 | J34: =IF(I34>0,I34*$C34," ") | K34: 0 | L34: =IF(K34>0,K34*$C34," ") | M34: 0 | N34: =IF(M34>0,M34*$C34," ") | O34: 0 | P34: =IF(O34>0,O34*$C34," ") | Q34: 0 | R34: =IF(Q34>0,Q34*$C34," ") | S34: 0.4 | T34: =IF(S34>0,S34*$C34," ") -> 0 | U34: 0.6 | V34: =IF(U34>0,U34*$C34," ") -> 0 | W34: =E34+G34+I34+K34+M34+O34+Q34+S34+U34 -> 1
A35: 23 | B35: =VLOOKUP(A35,ORÇAMENTO!$A$2:$M$448,2,FALSE()) -> COMUNICAÇÃO VISUAL | C35: =VLOOKUP(A35,ORÇAMENTO!$A$2:$M$448,13,FALSE()) -> 0 | D35: =C35/$C$37 -> #DIV/0! | E35: 0 | F35: =IF(E35>0,E35*$C35," ") | G35: 0 | H35: =IF(G35>0,G35*$C35," ") | I35: 0 | J35: =IF(I35>0,I35*$C35," ") | K35: 0 | L35: =IF(K35>0,K35*$C35," ") | M35: 0 | N35: =IF(M35>0,M35*$C35," ") | O35: 0 | P35: =IF(O35>0,O35*$C35," ") | Q35: 0 | R35: =IF(Q35>0,Q35*$C35," ") | S35: 0.5 | T35: =IF(S35>0,S35*$C35," ") -> 0 | U35: 0.5 | V35: =IF(U35>0,U35*$C35," ") -> 0 | W35: =E35+G35+I35+K35+M35+O35+Q35+S35+U35 -> 1
A36: 24 | B36: =VLOOKUP(A36,ORÇAMENTO!$A$2:$M$448,2,FALSE()) -> FINALIZAÇÕES | C36: =VLOOKUP(A36,ORÇAMENTO!$A$2:$M$448,13,FALSE()) -> 0 | D36: =C36/$C$37 -> #DIV/0! | E36: 0 | F36: =IF(E36>0,E36*$C36," ") | G36: 0 | H36: =IF(G36>0,G36*$C36," ") | I36: 0 | J36: =IF(I36>0,I36*$C36," ") | K36: 0 | L36: =IF(K36>0,K36*$C36," ") | M36: 0.05 | N36: =IF(M36>0,M36*$C36," ") -> 0 | O36: 0.05 | P36: =IF(O36>0,O36*$C36," ") -> 0 | Q36: 0.05 | R36: =IF(Q36>0,Q36*$C36," ") -> 0 | S36: 0.25 | T36: =IF(S36>0,S36*$C36," ") -> 0 | U36: 0.6 | V36: =IF(U36>0,U36*$C36," ") -> 0 | W36: =E36+G36+I36+K36+M36+O36+Q36+S36+U36 -> 1
B37: TOTAL | C37: =SUM(C13:C36) -> 0 | D37: =C37/$C$37 -> #DIV/0! | F37: =IF(E37>0,E37*$C37," ") | H37: =IF(G37>0,G37*$C37," ") | J37: =IF(I37>0,I37*$C37," ") | L37: =IF(K37>0,K37*$C37," ") | N37: =IF(M37>0,M37*$C37," ") | P37: =IF(O37>0,O37*$C37," ") | R37: =IF(Q37>0,Q37*$C37," ") | T37: =IF(S37>0,S37*$C37," ") | V37: =IF(U37>0,U37*$C37," ")
B39: R$ parcial (valor período) | E39: =SUM(F13:F37) -> 0 | G39: =SUM(H13:H37) -> 0 | I39: =SUM(J13:J37) -> 0 | K39: =SUM(L13:L37) -> 0 | M39: =SUM(N13:N37) -> 0 | O39: =SUM(P13:P37) -> 0 | Q39: =SUM(R13:R37) -> 0 | S39: =SUM(T13:T37) -> 0 | U39: =SUM(V13:V37) -> 0
B40: %_parcial (período) | E40: =SUM(E39/$C$37) -> #DIV/0! | G40: =SUM(G39/$C$37) -> #DIV/0! | I40: =SUM(I39/$C$37) -> #DIV/0! | K40: =SUM(K39/$C$37) -> #DIV/0! | M40: =SUM(M39/$C$37) -> #DIV/0! | O40: =SUM(O39/$C$37) -> #DIV/0! | Q40: =SUM(Q39/$C$37) -> #DIV/0! | S40: =SUM(S39/$C$37) -> #DIV/0! | U40: =SUM(U39/$C$37) -> #DIV/0!
B41: R$_ acumulado | E41: =E39 -> 0 | G41: =E41+G39 -> 0 | I41: =G41+I39 -> 0 | K41: =I41+K39 -> 0 | M41: =K41+M39 -> 0 | O41: =M41+O39 -> 0 | Q41: =SUM(O41+Q39) -> 0 | S41: =Q41+S39 -> 0 | U41: =S41+U39 -> 0
B42: %_acumulado | E42: =E40 -> #DIV/0! | G42: =E42+G40 -> #DIV/0! | I42: =G42+I40 -> #DIV/0! | K42: =I42+K40 -> #DIV/0! | M42: =K42+M40 -> #DIV/0! | O42: =M42+O40 -> #DIV/0! | Q42: =O42+Q40 -> #DIV/0! | S42: =Q42+S40 -> #DIV/0! | U42: =S42+U40 -> #DIV/0!
A44: NOTAS:
...

Sheet BDI
F3: UNIVERSIDADE ESTADUAL DO NORTE DO PARANÁ
F4: CNPJ: 08.885.100/0001-54
F5: OBRA : BLOCO ADMINISTRATIVO DO CCSEN
F6: Local: Campus de Cornélio Procópio - CCP
F7: Data do orçamento:SETEMBRO/2026
F8: SINAPI_Referência_2026_07_não desonerado
E10: RESPONSÁVEL TÉCNICO Henrique F. Ximenes de Andrade Bilbao Engenheiro Civil CREA PR 160.587/D | G10: RESPONSÁVEL TÉCNICO Amanda Alves da Silva Arquiteta e Urbanista CAU A145138-3 | I10: RESPONSÁVEL TÉCNICO Maicon Junior Hochscheidt Engenheiro Civil CREA/PR-189719/D
A11: COMPOSIÇÃO DO BDI
A12: CUSTO TOTAL DO SERVIÇO (R$)
A13: ITEM | B13: DISCRIMINAÇÃO | E13: VALOR | F13: TAXA (%) | G13: OBSERVAÇÃO | H13: SITUAÇÃO DO INTERVALO ADMISSÍVEL | I13: PARCELAS DO BDI (%)
I14: 1 QUARTIL | J14: MÉDIO | K14: 3 QUARTIL
A15: 1 | B15: AC – ADMINISTRAÇÃO CENTRAL | E15: - | F15: 0.04 | H15: =IF(AND(F15>=I15,F15<=K15),"OK","DIFERE") -> OK | I15: 0.03 | J15: 0.04 | K15: 0.055
A16: 2 | B16: SG – SEGUROS + GARANTIA | E16: - | F16: 0.008 | H16: =IF(AND(F16>=I16,F16<=K16),"OK","DIFERE") -> OK | I16: 0.008 | J16: 0.008 | K16: 0.01
A17: 3 | B17: R – RISCOS | E17: - | F17: 0.0127 | H17: =IF(AND(F17>=I17,F17<=K17),"OK","DIFERE") -> OK | I17: 0.0097 | J17: 0.0127 | K17: 0.0127
A18: 4 | B18: DF – DESPESAS FINANCEIRAS | E18: - | F18: 0.0123 | H18: =IF(AND(F18>=I18,F18<=K18),"OK","DIFERE") -> OK | I18: 0.0059 | J18: 0.0123 | K18: 0.0139
A19: 5 | B19: L – LUCRO BRUTO | E19: - | F19: 0.074 | H19: =IF(AND(F19>=I19,F19<=K19),"OK","DIFERE") -> OK | I19: 0.0616 | J19: 0.074 | K19: 0.0896
A20: 6 | B20: I – IMPOSTOS | E20: - | F20: =SUM(F21:F24) -> 0.0665 | G20: FÓRMULA DO BDI DE ACORDO COM ACÓRDÃO 2.369/2011-TCU- PLENÁRIO
A21: 43836 | B21: PIS | F21: 0.0065
A22: 43867 | B22: COFINS | F22: 0.03
A23: 43896 | B23: ISS (CONFORME LEGISLAÇÃO MUNICIPAL) | F23: 0.03
A24: 43927 | B24: CONTRIB. PREVIDÊNCIA SOBRE RECEITA BRUTA – CPRB | F24: 0
A26: TOTAL DO BDI (R$)
A27: PREÇO DE VENDA (R$) | G27: ONDE:
A28: BDI (%) | F28: =ROUND(((((1+(F15+F16+F17))*(1+F18)*(1+F19))/(1-F20))-1),4) -> 0.2354 | G28: AC : TAXA DE ADMINISTRAÇÃO CENTRAL
G29: S: TAXA DE SEGURO
A30: Parâmetros do Acórdão 2.622/2013 - Plenário | G30: G: TAXA DE GARANTIAS
A31: Sem CPRB | B31: 0.2034 | C31: 0.2212 | D31: 0.25 | G31: R: TAXA DE RISCOS
A32: Com CPRB | B32: 0.2601 | C32: 0.2787 | D32: 0.3089 | G32: DF: TAXA DE DESPESAS
G33: L: TAXA DE LUCRO
G34: I: TAXA DE INCIDÊNCIA DE IMPOSTOS (PIS, COFINS, ISS, CPRB)
A37: COMPOSIÇÃO DO BDI DIFERENCIADO
A38: CUSTO TOTAL DO SERVIÇO (R$)
A39: ITEM | B39: DISCRIMINAÇÃO | E39: VALOR | F39: TAXA (%) | G39: OBSERVAÇÃO | H39: SITUAÇÃO DO INTERVALO ADMISSÍVEL | I39: PARCELAS DO BDI (%)
I40: 1 QUARTIL | J40: MÉDIO | K40: 3 QUARTIL
A41: 1 | B41: AC – ADMINISTRAÇÃO CENTRAL | F41: 0.015 | H41: =IF(AND(F41>=I41,F41<=K41),"OK","DIFERE") -> OK | I41: 0.015 | J41: 0.0345 | K41: 0.0449
A42: 2 | B42: SG – SEGUROS + GARANTIA | F42: 0.003 | H42: =IF(AND(F42>=I42,F42<=K42),"OK","DIFERE") -> OK | I42: 0.003 | J42: 0.0048 | K42: 0.0082
A43: 3 | B43: R – RISCOS | F43: 0.0056 | H43: =IF(AND(F43>=I43,F43<=K43),"OK","DIFERE") -> OK | I43: 0.0056 | J43: 0.0085 | K43: 0.0089
A44: 4 | B44: DF – DESPESAS FINANCEIRAS | F44: 0.0085 | H44: =IF(AND(F44>=I44,F44<=K44),"OK","DIFERE") -> OK | I44: 0.0085 | J44: 0.0085 | K44: 0.0111
A45: 5 | B45: L – LUCRO BRUTO | F45: 0.0352 | H45: =IF(AND(F45>=I45,F45<=K45),"OK","DIFERE") -> OK | I45: 0.035 | J45: 0.0511 | K45: 0.0622
A46: 6 | B46: I – IMPOSTOS | F46: =SUM(F47:F50) -> 0.0365 | G46: FÓRMULA DO BDI DE ACORDO COM ACÓRDÃO 2.369/2011-TCU- PLENÁRIO
...
