Workbook

Sheet Planilha de Serviços
A1: PLANILHA ORÇAMENTÁRIA - COMPLEMENTAÇÃO DE OBRA
A2: PROJETO: UNIDADE BÁSICA DE SAÚDE - BANDEIRANTES PR
A3: ÁREA: 237,10m² | D3: Data: 21-05-2015 | H3: BDI = 30%
A5: Ítem | B5: Descrição | C5: ud. | D5: qd. | E5: Preço unit. | F5: Preço total | G5: R$ - ítem a/BDI | H5: R$-ítem c/ BDI
A6: 1 | B6: SERVIÇOS INICIAIS | C6: executado
A7: 2 | B7: INFRA-ESTRUTURA | C7: executado
A8: 3 | B8: SUPRA-ESTRUTURA | C8: executado
A9: 4 | B9: PAREDES E PAINEIS | I9: =SUM(H11:H32) -> 30602
A10: 4.1 | B10: Paredes
A11: 4.1.1 | B11: Paredes em tijolos cerâmicos furados | C11: m² | D11: 20 | E11: 60 | F11: =E11*D11 -> 1200
B12: [abrigo para lixo]
B13: soma sub-ítem | G13: =SUM(F11:F12) -> 1200 | H13: =G13*1.3 -> 1560
H14: =G14*1.3 -> 0
A15: 4.2 | B15: Esquadrias, vidros e ferragens | H15: =G15*1.3 -> 0
A16: 4.2.1 | B16: Portas de madeira | H16: =G16*1.3 -> 0
A17: 4.2.1.1 | B17: Pta.chap. Itaúba 1ª 70x210cm,cx 14cm, dobrç. | C17: ud | D17: 3 | E17: 320 | F17: =E17*D17 -> 960 | H17: =G17*1.3 -> 0
A18: 4.2.1.2 | B18: Pta.chap. Itaúba 1ª 80x210cm,cx 14cm, dobrç. | C18: ud | D18: 14 | E18: 460 | F18: =E18*D18 -> 6440 | H18: =G18*1.3 -> 0
A19: 4.2.1.3 | B19: Pta.chap. Itaúba 1ª 90x210cm,cx 14cm, dobrç. | C19: ud | D19: 2 | E19: 500 | F19: =E19*D19 -> 1000 | H19: =G19*1.3 -> 0
A20: 4.2.1.8 | B20: Fechadura para porta bhº - padrão médio | C20: ud | D20: 5 | E20: 100 | F20: =E20*D20 -> 500 | H20: =G20*1.3 -> 0
A21: 4.2.1.9 | B21: Fechadura externa padrão médio | C21: ud | D21: 14 | E21: 150 | F21: =E21*D21 -> 2100 | H21: =G21*1.3 -> 0
A22: 4.2.2 | B22: Portas de vidro temperado | F22: =E22*D22 -> 0 | H22: =G22*1.3 -> 0
A23: 4.2.2.1 | B23: Portas de vidro temperado de correr de 250x210 completa | C23: ud | D23: 1 | E23: 1500 | F23: =E23*D23 -> 1500 | H23: =G23*1.3 -> 0
A24: 4.2.2.2 | B24: Portas de vidro temperado de giro de 150x210 completa | C24: ud | D24: 2 | E24: 1000 | F24: =E24*D24 -> 2000 | H24: =G24*1.3 -> 0
A25: 4.2.3 | B25: Portas em chapa de aço | F25: =E25*D25 -> 0 | H25: =G25*1.3 -> 0
B26: Portas em chapa de aço de 60x120cm - lixo | C26: ud | D26: 2 | E26: 220 | F26: =E26*D26 -> 440 | H26: =G26*1.3 -> 0
A27: 4.2.4 | B27: Janelas | F27: =E27*D27 -> 0 | H27: =G27*1.3 -> 0
A28: 4.2.4.1 | B28: Janela de vidro temperado 6,0mm , pivotante, de 120x60cm - completa | C28: ud | D28: 5 | E28: 220 | F28: =E28*D28 -> 1100 | H28: =G28*1.3 -> 0
A29: 4.2.4.2 | B29: Janela de vidro temperado 6,0mm , pivotante, de 80x60cm - completa | C29: ud | D29: 3 | E29: 150 | F29: =E29*D29 -> 450 | H29: =G29*1.3 -> 0
A30: 4.2.4.3 | B30: Janela de vidro temperado 8,0mm , pivotante, de 100x120cm - completa | C30: ud | D30: 1 | E30: 350 | F30: =E30*D30 -> 350 | H30: =G30*1.3 -> 0
A31: 4.2.4.4 | B31: Janela de vidro temperado 8,0mm , de correr, de 150x120cm - completa | C31: ud | D31: 10 | E31: 550 | F31: =E31*D31 -> 5500 | H31: =G31*1.3 -> 0
B32: soma sub-ítem | G32: =SUM(F17:F31) -> 22340 | H32: =G32*1.3 -> 29042
H33: =G33*1.3 -> 0
A34: 5 | B34: COBERTURAS E PROTEÇÕES | C34: executado | H34: =G34*1.3 -> 0
H35: =G35*1.3 -> 0
A36: 6 | B36: REVESTIMENTOS | H36: =G36*1.3 -> 0 | I36: =SUM(H37:H48) -> 36829
A37: 6.1 | B37: Chapisco/Emboço | C37: m² | D37: 60 | E37: 25 | F37: =E37*D37 -> 1500 | H37: =G37*1.3 -> 0
B38: soma sub-ítem | G38: =F37 -> 1500 | H38: =G38*1.3 -> 1950
A39: 6.2 | B39: Pinturas | H39: =G39*1.3 -> 0
A40: 6.2.1 | B40: Massa PVA 2 demão em parede interna sobre rev.novo | C40: m² | D40: 560 | E40: 15 | F40: =E40*D40 -> 8400 | H40: =G40*1.3 -> 0
A41: 6.2.2 | B41: Pintura em parede interna - selador e tinta óleo lavável 1ª linha, mínimo 2 demãos - vacinação/injeção | C41: m² | D41: 50 | E41: 15 | F41: =E41*D41 -> 750 | H41: =G41*1.3 -> 0
...

Sheet CRONOGRAMA
A2: CRONOGRAMA
A3: OBRA: PRÉDIO PARA UNIDADE BÁSICA DE SAÚDE - COMPLEMENTAÇÃO
A4: VALOR DA COMPLEMENTAÇÃO: | C4: =C16 -> 215000
C5: VALOR DOS | D5: Serviços a executar - em (%)
A6: ITEM | B6: DESCRIÇÃO DOS SERVIÇOS | C6: SERVIÇOS (R$) | D6: 1º mês | E6: acum. | F6: 2º mês | G6: acum. | H6: 3º mês | I6: acum.
A7: 1 | B7: ='Planilha de Serviços'!B6 -> SERVIÇOS INICIAIS
A8: 2 | B8: ='Planilha de Serviços'!B7 -> INFRA-ESTRUTURA
A9: 3 | B9: ='Planilha de Serviços'!B8 -> SUPRA-ESTRUTURA
A10: 4 | B10: ='Planilha de Serviços'!B9 -> PAREDES E PAINEIS | C10: ='Planilha de Serviços'!I9 -> 30602 | D10: 1 | E10: =D10 -> 1 | G10: =F10+E10 -> 1 | I10: =H10+G10 -> 1
A11: 5 | B11: ='Planilha de Serviços'!B34 -> COBERTURAS E PROTEÇÕES
A12: 6 | B12: ='Planilha de Serviços'!B36 -> REVESTIMENTOS | C12: ='Planilha de Serviços'!I36 -> 36829 | D12: 0 | E12: =D12 -> 0 | F12: 1 | G12: =F12+E12 -> 1 | H12: 0 | I12: =H12+G12 -> 1
A13: 7 | B13: ='Planilha de Serviços'!B50 -> PAVIMENTAÇÕES | C13: ='Planilha de Serviços'!I50 -> 35542 | D13: 0 | E13: =D13 -> 0 | F13: 0.4 | G13: =F13+E13 -> 0.4 | H13: 0.6 | I13: =H13+G13 -> 1
A14: 8 | B14: ='Planilha de Serviços'!B63 -> INSTALAÇÕES E APARELHOS | C14: ='Planilha de Serviços'!I63 -> 64469.6 | D14: 0.65 | E14: =D14 -> 0.65 | F14: 0.35 | G14: =F14+E14 -> 1 | I14: =H14+G14 -> 1
A15: 9 | B15: ='Planilha de Serviços'!B158 -> COMPLEMANTAÇÃO DA OBRA | C15: ='Planilha de Serviços'!I158 -> 47557.399 | D15: 0 | E15: =D15 -> 0 | F15: 0 | G15: =F15+E15 -> 0 | H15: 1 | I15: =H15+G15 -> 1
B16: total | C16: =SUM(C10:C15) -> 215000 | D16: =D10*$C$10+D11*$C$11+D12*$C$12+D13*$C$13+D14*$C$14+D15*$C$15 -> 72507.24 | F16: =F10*$C$10+F11*$C$11+F12*$C$12+F13*$C$13+F14*$C$14+F15*$C$15 -> 73610.16 | H16: =H10*$C$10+H11*$C$11+H12*$C$12+H13*$C$13+H14*$C$14+H15*$C$15 -> 68882.599
B17: Total acumulado em R$ | D17: =D16 -> 72507.24 | F17: =F16+D17 -> 146117.4 | H17: =H16+F17 -> 215000
B18: Total acumulado em % | D18: =D17/C16 -> 0.33724298 | F18: =F17/C16 -> 0.67961582 | H18: =H17/C16 -> 1
H20: data: | I20: =TODAY() -> 42528
B21: Resp. Técnico:
B22: CREA/CAU PR:

Sheet Já executado
D2: Fotos - Fase atual (22 de maio de 2015)
