Workbook

Sheet Planilha de Serviços
A1: PLANILHA ORÇAMENTÁRIA - COMPLEMENTAÇÃO DE OBRA
A2: PROJETO: UNIDADE BÁSICA DE SAÚDE - BANDEIRANTES PR
A3: ÁREA: 237,10m² | D3: Data: 21-05-2015 | H3: BDI = 30%
A5: Ítem | B5: Descrição | C5: ud. | D5: qd. | E5: Preço unit. | F5: Preço total | G5: R$ - ítem a/BDI | H5: R$-ítem c/ BDI
A6: 1 | B6: SERVIÇOS INICIAIS | C6: executado
A7: 2 | B7: INFRA-ESTRUTURA | C7: executado
A8: 3 | B8: SUPRA-ESTRUTURA | C8: executado
A9: 4 | B9: PAREDES E PAINEIS | I9: =SUM(H11:H32) -> 30602
A10: 4.1 | B10: Paredes
A11: 4.1.1 | B11: Paredes em tijolos cerâmicos furados | C11: m² | D11: 20 | E11: 60 | F11: =E11*D11 -> 1200
B12: [abrigo para lixo]
B13: soma sub-ítem | G13: =SUM(F11:F12) -> 1200 | H13: =G13*1.3 -> 1560
H14: =G14*1.3 -> 0
A15: 4.2 | B15: Esquadrias, vidros e ferragens | H15: =G15*1.3 -> 0
A16: 4.2.1 | B16: Portas de madeira | H16: =G16*1.3 -> 0
A17: 4.2.1.1 | B17: Pta.chap. Itaúba 1ª 70x210cm,cx 14cm, dobrç. | C17: ud | D17: 3 | E17: 320 | F17: =E17*D17 -> 960 | H17: =G17*1.3 -> 0
A18: 4.2.1.2 | B18: Pta.chap. Itaúba 1ª 80x210cm,cx 14cm, dobrç. | C18: ud | D18: 14 | E18: 460 | F18: =E18*D18 -> 6440 | H18: =G18*1.3 -> 0
A19: 4.2.1.3 | B19: Pta.chap. Itaúba 1ª 90x210cm,cx 14cm, dobrç. | C19: ud | D19: 2 | E19: 500 | F19: =E19*D19 -> 1000 | H19: =G19*1.3 -> 0
A20: 4.2.1.8 | B20: Fechadura para porta bhº - padrão médio | C20: ud | D20: 5 | E20: 100 | F20: =E20*D20 -> 500 | H20: =G20*1.3 -> 0
A21: 4.2.1.9 | B21: Fechadura externa padrão médio | C21: ud | D21: 14 | E21: 150 | F21: =E21*D21 -> 2100 | H21: =G21*1.3 -> 0
A22: 4.2.2 | B22: Portas de vidro temperado | F22: =E22*D22 -> 0 | H22: =G22*1.3 -> 0
A23: 4.2.2.1 | B23: Portas de vidro temperado de correr de 250x210 completa | C23: ud | D23: 1 | E23: 1500 | F23: =E23*D23 -> 1500 | H23: =G23*1.3 -> 0
A24: 4.2.2.2 | B24: Portas de vidro temperado de giro de 150x210 completa | C24: ud | D24: 2 | E24: 1000 | F24: =E24*D24 -> 2000 | H24: =G24*1.3 -> 0
A25: 4.2.3 | B25: Portas em chapa de aço | F25: =E25*D25 -> 0 | H25: =G25*1.3 -> 0
B26: Portas em chapa de aço de 60x120cm - lixo | C26: ud | D26: 2 | E26: 220 | F26: =E26*D26 -> 440 | H26: =G26*1.3 -> 0
A27: 4.2.4 | B27: Janelas | F27: =E27*D27 -> 0 | H27: =G27*1.3 -> 0
A28: 4.2.4.1 | B28: Janela de vidro temperado 6,0mm , pivotante, de 120x60cm - completa | C28: ud | D28: 5 | E28: 220 | F28: =E28*D28 -> 1100 | H28: =G28*1.3 -> 0
A29: 4.2.4.2 | B29: Janela de vidro temperado 6,0mm , pivotante, de 80x60cm - completa | C29: ud | D29: 3 | E29: 150 | F29: =E29*D29 -> 450 | H29: =G29*1.3 -> 0
A30: 4.2.4.3 | B30: Janela de vidro temperado 8,0mm , pivotante, de 100x120cm - completa | C30: ud | D30: 1 | E30: 350 | F30: =E30*D30 -> 350 | H30: =G30*1.3 -> 0
A31: 4.2.4.4 | B31: Janela de vidro temperado 8,0mm , de correr, de 150x120cm - completa | C31: ud | D31: 10 | E31: 550 | F31: =E31*D31 -> 5500 | H31: =G31*1.3 -> 0
B32: soma sub-ítem | G32: =SUM(F17:F31) -> 22340 | H32: =G32*1.3 -> 29042
H33: =G33*1.3 -> 0
A34: 5 | B34: COBERTURAS E PROTEÇÕES | C34: executado | H34: =G34*1.3 -> 0
H35: =G35*1.3 -> 0
A36: 6 | B36: REVESTIMENTOS | H36: =G36*1.3 -> 0 | I36: =SUM(H37:H48) -> 36829
A37: 6.1 | B37: Chapisco/Emboço | C37: m² | D37: 60 | E37: 25 | F37: =E37*D37 -> 1500 | H37: =G37*1.3 -> 0
B38: soma sub-ítem | G38: =F37 -> 1500 | H38: =G38*1.3 -> 1950
A39: 6.2 | B39: Pinturas | H39: =G39*1.3 -> 0
A40: 6.2.1 | B40: Massa PVA 2 demão em parede interna sobre rev.novo | C40: m² | D40: 560 | E40: 15 | F40: =E40*D40 -> 8400 | H40: =G40*1.3 -> 0
A41: 6.2.2 | B41: Pintura em parede interna - selador e tinta óleo lavável 1ª linha, mínimo 2 demãos - vacinação/injeção | C41: m² | D41: 50 | E41: 15 | F41: =E41*D41 -> 750 | H41: =G41*1.3 -> 0
A42: 6.2.3 | B42: Pintura em parede interna - selador e latex acrílico 1ª linha, mínimo 2 demãos | C42: m² | D42: =D40 -> 560 | E42: 12 | F42: =E42*D42 -> 6720 | H42: =G42*1.3 -> 0
A43: 6.2.4 | B43: Massa PVA 2 demão em laje interna sobre rev.novo | C43: m² | D43: 220 | E43: 15 | F43: =E43*D43 -> 3300 | H43: =G43*1.3 -> 0
A44: 6.2.5 | B44: Pintura em tetos internos - selador e latex acrílico 1ª linha, mínimo 2 demãos | C44: m² | D44: 220 | E44: 12 | F44: =E44*D44 -> 2640 | H44: =G44*1.3 -> 0
A45: 6.2.6 | B45: Pintura em parede externa - selador e latex acrílico, sem emassamento | C45: m² | D45: 240 | E45: 12 | F45: =E45*D45 -> 2880 | H45: =G45*1.3 -> 0
A46: 6.2.7 | B46: Pintura em beiral | C46: m² | D46: 45 | E46: 12 | F46: =E46*D46 -> 540 | H46: =G46*1.3 -> 0
A47: 6.2.8 | B47: Pintura em esquadrias de madeira e metálica, em esmalte sinttico acetinado, incluso preparo da superfície | C47: m² | D47: 80 | E47: 20 | F47: =E47*D47 -> 1600 | H47: =G47*1.3 -> 0
B48: soma sub-ítem | G48: =SUM(F40:F47) -> 26830 | H48: =G48*1.3 -> 34879
H49: =G49*1.3 -> 0
A50: 7 | B50: PAVIMENTAÇÕES | H50: =G50*1.3 -> 0 | I50: =SUM(H51:H61) -> 35542
A51: 7.1 | B51: Pisos internos | H51: =G51*1.3 -> 0
A52: 7.1.1 | B52: Lastro de concreto simples e=5,0cm | C52: m² | D52: 215 | E52: 32 | F52: =E52*D52 -> 6880 | H52: =G52*1.3 -> 0
A53: 7.1.2 | B53: Regualrização com argamassa cimento/areia traço 1:4 e=2,5cm | C53: m² | D53: =D52 -> 215 | E53: 10 | F53: =E53*D53 -> 2150 | H53: =G53*1.3 -> 0
A54: 7.1.3 | B54: Piso cerâmico PEI≥4, Eliane, assent. Com cimento colante e rejunte | C54: m² | D54: =D52 -> 215 | E54: 50 | F54: =E54*D54 -> 10750 | H54: =G54*1.3 -> 0
A55: 7.1.4 | B55: Rodapés cerâmicos-embutido na parede | C55: m | D55: 130 | E55: 15 | F55: =E55*D55 -> 1950 | H55: =G55*1.3 -> 0
A56: 7.1.5 | B56: Soleiras em granito cinza | C56: m | D56: 18.5 | E56: 60 | F56: =E56*D56 -> 1110 | H56: =G56*1.3 -> 0
B57: soma sub-ítem | G57: =SUM(F51:F56) -> 22840 | H57: =G57*1.3 -> 29692
H58: =G58*1.3 -> 0
A59: 7.2 | B59: Pavimentação externa | H59: =G59*1.3 -> 0
A60: 7.2.1 | B60: Pav. Em PAVER intertravado de concreto simples | C60: m² | D60: 90 | E60: 50 | F60: =E60*D60 -> 4500 | H60: =G60*1.3 -> 0
B61: soma sub-ítem | G61: =F60 -> 4500 | H61: =G61*1.3 -> 5850
H62: =G62*1.3 -> 0
A63: 8 | B63: INSTALAÇÕES E APARELHOS | H63: =G63*1.3 -> 0 | I63: =SUM(H64:H156) -> 64469.6
A64: 8.1 | B64: Instalação hidráulica e prevenção de incêndios | H64: =G64*1.3 -> 0
A65: 8.1.1 | B65: Água potável | H65: =G65*1.3 -> 0
A66: 8.1.1.1 | B66: Cx. d'água e alimentação | H66: =G66*1.3 -> 0
A67: 8.1.1.2 | B67: Tubo PVC soldável 25 mm, incluso conexões, para ligação a rede existente (Setor de engenharia), em rede externa enterrada, incluso escavação e reaterro | C67: m | D67: 250 | E67: 10 | F67: =E67*D67 -> 2500 | H67: =G67*1.3 -> 0
A68: 8.1.1.3 | B68: Tubo PVC soldável 25 mm, incluso conexões, embutida em piso e parede (ligação e interligação das caixas) | C68: m | D68: 15.5 | E68: 15 | F68: =E68*D68 -> 232.5 | H68: =G68*1.3 -> 0
A69: 8.1.1.4 | B69: Caixa d'água em PVC, CAP. 1.000 l, completa | C69: pç | D69: 2 | E69: 650 | F69: =E69*D69 -> 1300 | H69: =G69*1.3 -> 0
A70: 8.1.1.5 | B70: Abrigo para registros em alvenaria, 30x30x40cm, tampa de concreto, fundo de brita | C70: ud | D70: 1 | E70: 80 | F70: =E70*D70 -> 80 | H70: =G70*1.3 -> 0
A71: 8.1.1.6 | B71: Registro de gaveta bruto, Ø20mm (3/4") | C71: ud | D71: 2 | E71: 40 | F71: =E71*D71 -> 80 | H71: =G71*1.3 -> 0
A72: 8.1.1.7 | B72: Tubo PVC rig., soldável, marrom, Ø32mm (1") - extravasor | C72: m | D72: 5.5 | E72: 10 | F72: =E72*D72 -> 55 | H72: =G72*1.3 -> 0
A73: 8.1.1.8 | B73: Torneira bóia 3/4" | C73: ud | D73: 1 | E73: 45 | F73: =E73*D73 -> 45 | H73: =G73*1.3 -> 0
A74: 8.1.1.9 | F74: =E74*D74 -> 0 | H74: =G74*1.3 -> 0
A75: 8.1.1.10 | B75: Rede de distribuição | F75: =E75*D75 -> 0 | H75: =G75*1.3 -> 0
A76: 8.1.1.11 | B76: Tubo PVC rig., soldável, marrom, Ø32mm -incluso conexões | C76: m | D76: 10 | E76: 25 | F76: =E76*D76 -> 250 | H76: =G76*1.3 -> 0
A77: 8.1.1.12 | B77: Tubo PVC rig., soldável, marrom, Ø25mm -incluso conexões | C77: m | D77: 90 | E77: 20 | F77: =E77*D77 -> 1800 | H77: =G77*1.3 -> 0
A78: 8.1.1.13 | B78: Metais-Registros e Válvulas para água potável | F78: =E78*D78 -> 0 | H78: =G78*1.3 -> 0
A79: 8.1.1.14 | B79: Registro de gaveta bruto 1" incluso conexões | C79: pç | D79: 2 | E79: 60 | F79: =E79*D79 -> 120 | H79: =G79*1.3 -> 0
A80: 8.1.1.15 | B80: Registro de gavetac/ canopla 3/4", linha C-50 incluso conexões | C80: pç | D80: 10 | E80: 70 | F80: =E80*D80 -> 700 | H80: =G80*1.3 -> 0
B81: soma sub-ítem | G81: =SUM(F65:F80) -> 7162.5 | H81: =G81*1.3 -> 9311.25
A82: 8.1.2 | B82: Esgoto sanitário | F82: =E82*D82 -> 0 | H82: =G82*1.3 -> 0
A83: 8.1.2.1 | B83: Tubo PVC esgoto 100mm- incluso conexões, escavações e reaterro | C83: m | D83: 60 | E83: 30 | F83: =E83*D83 -> 1800 | H83: =G83*1.3 -> 0
A84: 8.1.2.2 | B84: Tubo PVC esgoto 50mm | C84: m | D84: 12 | E84: 35 | F84: =E84*D84 -> 420 | H84: =G84*1.3 -> 0
A85: 8.1.2.3 | B85: Tubo PVC esgoto 40mm | C85: m | D85: 18 | E85: 30 | F85: =E85*D85 -> 540 | H85: =G85*1.3 -> 0
A86: 8.1.2.4 | B86: Caixa sifonada 150x150x50 c/ grelha inox com sistema abre e fecha | C86: pç | D86: 6 | E86: 50 | F86: =E86*D86 -> 300 | H86: =G86*1.3 -> 0
A87: 8.1.2.5 | B87: Cx. De gordura alv. 50x50x50cm, c/ fundo e tampa em CONCRETO ARMADO | C87: pç | D87: 1 | E87: 150 | F87: =E87*D87 -> 150 | H87: =G87*1.3 -> 0
A88: 8.1.2.6 | B88: Cx. De gordura alv. 30x30x50cm, c/ fundo concreto simples e tampa em concreto armado | C88: pç | D88: 6 | E88: 80 | F88: =E88*D88 -> 480 | H88: =G88*1.3 -> 0
B89: soma sub-ítem | G89: =SUM(F83:F88) -> 3690 | H89: =G89*1.3 -> 4797
H90: =G90*1.3 -> 0
A91: 8.1.3 | B91: Louças sanitárias, bandcadas, equipam. e acessórios | H91: =G91*1.3 -> 0
A92: 8.1.3.1 | B92: Bacia sifon. Branca c/ cx acoplada, completa | C92: cj. | D92: 5 | E92: 300 | F92: =E92*D92 -> 1500 | H92: =G92*1.3 -> 0
A93: 8.1.3.2 | B93: Lavat. Louça branca s/ coluna, acessórios, tipo B | C93: cj. | D93: 2 | E93: 350 | F93: =E93*D93 -> 700 | H93: =G93*1.3 -> 0
A94: 8.1.3.3 | B94: Lavat. Louça branca s/ coluna, acessórios, tipo A | C94: cj. | D94: 8 | E94: 300 | F94: =E94*D94 -> 2400 | H94: =G94*1.3 -> 0
A95: 8.1.3.4 | B95: Bancadas e cubas | F95: =E95*D95 -> 0 | H95: =G95*1.3 -> 0
A96: 8.1.3.5 | B96: Tampo granito cinza andorinha e=2cm polido, l=60cm | C96: m | D96: 7.45 | E96: 150 | F96: =E96*D96 -> 1117.5 | H96: =G96*1.3 -> 0
A97: 8.1.3.6 | B97: Rodapia granito cinza andorinha e=2cm, polido h=5cm | C97: m | D97: 21.2 | E97: 40 | F97: =E97*D97 -> 848 | H97: =G97*1.3 -> 0
A98: 8.1.3.7 | B98: Tampo granito cinza andorinha e=2cm polido l= 40cm c/borda de 4cm - atendimento | C98: m | D98: 2.8 | E98: 150 | F98: =E98*D98 -> 420 | H98: =G98*1.3 -> 0
A99: 8.1.3.8 | B99: Cuba inox sp p/ tampo de granito + furofix/valv/sifão | C99: cj | D99: 3 | E99: 250 | F99: =E99*D99 -> 750 | H99: =G99*1.3 -> 0
A100: 8.1.3.9 | B100: Armário em laminado melaminico branco 145x55x80cm, c/ gaveteiro de 35cm - copa | C100: ud | D100: 1 | E100: 800 | F100: =E100*D100 -> 800 | H100: =G100*1.3 -> 0
A101: 8.1.3.10 | B101: Armário em laminado melaminico branco 270x55x80cm, c/ gaveteiro de 35cm - vacinação | C101: ud | D101: 1 | E101: 1150 | F101: =E101*D101 -> 1150 | H101: =G101*1.3 -> 0
...

Sheet CRONOGRAMA
A2: CRONOGRAMA
A3: OBRA: PRÉDIO PARA UNIDADE BÁSICA DE SAÚDE - COMPLEMENTAÇÃO
A4: VALOR DA COMPLEMENTAÇÃO: | C4: =C16 -> 215000
C5: VALOR DOS | D5: Serviços a executar - em (%)
A6: ITEM | B6: DESCRIÇÃO DOS SERVIÇOS | C6: SERVIÇOS (R$) | D6: 1º mês | E6: acum. | F6: 2º mês | G6: acum. | H6: 3º mês | I6: acum.
A7: 1 | B7: ='Planilha de Serviços'!B6 -> SERVIÇOS INICIAIS
A8: 2 | B8: ='Planilha de Serviços'!B7 -> INFRA-ESTRUTURA
A9: 3 | B9: ='Planilha de Serviços'!B8 -> SUPRA-ESTRUTURA
A10: 4 | B10: ='Planilha de Serviços'!B9 -> PAREDES E PAINEIS | C10: ='Planilha de Serviços'!I9 -> 30602 | D10: 1 | E10: =D10 -> 1 | G10: =F10+E10 -> 1 | I10: =H10+G10 -> 1
A11: 5 | B11: ='Planilha de Serviços'!B34 -> COBERTURAS E PROTEÇÕES
A12: 6 | B12: ='Planilha de Serviços'!B36 -> REVESTIMENTOS | C12: ='Planilha de Serviços'!I36 -> 36829 | D12: 0 | E12: =D12 -> 0 | F12: 1 | G12: =F12+E12 -> 1 | H12: 0 | I12: =H12+G12 -> 1
A13: 7 | B13: ='Planilha de Serviços'!B50 -> PAVIMENTAÇÕES | C13: ='Planilha de Serviços'!I50 -> 35542 | D13: 0 | E13: =D13 -> 0 | F13: 0.4 | G13: =F13+E13 -> 0.4 | H13: 0.6 | I13: =H13+G13 -> 1
A14: 8 | B14: ='Planilha de Serviços'!B63 -> INSTALAÇÕES E APARELHOS | C14: ='Planilha de Serviços'!I63 -> 64469.6 | D14: 0.65 | E14: =D14 -> 0.65 | F14: 0.35 | G14: =F14+E14 -> 1 | I14: =H14+G14 -> 1
A15: 9 | B15: ='Planilha de Serviços'!B158 -> COMPLEMANTAÇÃO DA OBRA | C15: ='Planilha de Serviços'!I158 -> 47557.399 | D15: 0 | E15: =D15 -> 0 | F15: 0 | G15: =F15+E15 -> 0 | H15: 1 | I15: =H15+G15 -> 1
B16: total | C16: =SUM(C10:C15) -> 215000 | D16: =D10*$C$10+D11*$C$11+D12*$C$12+D13*$C$13+D14*$C$14+D15*$C$15 -> 72507.24 | F16: =F10*$C$10+F11*$C$11+F12*$C$12+F13*$C$13+F14*$C$14+F15*$C$15 -> 73610.16 | H16: =H10*$C$10+H11*$C$11+H12*$C$12+H13*$C$13+H14*$C$14+H15*$C$15 -> 68882.599
B17: Total acumulado em R$ | D17: =D16 -> 72507.24 | F17: =F16+D17 -> 146117.4 | H17: =H16+F17 -> 215000
B18: Total acumulado em % | D18: =D17/C16 -> 0.33724298 | F18: =F17/C16 -> 0.67961582 | H18: =H17/C16 -> 1
H20: data: | I20: =TODAY() -> 42528
B21: Resp. Técnico:
B22: CREA/CAU PR:

Sheet Já executado
D2: Fotos - Fase atual (22 de maio de 2015)
