Workbook

Sheet ORÇAMENTO
B5: CAMPUS: | C5: CLM
B7: OBRA: | C7: APRISCO
B8: LOCAL: | C8: VETERINÁRIA
B9: TIPO: | C9: CONSTRUÇÃO_BARRACÃO
B10: DIMENSÃO: | C10: 8X20m = 160,0m²
B11: VALOR MÁX.: | C11: =K14 -> 49999.997
I14: R$ TOTAL= | K14: =SUM(K19:K50) -> 49999.997
I15: BDI = | J15: 0.3
F16: R$ -unit. | G16: R$ -unit. | H16: R$ -unit | I16: R$ -total | J16: R$ -total
A17: ítem | B17: COD. | D17: qde. | E17: unid. | F17: materiais | G17: mão de obra | H17: MAT+MO | I17: ítem | J17: ítem c/ BDI | K17: SUBTOTAL
A19: 1 | C19: PRELIMINARES | K19: =SUM(J20:J21) -> 300
A20: 1.1 | C20: Limpeza e regularização do terreno e barracão de obra | J20: 300
A22: 2 | C22: BARRACÃO PRE-MOLDADO COBERTO | K22: =SUM(J23) -> 23400
A23: 2.1 | B23: COMP.1 | C23: Barracão (9x20)m, pilares de concreto armado, estrutura da cobertura -tesouras e terças - em perfis "U" e "L" metálicos, pintados, telhado e fechamento dos eitões em telha de metal galvalume 0,4mm, fornecimento e montagem | D23: 180 | E23: m² | F23: 75 | G23: 25 | H23: =F23+G23 -> 100 | I23: =H23*D23 -> 18000 | J23: =I23*(1+$J$15) -> 23400
A25: 3 | C25: ALVENARIA DE TIJOLOS E LAJE DO TETO | I25: =H25*D25 -> 0 | K25: =SUM(J27:J34) -> 12780.681
A26: 3.1 | B26: COMP.2 | C26: Parede em alvenaria, tijolo furado assentado a chato (e=14cm) | I26: =H26*D26 -> 0
C27: PAREDE DO ESCRITÓRIO (h=2,70m) - tijolo aparente | D27: 33.6 | E27: m² | F27: =F56 -> 18.074 | G27: =G56 -> 44.4 | H27: =F27+G27 -> 62.474 | I27: =H27*D27 -> 2099.1264 | J27: =I27*(1+$J$15) -> 2728.8643
C28: PAREDE DO DEPÓSITO (h=2,70m) - tijolo aparente | D28: 33.6 | E28: m² | F28: =F27 -> 18.074 | G28: =G27 -> 44.4 | H28: =H27 -> 62.474 | I28: =I27 -> 2099.1264 | J28: =I28*(1+$J$15) -> 2728.8643
A29: 3.2 | B29: COMP.3 | C29: Laje teto em concreto pré moldado, chapiscado e emboçado
C30: LAJE TETO DO ESCRITÓRIO (chapiscado e emboçado) | D30: 9 | E30: m² | F30: =F70 -> 72.86 | G30: =G70 -> 31.84 | H30: =F30+G30 -> 104.7 | I30: =H30*D30 -> 942.3 | J30: =I30*(1+$J$15) -> 1224.99
C31: LAJE TETO DO DEPÓSITO (chapiscado e emboçado) | D31: 9 | E31: m² | F31: =F30 -> 72.86 | G31: =G30 -> 31.84 | H31: =F31+G31 -> 104.7 | I31: =H31*D31 -> 942.3 | J31: =I31*(1+$J$15) -> 1224.99
A32: 3.4 | B32: COMP.2 | C32: Parede em alvenaria, tijolo furado assentado a chato (e=14cm) | I32: =H32*D32 -> 0 | J32: =I32*(1+$J$15) -> 0
C33: PAREDE DO APRISCO (h=1,5m) - tijolo aparente | D33: =40*1.5 -> 60 | E33: m² | F33: =F27 -> 18.074 | G33: =G27 -> 44.4 | H33: =H27 -> 62.474 | I33: =H33*D33 -> 3748.44 | J33: =I33*(1+$J$15) -> 4872.972
A35: 4 | C35: ESQUADRIAS METÁLICAS | I35: =H35*D35 -> 0 | K35: =SUM(J36:J39) -> 6133.5872
A36: 4.1 | C36: PORTÃO DE FERRO, DE ABRIR, (3,0x2,0)m, fechamento em tela artística | D36: 2 | E36: un | F36: 700 | G36: 483 | H36: =F36+G36 -> 1183 | I36: =H36*D36 -> 2366 | J36: =I36*(1+$J$15) -> 3075.8
A37: 4.2 | C37: PORTA DE FERRO, (80X210)cm, fechamento em lambril metálico, com guarnições | D37: 2 | E37: un | F37: 300 | G37: 100 | H37: =F37+G37 -> 400 | I37: =H37*D37 -> 800 | J37: =I37*(1+$J$15) -> 1040
A38: 4.3 | C38: PORTA DE FERRO, (70X210)cm, fechamento em lambril metálico, com guarnições | D38: 1 | E38: un | F38: 200 | G38: 80 | H38: =F38+G38 -> 280 | I38: =H38*D38 -> 280 | J38: =I38*(1+$J$15) -> 364
A39: 4.4 | B39: 94559 | C39: JANELA DE AÇO BASCULANTE, FIXAÇÃO COM ARGAMASSA, COM VIDROS, PADRONIZADA. | D39: 1.36 | E39: m² | F39: 839 | G39: 96.4 | H39: =F39+G39 -> 935.4 | I39: =H39*D39 -> 1272.144 | J39: =I39*(1+$J$15) -> 1653.7872
A41: 5 | C41: PISO CONCRETADO - corredor central (3,0X20,0)m + Escritório (3,0x3,0)m + Depósito (3,0x3,0)m = 78 m² >>>[x5cm] = 3,9 m³ | K41: =SUM(J42) -> 2545.14
A42: 5.1 | B42: 94990 | C42: EXECUÇÃO DE PASSEIO (CALÇADA) OU PISO DE CONCRETO COM CONCRETO MOLDADO IN LOCO, ESPESSURA 5CM, FEITO EM OBRA, ACABAMENTO CONVENCIONAL, NÃO ARMADO. AF_07/2016 | D42: 3.9 | E42: m³ | F42: 363.5 | G42: 138.5 | H42: =F42+G42 -> 502 | I42: =H42*D42 -> 1957.8 | J42: =I42*(1+$J$15) -> 2545.14
A43: 6 | C43: ÁGUA FRIA, PEÇAS SANITÁRIAS E ESGOTO, TORNEIRAS | J43: =I43*(1+$J$15) -> 0 | K43: =SUM(J44:J51) -> 4840.589
A44: 6.1 | B44: 95463 | C44: FOSSA SÉPTICA EM ALVENARIA DE TIJOLO CERÂMICO MACIÇO, DIMENSÕES EXTERNAS DE 1,00X1,00X1,40 M, VOLUME DE 1.400 LITROS, COM TAMPA DE CONCRETO ARMADO COM ESPESSURA DE 8 CM, INSTALADO A 5 M AFASTADO DO WC. | D44: 1 | E44: un | F44: 250 | G44: 146 | H44: =F44+G44 -> 396 | I44: =H44*D44 -> 396 | J44: =I44*(1+$J$15) -> 514.8
A45: 6.2 | B45: 73658 | C45: LIGAÇÃO DOMICILIAR DE ESGOTO DN 100MM, DA CASA ATÉ A CAIXA, COMPOSTO POR 10,0M TUBO DE PVC ESGOTO PREDIAL DN 100MM E CAIXA DE ALVENARIA COM TAMPA DE CONCRETO - | D45: 1 | E45: un | F45: 150 | G45: 120 | H45: =F45+G45 -> 270 | I45: =H45*D45 -> 270 | J45: =I45*(1+$J$15) -> 351
A46: 6.3 | B46: 86931 | C46: VASO SANITÁRIO SIFONADO COM CAIXA ACOPLADA LOUÇA BRANCA, INCLUSO ENGATE FLEXÍVEL EM PLÁSTICO BRANCO, 1/2 X 40CM - FORNECIMENTO E INSTALAÇÃO. AF_12/2013 | D46: 1 | E46: un | F46: 322.9 | G46: 19.4 | H46: =F46+G46 -> 342.3 | I46: =H46*D46 -> 342.3 | J46: =I46*(1+$J$15) -> 444.99
A47: 6.4 | B47: 86939 | C47: LAVATÓRIO LOUÇA BRANCA COM COLUNA, *44 X 35,5* CM, PADRÃO POPULAR, INCLUSO SIFÃO FLEXÍVEL EM PVC, VÁLVULA E ENGATE FLEXÍVEL 30CM EM PLÁSTICO E COM TORNEIRA CROMADA PADRÃO POPULAR - FORNECIMENTO E INSTALAÇÃO. AF_12/2013 | D47: 1 | E47: un | F47: 205.6 | G47: 27.04 | H47: =F47+G47 -> 232.64 | I47: =H47*D47 -> 232.64 | J47: =I47*(1+$J$15) -> 302.432
A48: 6.5 | C48: PONTO DE CONSUMO TERMINAL DE ÁGUA FRIA (SUBRAMAL) COM TUBULAÇÃO DE PVC, DN 25 MM, INSTALADO EM RAMAL DE ÁGUA, INCLUSOS FIXAÇÃO EM ALVENARIA. AF_12/2014 [1 PARA VASO, 1 PARA LAVAT., 1 PARA JARDIM, 2 PARA BEBEDOUROS] | D48: 5 | E48: un | F48: 20 | G48: 10 | H48: =F48+G48 -> 30 | I48: =H48*D48 -> 150 | J48: =I48*(1+$J$15) -> 195
A49: 6.6 | B49: 91785 | C49: (COMPOSIÇÃO REPRESENTATIVA) DO SERVIÇO DE INSTALAÇÃO DE TUBOS DE PVC, SOLDÁVEL, ÁGUA FRIA, DN 25 MM (INSTALADO EM RAMAL, SUB-RAMAL, RAMAL DE DISTRIBUIÇÃO OU PRUMADA), INCLUSIVE CONEXÕES, CORTES E FIXAÇÕES, PARA PRÉDIOS. AF_10/2015 | D49: 50 | E49: m | F49: 14.9 | G49: 18.48 | H49: =F49+G49 -> 33.38 | I49: =H49*D49 -> 1669 | J49: =I49*(1+$J$15) -> 2169.7
A50: 6.7 | B50: 89972 | C50: KIT DE REGISTRO DE GAVETA BRUTO DE LATÃO ¾", INCLUSIVE CONEXÕES, ROSCÁVEL, INSTALADO EM RAMAL DE ÁGUA FRIA - FORNECIMENTO E INSTALAÇÃO. AF_12/2014 [1 PARA ENTRADA GERAL + 1 PARA WC + 2 PARA BEBEDOUROS] | D50: 4 | E50: un | F50: 26.27 | G50: 10.64 | H50: =F50+G50 -> 36.91 | I50: =H50*D50 -> 147.64 | J50: =I50*(1+$J$15) -> 191.932
C51: KIT TORNEIRA de PVC 1/2" FORNECIMENTO E INSTALAÇÃO [ 16 PARA BEBEDOUROS + 1 PARA JARDIM] | D51: 17 | E51: un | F51: 20 | G51: 10.35 | H51: =F51+G51 -> 30.35 | I51: =H51*D51 -> 515.95 | J51: =I51*(1+$J$15) -> 670.735
H53: total com BDI = | J53: =SUM(J20:J51) -> 49999.997
B55: COMPOSIÇÕES
B56: 89168 | C56: COMP. 1 - PAREDE DE ALVENARIA | D56: =D64 -> 1 | E56: =E64 -> m² | F56: =F64 -> 18.074 | G56: =G64 -> 44.4 | H56: =H64 -> 62.474 | I56: =I64 -> 0 | J56: =J64 -> 0
B57: 87511 | C57: ALVENARIA DE VEDAÇÃO DE BLOCOS CERÂMICOS FURADOS NA HORIZONTAL DE 9X19X19CM CERÂMICA DE 14X9X19CM (ESPESSURA 14CM, BLOCO DEITADO)
C58: TIJOLO 6 FUROS | D58: 45 | E58: un. | F58: =310/1000 -> 0.31
C59: CIMENTO | D59: 2.6 | E59: kg | F59: =22/50 -> 0.44
C60: CAL | D60: 3.6 | E60: kg | F60: =8/20 -> 0.4
C61: AREIA | D61: 0.022 | E61: m³ | F61: 70
C62: TOTAL MATERIAIS = | F62: =F58*D58+F59*D59+F60*D60+F61*D61 -> 18.074
C63: MÃO DE OBRA = | G63: 44.4
C64: TOTAIS | D64: 1 | E64: m² | F64: =F62 -> 18.074 | G64: =G63 -> 44.4 | H64: =G64+F64 -> 62.474
C66: COMP.2 - LAJE TETO COM ACABAMENTO | D66: 1 | E66: m² | F66: =F70 -> 72.86 | G66: =G70 -> 31.84 | H66: =H70 -> 104.7
B67: 87879 | C67: LAJE PRE-MOLD BETA 12 P/3,5KN/M2 VAO 4,1M INCL VIGOTAS TIJOLOS ARMADU-RA NEGATIVA CAPEAMENTO 3CM CONCRETO 15MPA ESCORAMENTO MATERIAIS E MAO DE OBRA. | D67: 1 | E67: m² | F67: 56.94 | G67: 19.91 | H67: =F67+G67 -> 76.85 | I67: =H67*D67 -> 76.85 | J67: =I67*(1+$J$15) -> 99.905
B68: 87903 | C68: CHAPISCO APLICADO EM ALVENARIAS E ESTRUTURAS DE CONCRETO INTERNAS, COM COLHER DE PEDREIRO. ARGAMASSA TRAÇO 1:3 COM PREPARO EM BETONEIRA 400L. AF_06/2014 | D68: 1 | E68: m² | F68: 3.28 | G68: 0.7 | H68: =F68+G68 -> 3.98 | I68: =H68*D68 -> 3.98 | J68: =I68*(1+$J$15) -> 5.174
B69: 89173 | C69: (COMPOSIÇÃO REPRESENTATIVA) DO SERVIÇO DE EMBOÇO/MASSA ÚNICA, APLICADO MANUALMENTE, TRAÇO 1:2:8, EM BETONEIRA DE 400L, PAREDES INTERNAS, COM EXECUÇÃO DE TALISCAS, EDIFICAÇÃO HABITACIONAL UNIFAMILIAR (CASAS) E EDIFICAÇÃO PÚBLICA PADRÃO. | D69: 1 | E69: m² | F69: 12.64 | G69: 11.23 | H69: =F69+G69 -> 23.87 | I69: =H69*D69 -> 23.87 | J69: =I69*(1+$J$15) -> 31.031
C70: TOTAIS | D70: 1 | E70: m² | F70: =SUM(F67:F69) -> 72.86 | G70: =SUM(G67:G69) -> 31.84 | H70: =SUM(H67:H69) -> 104.7

Sheet CRONOGRAMA FISICO FINANCEIRO
B1: Universidade Estadual do Norte do Paraná - UENP
B2: Decreto Estadual n.º3909, Publicado no Diario Oficial do Estado do Paraná em 01/12/08
B3: CLM - Campus Bandeirantes PR
A5: CRONOGRAMA FÍSICO-FINANCEIRO
A6: OBRA | B6: =ORÇAMENTO!C7 -> APRISCO | D6: DATA: | G6: =TODAY() -> 42965
A7: LOCAL | B7: =ORÇAMENTO!C8 -> VETERINÁRIA | D7: VALOR DA OBRA: | G7: =ORÇAMENTO!K14 -> 49999.997
A8: CAMPUS: | B8: =ORÇAMENTO!C5 -> CLM
A9: ITEM | B9: DESCRIÇÃO DOS SERVIÇOS | C9: VALOR DOS SERVIÇOS | D9: SERVIÇOS A EXECUTAR
D10: 1.º MÊS | F10: 2.º MÊS
A11: 1 | B11: =ORÇAMENTO!C19 -> PRELIMINARES | C11: =ORÇAMENTO!K19 -> 300 | D11: 1 | E11: =D11*C11 -> 300 | G11: =F11*C11 -> 0
A12: 2 | B12: =ORÇAMENTO!C22 -> BARRACÃO PRE-MOLDADO COBERTO | C12: =ORÇAMENTO!K22 -> 23400 | D12: 1 | E12: =D12*C12 -> 23400 | G12: =F12*C12 -> 0
A13: 3 | B13: =ORÇAMENTO!C25 -> ALVENARIA DE TIJOLOS E LAJE DO TETO | C13: =ORÇAMENTO!K25 -> 12780.681 | D13: 1 | E13: =D13*C13 -> 12780.681 | G13: =F13*C13 -> 0
A14: 4 | B14: =ORÇAMENTO!C35 -> ESQUADRIAS METÁLICAS | C14: =ORÇAMENTO!K35 -> 6133.5872 | E14: =D14*C14 -> 0 | F14: 1 | G14: =F14*C14 -> 6133.5872
A15: 5 | B15: =ORÇAMENTO!C41 -> PISO CONCRETADO - corredor central (3,0X20,0)m + Escritório (3,0x3,0)m + Depósito (3,0x3,0)m = 78 m² >>>[x5cm] = 3,9 m³ | C15: =ORÇAMENTO!K41 -> 2545.14 | E15: =D15*C15 -> 0 | F15: 1 | G15: =F15*C15 -> 2545.14
A16: 6 | B16: =ORÇAMENTO!C43 -> ÁGUA FRIA, PEÇAS SANITÁRIAS E ESGOTO, TORNEIRAS | C16: =ORÇAMENTO!K43 -> 4840.589 | E16: =D16*C16 -> 0 | F16: 1 | G16: =F16*C16 -> 4840.589
E17: =D17*C17 -> 0 | G17: =F17*C17 -> 0
E18: =D18*C18 -> 0 | G18: =F18*C18 -> 0
G19: =F19*C19 -> 0
G20: =F20*C20 -> 0
B21: TOTAL SIMPLES EM R$ | C21: =SUM(C11:C19) -> 49999.997 | E21: =SUM(E11:E20) -> 36480.681 | G21: =SUM(G11:G20) -> 13519.316 | I21: =SUM(I18:I18) -> 0
B22: TOTAL ACUMULADO EM % | D22: =E21/C21 -> 0.72961366 | F22: =(G21+E21)/C21 -> 1
B23: TOTAL ACUMULADO EM R$ | E23: =E21 -> 36480.681 | G23: =G21+E21 -> 49999.997 | H23: =F23+H21 -> 0
B25: Valor Total = | C25: =C21 -> 49999.997
B26: Prazo de execução = | C26: 2 meses

Sheet Plan3
